BEGIN:VCALENDAR
VERSION:2.0
PRODID:-//The European Business Review - ECPv6.13.0//NONSGML v1.0//EN
CALSCALE:GREGORIAN
METHOD:PUBLISH
X-ORIGINAL-URL:https://www.europeanbusinessreview.com
X-WR-CALDESC:Events for The European Business Review
REFRESH-INTERVAL;VALUE=DURATION:PT1H
X-Robots-Tag:noindex
X-PUBLISHED-TTL:PT1H
BEGIN:VTIMEZONE
TZID:UTC
BEGIN:STANDARD
TZOFFSETFROM:+0000
TZOFFSETTO:+0000
TZNAME:UTC
DTSTART:20250101T000000
END:STANDARD
END:VTIMEZONE
BEGIN:VEVENT
DTSTART;VALUE=DATE:20251103
DTEND;VALUE=DATE:20251104
DTSTAMP:20260425T183503
CREATED:20250402T130453Z
LAST-MODIFIED:20250523T021546Z
UID:10000511-1762128000-1762214399@www.europeanbusinessreview.com
SUMMARY:Responsible Leadership in a Complex World – Imperial Business School
DESCRIPTION:Duration: 5 days (on-campus)\nProgramme dates: 3 – 7 November 2025\nVenue: Imperial College London\, South Kensington Campus\, London\, SW7 2AZ\, United Kingdom\nContact: José Rosario / jose.rosario@imperial.ac.uk\nContact number: 020 7594 3772\nRead more here: https://www.imperial.ac.uk/business-school/executive-education/leadership/responsible-leadership-in-a-complex-world/\n\nIn today’s fast-changing business landscape\, leaders face unprecedented challenges driven by AI transformation\, climate change\, and the demand for high-performing teams. The Responsible Leadership in a Complex World programme will empower you with the essential skills to navigate these complexities and make informed\, intelligent decisions. \nYou will be challenged to analyse real-world cases\, exploring the distinction between what is ‘right’ and what is most advantageous for an organisation. \nGo to top
URL:https://www.europeanbusinessreview.com/event/responsible-leadership-in-a-complex-world-imperial-business-school/
LOCATION:Imperial College London\, South Kensington Campus\, London\, SW7 2AZ\, United Kingdom
CATEGORIES:Upcoming EMBA and Executive Education Programmes
ATTACH;FMTTYPE=image/jpeg:https://www.europeanbusinessreview.com/wp-content/uploads/2024/10/Executive-Education-UPCOMING-COURSES.jpg
END:VEVENT
BEGIN:VEVENT
DTSTART;VALUE=DATE:20250630
DTEND;VALUE=DATE:20250701
DTSTAMP:20260425T183503
CREATED:20250217T112832Z
LAST-MODIFIED:20250523T022049Z
UID:10000480-1751241600-1751327999@www.europeanbusinessreview.com
SUMMARY:Executing Sustainability Strategies - Imperial Business School
DESCRIPTION:Duration: 5 days (on-campus)\nProgramme dates: 30 June – 4 July 2025\nVenue: Imperial College London\, South Kensington Campus\, London\, SW7 2AZ\, United Kingdom\nContact: Hannah Hynd / h.hynd@imperial.ac.uk\nContact number: 020 7594 9536\nApply Now: https://www.imperial.ac.uk/business-school/executive-education/application-form/\nRead more: https://www.imperial.ac.uk/business-school/executive-education/sustainability-climate/executing-sustainability-strategies/\n\nThe programme gives you the depth\, time\, and space you need to review and implement your sustainability strategy—with continuous\, follow-through support and guidance from the Imperial College ecosystem of world experts in sustainability and leadership. Through a blended approach of on-campus\, self-paced learning\, mentoring and next-generation meditation techniques\, you will develop a sustainable mindset\, build the insights\, tools and leadership capabilities. \nGo to top
URL:https://www.europeanbusinessreview.com/event/executing-sustainability-strategies-imperial-business-school/
LOCATION:Imperial College London\, South Kensington Campus\, London\, SW7 2AZ\, United Kingdom
CATEGORIES:Upcoming EMBA and Executive Education Programmes
ATTACH;FMTTYPE=image/jpeg:https://www.europeanbusinessreview.com/wp-content/uploads/2024/10/Executive-Education-UPCOMING-COURSES.jpg
END:VEVENT
BEGIN:VEVENT
DTSTART;VALUE=DATE:20250623
DTEND;VALUE=DATE:20250624
DTSTAMP:20260425T183503
CREATED:20241211T151850Z
LAST-MODIFIED:20250523T022256Z
UID:10000420-1750636800-1750723199@www.europeanbusinessreview.com
SUMMARY:Digital Transformation Strategy - Imperial Business School
DESCRIPTION:Duration: 5 days (on-campus)\nProgram Dates:\n\n23 – 27 June 2025\n3 – 7 November 2025\n\n\nVenue: Imperial College London\, South Kensington Campus\, London\, SW7 2AZ\, United Kingdom\nRead more here: https://www.imperial.ac.uk/business-school/executive-education/marketing-innovation-strategy/digital-transformation-strategy-programme/\nContact: Asmik Magakian / a.magakian@imperial.ac.uk\nContact number: 020 7594 8686\nApply here: https://www.imperial.ac.uk/business-school/executive-education/application-form/\n\nOn this 5-day course you will gain the skills to develop and implement a digital strategy within your organisation. Drawing on insights from Imperial College Business School faculty\, industry leaders\, case studies\, and your peers\, you will develop a robust understanding of digital cultures\, foundations\, and frameworks to craft your own transformational strategy. Explore how Artificial Intelligence\, ChatGPT\, Web 3.0 et al. are a catalyst for digital transformation. \nGo to top
URL:https://www.europeanbusinessreview.com/event/digital-transformation-strategy-imperial-business-school/
LOCATION:Imperial College London\, South Kensington Campus\, London\, SW7 2AZ\, United Kingdom
CATEGORIES:Upcoming EMBA and Executive Education Programmes
ATTACH;FMTTYPE=image/jpeg:https://www.europeanbusinessreview.com/wp-content/uploads/2024/12/iStock-1321462048-2.jpg
END:VEVENT
BEGIN:VEVENT
DTSTART;VALUE=DATE:20250616
DTEND;VALUE=DATE:20250617
DTSTAMP:20260425T183503
CREATED:20241211T145058Z
LAST-MODIFIED:20250523T022139Z
UID:10000419-1750032000-1750118399@www.europeanbusinessreview.com
SUMMARY:Leadership in a Technology Driven World - Imperial Business School
DESCRIPTION:Duration: 5 days (on-campus)\nProgramme dates:\n\n16 – 20 June 2025\n24 – 28 November 2025\n\n\nVenue: Imperial College London\, South Kensington Campus\, London\, SW7 2AZ\, United Kingdom\nContact: Hannah Hynd / h.hynd@imperial.ac.uk\nContact number: 020 7594 9536\nRead more here: https://www.imperial.ac.uk/business-school/executive-education/leadership/leadership-in-a-technology-driven-world-programme/\n\nAre you looking to lead\, build and sustain a successful team? Join the UK’s most innovative university where leaders gain skills for a tech-driven world. This 5-day course will equip you with the skills to lead your team through the digital age. The programme offers a practical and personalised learning approach\, backed by theory and delivered through interactive coaching elements. \nGo to top
URL:https://www.europeanbusinessreview.com/event/leadership-in-a-technology-driven-world-imperial-business-school/
LOCATION:Imperial College London\, South Kensington Campus\, London\, SW7 2AZ\, United Kingdom
CATEGORIES:Upcoming EMBA and Executive Education Programmes
ATTACH;FMTTYPE=image/jpeg:https://www.europeanbusinessreview.com/wp-content/uploads/2024/12/iStock-909762788-1.jpg
END:VEVENT
BEGIN:VEVENT
DTSTART;VALUE=DATE:20250609
DTEND;VALUE=DATE:20250610
DTSTAMP:20260425T183503
CREATED:20250217T114533Z
LAST-MODIFIED:20250523T020500Z
UID:10000481-1749427200-1749513599@www.europeanbusinessreview.com
SUMMARY:Innovation: A Design Thinking Approach - Imperial Business School
DESCRIPTION:Duration: 4 days (on-campus)\nProgramme dates: \n\n9 – 12 June 2025\n10 – 14 November 2025\n\n\nFees: £5\,450\nContact: Asmik Magakian / a.magakian@imperial.ac.uk\nContact number: 020 7594 8686\nVenue: Imperial College London\, South Kensington Campus\, London\, SW7 2AZ\, United Kingdom\nApply Now: https://www.imperial.ac.uk/business-school/executive-education/application-form/\nRead more: https://www.imperial.ac.uk/business-school/executive-education/marketing-innovation-strategy/innovation-a-design-thinking-approach-programme/campus/\n\nImperial’s Innovation: A Design Thinking Approach programme is a four-day course that guides participants towards becoming champions of innovation within their organisations. The programme delivers hands-on learning experiences that will give participants the mindset and practical tools to develop business ideas into commercial propositions. \nGo to top
URL:https://www.europeanbusinessreview.com/event/innovation-a-design-thinking-approach-imperial-business-school/
LOCATION:Imperial College London\, South Kensington Campus\, London\, SW7 2AZ\, United Kingdom
CATEGORIES:Upcoming EMBA and Executive Education Programmes
ATTACH;FMTTYPE=image/jpeg:https://www.europeanbusinessreview.com/wp-content/uploads/2025/02/iStock-1282301085-2.jpg
END:VEVENT
BEGIN:VEVENT
DTSTART;VALUE=DATE:20250519
DTEND;VALUE=DATE:20250520
DTSTAMP:20260425T183503
CREATED:20241211T153825Z
LAST-MODIFIED:20250523T020601Z
UID:10000422-1747612800-1747699199@www.europeanbusinessreview.com
SUMMARY:Risk Management - Imperial Business School
DESCRIPTION:Duration: 5 days (on-campus\, full-time)\nProgram Dates: \n\n19 – 23 May 2025\n3 – 7 November 2025\n\n\nVenue: Imperial College London\, South Kensington Campus\, London\, SW7 2AZ\, United Kingdom\nRead more here: https://www.imperial.ac.uk/business-school/executive-education/finance-economics/risk-management-programme/\nContact person: Asmik Magakian / a.magakian@imperial.ac.uk\nContact number: 020 7594 8686\n\nThis 5-day programme is designed to help you spot potential financial\, corporate\, societal\, and environmental risks facing your organisation. And to build the practical tools and frameworks to measure and hedge those risks\, to bolster your future performance in these unpredictable times. \nGo to top
URL:https://www.europeanbusinessreview.com/event/risk-management-imperial-business-school/
LOCATION:Imperial College London\, South Kensington Campus\, London\, SW7 2AZ\, United Kingdom
CATEGORIES:Upcoming EMBA and Executive Education Programmes
ATTACH;FMTTYPE=image/jpeg:https://www.europeanbusinessreview.com/wp-content/uploads/2024/10/Executive-Education-UPCOMING-COURSES.jpg
END:VEVENT
BEGIN:VEVENT
DTSTART;VALUE=DATE:20250428
DTEND;VALUE=DATE:20250429
DTSTAMP:20260425T183503
CREATED:20241211T152910Z
LAST-MODIFIED:20250523T021506Z
UID:10000421-1745798400-1745884799@www.europeanbusinessreview.com
SUMMARY:Leading Systemic Innovation in Healthcare - Imperial Business School
DESCRIPTION:Duration: 5 days (on-campus)\nProgramme dates:\n\n28 April – 2 May 2025\n17 – 21 November 2025\n\n\nVenue: Imperial College London\, South Kensington Campus\, London\, SW7 2AZ\, United Kingdom\nRead more here: https://www.imperial.ac.uk/business-school/executive-education/healthcare/leading-systemic-innovation-in-healthcare/\nContact person: Hannah Hynd / h.hynd@imperial.ac.uk\nContact number: 020 7594 9536\n\nThis programme goes beyond addressing symptoms and existing challenges. It’s about identifying the root causes of healthcare challenges and reshaping the very foundations of the industry\, with a strong focus on personalised medicine\, systemic innovation\, and systems thinking. \nGo to top
URL:https://www.europeanbusinessreview.com/event/leading-systemic-innovation-in-healthcare-imperial-business-school/
LOCATION:Imperial College London\, South Kensington Campus\, London\, SW7 2AZ\, United Kingdom
CATEGORIES:Upcoming EMBA and Executive Education Programmes
ATTACH;FMTTYPE=image/jpeg:https://www.europeanbusinessreview.com/wp-content/uploads/2024/10/Executive-Education-UPCOMING-COURSES.jpg
END:VEVENT
END:VCALENDAR