BEGIN:VCALENDAR
VERSION:2.0
PRODID:-//The European Business Review - ECPv6.13.0//NONSGML v1.0//EN
CALSCALE:GREGORIAN
METHOD:PUBLISH
X-ORIGINAL-URL:https://www.europeanbusinessreview.com
X-WR-CALDESC:Events for The European Business Review
REFRESH-INTERVAL;VALUE=DURATION:PT1H
X-Robots-Tag:noindex
X-PUBLISHED-TTL:PT1H
BEGIN:VTIMEZONE
TZID:Europe/Paris
BEGIN:DAYLIGHT
TZOFFSETFROM:+0100
TZOFFSETTO:+0200
TZNAME:CEST
DTSTART:20240331T010000
END:DAYLIGHT
BEGIN:STANDARD
TZOFFSETFROM:+0200
TZOFFSETTO:+0100
TZNAME:CET
DTSTART:20241027T010000
END:STANDARD
END:VTIMEZONE
BEGIN:VTIMEZONE
TZID:UTC
BEGIN:STANDARD
TZOFFSETFROM:+0000
TZOFFSETTO:+0000
TZNAME:UTC
DTSTART:20240101T000000
END:STANDARD
END:VTIMEZONE
BEGIN:VEVENT
DTSTART;TZID=Europe/Paris:20240626T120000
DTEND;TZID=Europe/Paris:20240626T130000
DTSTAMP:20260422T015448
CREATED:20240426T092341Z
LAST-MODIFIED:20240517T125734Z
UID:10000182-1719403200-1719406800@www.europeanbusinessreview.com
SUMMARY:MBA June Insight Series - University of Bath
DESCRIPTION:Meet our Dean of School\, Professor Steve Brammer\, as he warmly invites you to start your MBA journey at the School of Management. \nWednesday 26 June 2024 \n12:00 – 13:00 (GMT) Find out what time this is in your time zone. \nRegister to attend. \nJoin our June Insight Series with Head of Recruitment & Admissions\, Becky Gallagher and Professor Steve Brammer\, Dean of the School of Management at the University of Bath\, as they welcome you to a Q&A forum on studying your MBA at one of the UK’s leading business schools. \nOur MBA Recruitment and Admissions team and student ambassadors will also be on hand to answer any questions you may have about the programme and life at the University of Bath. \nYou will be able to ask us about: \n\nthe Bath MBA programme\nthe application and admissions process\nour application requirements\nwhat it’s like to live and study in the beautiful World Heritage City of Bath\n\nRegister now
URL:https://www.europeanbusinessreview.com/event/mba-june-insight-series-university-of-bath/
LOCATION:University of Bath\, University of Bath Claverton Down Bath BA2 7AY United Kingdom\, United Kingdom
CATEGORIES:Executive Education Calendar
ATTACH;FMTTYPE=image/jpeg:https://www.europeanbusinessreview.com/wp-content/uploads/2024/04/Open-House-.jpg
END:VEVENT
BEGIN:VEVENT
DTSTART;VALUE=DATE:20240627
DTEND;VALUE=DATE:20240629
DTSTAMP:20260422T015448
CREATED:20240320T024852Z
LAST-MODIFIED:20240320T024852Z
UID:10000172-1719446400-1719619199@www.europeanbusinessreview.com
SUMMARY:Human-algorithm interaction workshop - University of Oxford: Saïd
DESCRIPTION:This interdisciplinary workshop delves into the complex and evolving relationship between humans and algorithms.\n\nJoin leading academics\, industry experts and practitioners for thought-provoking discussions\, knowledge exchange and exploration of the ethical and practical implications of human-algorithm interaction. \nKey takeaways\n\nGain insights into the latest research on human-algorithm collaboration\nUnderstand the impact of algorithms on decision-making\, work and society\nDevelop strategies for responsible and ethical algorithm design and deployment\nExpand your professional network and connect with experts in the field\n\nTarget audience\n\nAcademic researchers: scholars engaged in research and development in the field of artificial intelligence\, drawn from disciplines such as computer science\, business and other relevant fields\nC-suite executives and decision-makers: senior executives and individuals responsible for strategic decision-making\, demonstrating a forward-looking approach and willingness to embrace artificial intelligence\nPolicymakers and regulators: government officials and regulatory bodies seeking to formulate policies related to artificial intelligence\, ensuring its responsible and ethical development and use
URL:https://www.europeanbusinessreview.com/event/human-algorithm-interaction-workshop-university-of-oxford-said/
LOCATION:University of Oxford: Saïd
CATEGORIES:Executive Education Calendar
ATTACH;FMTTYPE=image/jpeg:https://www.europeanbusinessreview.com/wp-content/uploads/2024/03/Event-Calendar-image-1-3.jpg
ORGANIZER;CN="University of Oxford%3A Sa%C3%AFd":MAILTO:oxfordmba@sbs.ox.ac.uk
END:VEVENT
END:VCALENDAR