BEGIN:VCALENDAR
VERSION:2.0
PRODID:-//The European Business Review - ECPv6.13.0//NONSGML v1.0//EN
CALSCALE:GREGORIAN
METHOD:PUBLISH
X-WR-CALNAME:The European Business Review
X-ORIGINAL-URL:https://www.europeanbusinessreview.com
X-WR-CALDESC:Events for The European Business Review
REFRESH-INTERVAL;VALUE=DURATION:PT1H
X-Robots-Tag:noindex
X-PUBLISHED-TTL:PT1H
BEGIN:VTIMEZONE
TZID:UTC
BEGIN:STANDARD
TZOFFSETFROM:+0000
TZOFFSETTO:+0000
TZNAME:UTC
DTSTART:20240101T000000
END:STANDARD
END:VTIMEZONE
BEGIN:VEVENT
DTSTART;TZID=UTC:20240612T083000
DTEND;TZID=UTC:20240612T170000
DTSTAMP:20260422T015326
CREATED:20240205T030337Z
LAST-MODIFIED:20240205T030337Z
UID:10000143-1718181000-1718211600@www.europeanbusinessreview.com
SUMMARY:HR Day 2024 - Vlerick Business School
DESCRIPTION:The Vlerick HR Day is an unrivalled opportunity for HR practitioners from across the Benelux to meet the foremost HR academics and thinkers from Europe. And at this conference\, you can be sure of finding yourself in good company. By joining\, you’ll be giving yourself opportunities to stay connected with HR topics that affect you and your organisation – and you’ll be able to immerse yourself in practical\, interactive workshops. Our keynote speakers will give you plenty of food for thought – and of course\, networking opportunities abound. All of this takes place on our beautiful Ghent campus\, and we welcome you to take part in this unique opportunity.
URL:https://www.europeanbusinessreview.com/event/hr-day-2024-vlerick-business-school/
LOCATION:Vlerick Business Schools – Brussels
CATEGORIES:Executive Education Calendar
ATTACH;FMTTYPE=image/jpeg:https://www.europeanbusinessreview.com/wp-content/uploads/2024/02/Event-Calendar-image-2-WEBINAR-2.jpg
ORGANIZER;CN="Vlerick Business School":MAILTO:PROGRAMMEADVISOR@VLERICK.COM
END:VEVENT
BEGIN:VEVENT
DTSTART;TZID=UTC:20240615T110000
DTEND;TZID=UTC:20240615T113000
DTSTAMP:20260422T015326
CREATED:20240205T030620Z
LAST-MODIFIED:20240205T030620Z
UID:10000144-1718449200-1718451000@www.europeanbusinessreview.com
SUMMARY:Online MBA Info Webinar - Swiss Business School
DESCRIPTION:Attend our info webinars to find out the features of our double accredited Online MBA. Participation is free and without any obligations. Register your participation and you will receive further information via e-mail.
URL:https://www.europeanbusinessreview.com/event/online-mba-info-webinar-swiss-business-school-2/
LOCATION:Online Event
CATEGORIES:Executive Education Calendar
ATTACH;FMTTYPE=image/jpeg:https://www.europeanbusinessreview.com/wp-content/uploads/2024/02/Event-Calendar-image-1.jpg
ORGANIZER;CN="Swiss Business School":MAILTO:enrollment@sbs.edu
END:VEVENT
END:VCALENDAR