BEGIN:VCALENDAR
VERSION:2.0
PRODID:-//The European Business Review - ECPv6.13.0//NONSGML v1.0//EN
CALSCALE:GREGORIAN
METHOD:PUBLISH
X-ORIGINAL-URL:https://www.europeanbusinessreview.com
X-WR-CALDESC:Events for The European Business Review
REFRESH-INTERVAL;VALUE=DURATION:PT1H
X-Robots-Tag:noindex
X-PUBLISHED-TTL:PT1H
BEGIN:VTIMEZONE
TZID:UTC
BEGIN:STANDARD
TZOFFSETFROM:+0000
TZOFFSETTO:+0000
TZNAME:UTC
DTSTART:20240101T000000
END:STANDARD
END:VTIMEZONE
BEGIN:VTIMEZONE
TZID:Europe/Paris
BEGIN:DAYLIGHT
TZOFFSETFROM:+0100
TZOFFSETTO:+0200
TZNAME:CEST
DTSTART:20240331T010000
END:DAYLIGHT
BEGIN:STANDARD
TZOFFSETFROM:+0200
TZOFFSETTO:+0100
TZNAME:CET
DTSTART:20241027T010000
END:STANDARD
END:VTIMEZONE
BEGIN:VEVENT
DTSTART;VALUE=DATE:20240528
DTEND;VALUE=DATE:20240601
DTSTAMP:20260422T002516
CREATED:20240115T105045Z
LAST-MODIFIED:20240115T105045Z
UID:10000102-1716854400-1717199999@www.europeanbusinessreview.com
SUMMARY:Leading People and Teams
DESCRIPTION:Date: May 28 – 31\, 2024 (second intake: November 2024) \nLocation: Berlin \nPrice: 5\,600 € \nFormat: in-person \nContact: bd@esmt.org / +49 30 21231 1490 \nURL: https://esmt.berlin/execed/open-programs/leadership/leading-people-and-teams \nLearn how to maximize your effectiveness as a leader   \n\nEmpower your team to achieve success \nBolster your leadership by creating an effective professional network \nBuild influence and gain buy-in from stakeholders to support your initiatives \nEngage and shape strategic conversations \n\nThe Leading People and Teams program functions as a leadership laboratory\, where you can experiment in a challenging but safe environment to uncover your blind spots as a leader and unlock your full potential\, while developing strategies that will help you build a strong and aligned team.   \nYour profile: \n\nYou are a manager with at least five years of experience leading a team \nYou want to improve your effectiveness at reaching organizational goals through people. \n\nBenefits: \n\nLearn from state-of-the-art research that explores the four complementary facets of successful leadership. \nDevelop your personal leadership vision and get feedback from peers.  \nIndividual profiling before the program will help you understand your own decision making style and the strengths of your leadership network\, providing a road map to develop it in the right directions.  \nBenefit from open and intense class interactions\, that leverage the varied experiences of you and your peers.  \nMorning reflections each day help you utilize newly acquired skills and knowledge.   \nSelf-assessment tools\, interactive mini-lectures\, case discussions\, business simulations\, and in-depth interactions with peers and faculty will help maximize your leadership effectiveness. \n\nAchieve lasting impact through a post-program self-development plan. 
URL:https://www.europeanbusinessreview.com/event/leading-people-and-teams-2/
LOCATION:ESMT\, ESMT Berlin\, Schlossplatz 1\, 10178\, Berlin\, Germany\, Berlin\, Berlin\, 10178\, Germany
CATEGORIES:Executive Education Calendar
ATTACH;FMTTYPE=image/png:https://www.europeanbusinessreview.com/wp-content/uploads/2024/01/Leading-People-and-Teams.png
END:VEVENT
BEGIN:VEVENT
DTSTART;TZID=UTC:20240528T140000
DTEND;TZID=UTC:20240528T153000
DTSTAMP:20260422T002516
CREATED:20240205T025659Z
LAST-MODIFIED:20240205T025659Z
UID:10000141-1716904800-1716910200@www.europeanbusinessreview.com
SUMMARY:Online MBA - Stephen M. Ross School of Business
DESCRIPTION:Interested in the Michigan Ross Part-Time MBA Online program? \nJoin the Online Info Session with a member of our Admissions Team to learn more today. \nAll info sessions are held via Zoom. The link to join will be sent to you via your confirmation email. Please keep the confirmation email to access the Zoom webinar. \nRegister here: https://events.blackthorn.io/36uWEr6/5a5n7V19Knt
URL:https://www.europeanbusinessreview.com/event/online-mba-stephen-m-ross-school-of-business/
LOCATION:Online Event
CATEGORIES:Executive Education Calendar
ATTACH;FMTTYPE=image/jpeg:https://www.europeanbusinessreview.com/wp-content/uploads/2024/02/Event-Calendar-image-1.jpg
END:VEVENT
BEGIN:VEVENT
DTSTART;TZID=Europe/Paris:20240529T120000
DTEND;TZID=Europe/Paris:20240529T130000
DTSTAMP:20260422T002516
CREATED:20240426T092606Z
LAST-MODIFIED:20240517T125816Z
UID:10000183-1716984000-1716987600@www.europeanbusinessreview.com
SUMMARY:Meet our MBA Alumni - University of Bath
DESCRIPTION:Join our online event to gain first-hand insights into the Bath MBA and connect with our international alumni. \nWednesday 29 May 2024 \n12:00 – 13:00 (GMT) Find out what time this is in your time zone. \nRegister to attend. \nAre you looking for a leading MBA programme with a track record of success? Our alumni have been through the journey you are about to undertake and can offer perspectives that cut through the noise. \nOn Wednesday 29 May we will be joined online by our MBA alumni panel: \n\nRoshan Murikkoli (Class of 2022) – Roshan is currently working as a Subject Matter Expert for global food and beverage brand\, PepsiCo UK.\nKrish Deepak (Class of 2022) – Krish graduated from his MBA in 2022 and is now the Business Projects Lead for Rotork\, a market-leading global provider of industrial flow equipment.\nDaljit Oberoi (Class of 2021) – Daljit is the UK Commercial Manager\, Overseas for DP World\, having completed his MBA at Bath in 2021.\n\nListen to their experiences and discover how the Bath MBA is equipping them on their leadership pathway. \nOur MBA Recruitment and Admissions team will also be on hand to answer any questions you may have about the programme and life at the University of Bath. \nYou will be able to ask us about: \n\nthe Bath MBA programme\nthe application and admissions process\nour application requirements\nwhat it’s like to live and study in the beautiful World Heritage City of Bath\n\nRegister now
URL:https://www.europeanbusinessreview.com/event/meet-our-mba-alumni-university-of-bath/
LOCATION:University of Bath\, University of Bath Claverton Down Bath BA2 7AY United Kingdom\, United Kingdom
CATEGORIES:Executive Education Calendar
ATTACH;FMTTYPE=image/jpeg:https://www.europeanbusinessreview.com/wp-content/uploads/2024/04/Open-House-.jpg
END:VEVENT
BEGIN:VEVENT
DTSTART;TZID=UTC:20240530T124500
DTEND;TZID=UTC:20240530T134500
DTSTAMP:20260422T002516
CREATED:20240318T095037Z
LAST-MODIFIED:20240318T095037Z
UID:10000159-1717073100-1717076700@www.europeanbusinessreview.com
SUMMARY:V-Entrepreneurs Talk 2024: The Ritchie Story
DESCRIPTION:Are you an entrepreneur looking for food for thought? Join our free lunch webinar! \nYou’ll hear from Jan Verlinden\, Chief Lemonade Maker at Ritchie. He’ll talk us through The Ritchie Story – and how he reintroduced a family recipe to modern consumers. \nJoin us to learn how to (re)launch a brand in a competitive market\, grab your audience’s attention – and position your brand for success.
URL:https://www.europeanbusinessreview.com/event/v-entrepreneurs-talk-2024-the-ritchie-story/
LOCATION:Online Event
CATEGORIES:Executive Education Calendar
ATTACH;FMTTYPE=image/jpeg:https://www.europeanbusinessreview.com/wp-content/uploads/2024/03/Event-Calendar-image-2-WEBINAR.jpg
ORGANIZER;CN="Vlerick Business School":MAILTO:PROGRAMMEADVISOR@VLERICK.COM
END:VEVENT
END:VCALENDAR