BEGIN:VCALENDAR
VERSION:2.0
PRODID:-//The European Business Review - ECPv6.13.0//NONSGML v1.0//EN
CALSCALE:GREGORIAN
METHOD:PUBLISH
X-WR-CALNAME:The European Business Review
X-ORIGINAL-URL:https://www.europeanbusinessreview.com
X-WR-CALDESC:Events for The European Business Review
REFRESH-INTERVAL;VALUE=DURATION:PT1H
X-Robots-Tag:noindex
X-PUBLISHED-TTL:PT1H
BEGIN:VTIMEZONE
TZID:UTC
BEGIN:STANDARD
TZOFFSETFROM:+0000
TZOFFSETTO:+0000
TZNAME:UTC
DTSTART:20230101T000000
END:STANDARD
END:VTIMEZONE
BEGIN:VTIMEZONE
TZID:Europe/Helsinki
BEGIN:DAYLIGHT
TZOFFSETFROM:+0200
TZOFFSETTO:+0300
TZNAME:EEST
DTSTART:20230326T010000
END:DAYLIGHT
BEGIN:STANDARD
TZOFFSETFROM:+0300
TZOFFSETTO:+0200
TZNAME:EET
DTSTART:20231029T010000
END:STANDARD
END:VTIMEZONE
BEGIN:VEVENT
DTSTART;TZID=UTC:20231107T120000
DTEND;TZID=UTC:20231107T130000
DTSTAMP:20260422T220839
CREATED:20230918T103843Z
LAST-MODIFIED:20230918T103843Z
UID:10000054-1699358400-1699362000@www.europeanbusinessreview.com
SUMMARY:IMD — International Institute for Management Development - General management programs
DESCRIPTION:
URL:https://www.europeanbusinessreview.com/event/imd-international-institute-for-management-development-general-management-programs/
LOCATION:Online Event
CATEGORIES:Executive Education Calendar
ATTACH;FMTTYPE=image/png:https://www.europeanbusinessreview.com/wp-content/uploads/2023/09/Executive-Education-Calendar-1.png
END:VEVENT
BEGIN:VEVENT
DTSTART;TZID=UTC:20231109T173000
DTEND;TZID=UTC:20231109T210000
DTSTAMP:20260422T220839
CREATED:20230918T104222Z
LAST-MODIFIED:20230918T104222Z
UID:10000055-1699551000-1699563600@www.europeanbusinessreview.com
SUMMARY:London Business School - Premier EMBA: New York City
DESCRIPTION:
URL:https://www.europeanbusinessreview.com/event/london-business-school-premier-emba-new-york-city/
LOCATION:Berlin
CATEGORIES:Executive Education Calendar
ATTACH;FMTTYPE=image/png:https://www.europeanbusinessreview.com/wp-content/uploads/2023/09/Executive-Education-Calendar-1.png
END:VEVENT
BEGIN:VEVENT
DTSTART;TZID=Europe/Helsinki:20231110T143000
DTEND;TZID=Europe/Helsinki:20231110T183000
DTSTAMP:20260422T220839
CREATED:20231020T081454Z
LAST-MODIFIED:20231020T114414Z
UID:10000068-1699626600-1699641000@www.europeanbusinessreview.com
SUMMARY:ESMT Berlin - Open house: ESMT MBA and Master Programs
DESCRIPTION:It’s important to get a good feel for the right school for you. Candidates interested in ESMT’s Master and MBA programs have the opportunity to attend Open House events throughout the year. \nThe ESMT Berlin Open House will include: \n\nPresentation of ESMT Master and MBA programs by the program director\nLecture by ESMT Professor\nTour of the campus\nOptional one-on-one meeting with ESMT staff to discuss profile\nNetworking drinks with students\, alumni and staff\n\nRegistration link: https://apply.esmt.berlin/e/639890463b5d006ced000210 \nGo to top
URL:https://www.europeanbusinessreview.com/event/esmt-berlin-open-house-esmt-mba-and-master-programs/
LOCATION:ESMT\, ESMT Berlin\, Schlossplatz 1\, 10178\, Berlin\, Germany\, Berlin\, Berlin\, 10178\, Germany
CATEGORIES:Executive Education Calendar
ATTACH;FMTTYPE=image/jpeg:https://www.europeanbusinessreview.com/wp-content/uploads/2023/10/ESMT-Open-House-800x600-1.jpg
END:VEVENT
END:VCALENDAR