BEGIN:VCALENDAR
VERSION:2.0
PRODID:-//The European Business Review - ECPv6.13.0//NONSGML v1.0//EN
CALSCALE:GREGORIAN
METHOD:PUBLISH
X-ORIGINAL-URL:https://www.europeanbusinessreview.com
X-WR-CALDESC:Events for The European Business Review
REFRESH-INTERVAL;VALUE=DURATION:PT1H
X-Robots-Tag:noindex
X-PUBLISHED-TTL:PT1H
BEGIN:VTIMEZONE
TZID:UTC
BEGIN:STANDARD
TZOFFSETFROM:+0000
TZOFFSETTO:+0000
TZNAME:UTC
DTSTART:20260101T000000
END:STANDARD
END:VTIMEZONE
BEGIN:VEVENT
DTSTART;VALUE=DATE:20260617
DTEND;VALUE=DATE:20260618
DTSTAMP:20260421T143715
CREATED:20260421T080136Z
LAST-MODIFIED:20260421T081355Z
UID:10000688-1781654400-1781740799@www.europeanbusinessreview.com
SUMMARY:Executive MBA Open Day - Online | IESE Business School
DESCRIPTION:Start Date: June 17\, 2026\nDuration: 6:30 p.m. – 8:15 p.m.\nDepartment/Category: Case Study Session\nLocation: Online\nContact: https://www.iese.edu/contact-us/\nRead more here!\nRegister here!\n\nExperience IESE and it’s Executive MBA\nIESE Business School invites you to experience the case method and learn about our Executive MBA Munich program in an Online Open Session. We’ll explore a case study in a discussion led by Professor Thomas M. Klueter and hear from alumni of our Executive MBA. It will be a great opportunity to learn more about the program and live the IESE experience. \nGo to top
URL:https://www.europeanbusinessreview.com/event/executive-mba-open-day-online-iese-business-school-2/
LOCATION:Online
CATEGORIES:Executive Education Calendar
ATTACH;FMTTYPE=image/jpeg:https://www.europeanbusinessreview.com/wp-content/uploads/2024/10/Executive-Education.jpg
END:VEVENT
BEGIN:VEVENT
DTSTART;VALUE=DATE:20260618
DTEND;VALUE=DATE:20260620
DTSTAMP:20260421T143715
CREATED:20251202T130503Z
LAST-MODIFIED:20251203T101418Z
UID:10000619-1781740800-1781913599@www.europeanbusinessreview.com
SUMMARY:Climate Change & Sustainability - Climate Change Week
DESCRIPTION:Start Date: June 18-19\, 2026 and November 05-06\, 2026\nLocation: London and San Francisco\nContact: climate@thepeopleevents.com\nEvent Passes and Pricing:\nVisitor Pass – $599/Early Bird\nBusiness Pass – $799/Early Bird\nDelegate Pass – $899/Early Bird\nRead more here! \nRegister here!\n\nClimate Week 2026\nFollowing the success of previous editions in Frankfurt (2022)\, Rome (2023)\, Barcelona (2024)\, and Milan (2025)\, Climate Week 2026 will be held in London\, United Kingdom\, on June 18–19\, 2026. This fifth edition embraces the theme “Solutions for Climate: Innovation\, Equity\, & Sustainability”\, focusing on actionable strategies to address climate change while promoting inclusivity and long-term sustainability. \nThe conference will bring together climate experts\, policymakers\, industry leaders\, and innovators from around the world to share insights\, showcase solutions\, and explore collaborative approaches to mitigating climate impacts. Attendees will gain practical knowledge on how climate change affects communities globally from urban centers to rural landscapes and learn about the individuals and organizations driving innovative\, equitable solutions. By participating in Climate Week 2026\, you will have the opportunity to engage in discussions on cutting-edge technologies\, sustainability strategies\, and climate equity\, while connecting with thought leaders and changemakers shaping a resilient and sustainable future. \nGo to top
URL:https://www.europeanbusinessreview.com/event/climate-change-sustainability-climate-change-week/
LOCATION:London\, United Kingdom
CATEGORIES:Business Events
ATTACH;FMTTYPE=image/jpeg:https://www.europeanbusinessreview.com/wp-content/uploads/2024/10/Business-Event-2.jpg
END:VEVENT
BEGIN:VEVENT
DTSTART;VALUE=DATE:20260624
DTEND;VALUE=DATE:20260627
DTSTAMP:20260421T143715
CREATED:20251106T061954Z
LAST-MODIFIED:20260226T010821Z
UID:10000609-1782259200-1782518399@www.europeanbusinessreview.com
SUMMARY:WBS Sustainability Leadership Programme
DESCRIPTION:Date: 24-26 June 2026\nLocation: London – The Shard\nFormat: Part-time\nFees: £4\,250 *\nBook you place now!\n\nCorporate sustainability is vital if society is to successfully navigate our critical societal and ecological challenges.\nThe sustainability transition is one of the greatest drivers of economic change\, and will profoundly affect every sector and every organisation. Successfully navigating that transition is critical to business success and indeed survival. \nLeading Corporate Sustainability has been designed to help businesses – as well as non-profits and the public sector – to integrate sustainability into their strategy and align the whole organisation behind that strategy. It has been developed not just for those in dedicated sustainability roles but also for all senior managers\, as sustainability needs to be integrated into every aspect of the business. \nGo to top
URL:https://www.europeanbusinessreview.com/event/wbs-sustainability-leadership-programme/
LOCATION:London – The Shard
CATEGORIES:Upcoming EMBA and Executive Education Programmes
ATTACH;FMTTYPE=image/jpeg:https://www.europeanbusinessreview.com/wp-content/uploads/2024/10/Executive-Education-UPCOMING-COURSES.jpg
END:VEVENT
END:VCALENDAR