BEGIN:VCALENDAR
VERSION:2.0
PRODID:-//The European Business Review - ECPv6.13.0//NONSGML v1.0//EN
CALSCALE:GREGORIAN
METHOD:PUBLISH
X-WR-CALNAME:The European Business Review
X-ORIGINAL-URL:https://www.europeanbusinessreview.com
X-WR-CALDESC:Events for The European Business Review
REFRESH-INTERVAL;VALUE=DURATION:PT1H
X-Robots-Tag:noindex
X-PUBLISHED-TTL:PT1H
BEGIN:VTIMEZONE
TZID:UTC
BEGIN:STANDARD
TZOFFSETFROM:+0000
TZOFFSETTO:+0000
TZNAME:UTC
DTSTART:20230101T000000
END:STANDARD
END:VTIMEZONE
BEGIN:VTIMEZONE
TZID:America/Halifax
BEGIN:DAYLIGHT
TZOFFSETFROM:-0400
TZOFFSETTO:-0300
TZNAME:ADT
DTSTART:20230312T060000
END:DAYLIGHT
BEGIN:STANDARD
TZOFFSETFROM:-0300
TZOFFSETTO:-0400
TZNAME:AST
DTSTART:20231105T050000
END:STANDARD
END:VTIMEZONE
BEGIN:VTIMEZONE
TZID:UTC
BEGIN:STANDARD
TZOFFSETFROM:+0000
TZOFFSETTO:+0000
TZNAME:UTC
DTSTART:20230101T000000
END:STANDARD
END:VTIMEZONE
BEGIN:VTIMEZONE
TZID:Europe/London
BEGIN:DAYLIGHT
TZOFFSETFROM:+0000
TZOFFSETTO:+0100
TZNAME:BST
DTSTART:20230326T010000
END:DAYLIGHT
BEGIN:STANDARD
TZOFFSETFROM:+0100
TZOFFSETTO:+0000
TZNAME:GMT
DTSTART:20231029T010000
END:STANDARD
END:VTIMEZONE
BEGIN:VEVENT
DTSTART;TZID=UTC:20231012T180000
DTEND;TZID=UTC:20231012T210000
DTSTAMP:20260422T215112
CREATED:20230907T121319Z
LAST-MODIFIED:20230907T121319Z
UID:10000051-1697133600-1697144400@www.europeanbusinessreview.com
SUMMARY:Warwick Business School - Open Evening at The Shard for Doctor of Business Administration
DESCRIPTION:
URL:https://www.europeanbusinessreview.com/event/warwick-business-school-open-evening-at-the-shard-for-doctor-of-business-administration/
LOCATION:Warwick Business School\, Reception area\, 17th Floor\, The Shard London SE1 9SG UK\, London\, SE1 9SG\, United Kingdom
CATEGORIES:Executive Education Calendar
ATTACH;FMTTYPE=image/png:https://www.europeanbusinessreview.com/wp-content/uploads/2023/08/Executive-Education-Calendar.png
ORGANIZER;CN="Warwick Business School":MAILTO:georgina.lewis@wbs.ac.uk
END:VEVENT
BEGIN:VEVENT
DTSTART;TZID=UTC:20231010T123000
DTEND;TZID=UTC:20231010T133000
DTSTAMP:20260422T215112
CREATED:20230828T071635Z
LAST-MODIFIED:20230829T042146Z
UID:10000047-1696941000-1696944600@www.europeanbusinessreview.com
SUMMARY:EDHEC - Executive Master Business et Management
DESCRIPTION:
URL:https://www.europeanbusinessreview.com/event/executive-master-business-et-management/
LOCATION:Online Event
CATEGORIES:Executive Education Calendar
ATTACH;FMTTYPE=image/png:https://www.europeanbusinessreview.com/wp-content/uploads/2023/08/Executive-Education-Calendar-1.png
END:VEVENT
BEGIN:VEVENT
DTSTART;TZID=UTC:20231006T140000
DTEND;TZID=UTC:20231006T150000
DTSTAMP:20260422T215112
CREATED:20230823T142926Z
LAST-MODIFIED:20230825T143643Z
UID:10000036-1696600800-1696604400@www.europeanbusinessreview.com
SUMMARY:INSEAD MBA & MIM Friday Campus Tour | Asia Campus
DESCRIPTION:
URL:https://www.europeanbusinessreview.com/event/insead-mba-mim-friday-campus-tour-asia-campus/
LOCATION:Singapore\, 1 Ayer Rajah Ave\, 138676\, Singapore
CATEGORIES:Executive Education Calendar
ATTACH;FMTTYPE=image/png:https://www.europeanbusinessreview.com/wp-content/uploads/2023/08/Executive-Education-Calendar.png
END:VEVENT
BEGIN:VEVENT
DTSTART;TZID=America/Halifax:20231006T103000
DTEND;TZID=America/Halifax:20231006T160000
DTSTAMP:20260422T215112
CREATED:20230823T131712Z
LAST-MODIFIED:20230825T143514Z
UID:10000035-1696588200-1696608000@www.europeanbusinessreview.com
SUMMARY:The Wharton School of the University of Pennsylvania Campus Visit Program
DESCRIPTION:
URL:https://www.europeanbusinessreview.com/event/the-wharton-school-of-the-university-of-pennsylvania-campus-visit-program/2023-10-06/
LOCATION:Vance Hall\, 3733 Spruce St\, Suite 111\, Philadelphia\, PA\, PA\, 19104\, United States
CATEGORIES:Executive Education Calendar
ATTACH;FMTTYPE=image/png:https://www.europeanbusinessreview.com/wp-content/uploads/2023/08/Executive-Education-Calendar.png
ORGANIZER;CN="Wharton MBA Admissions":MAILTO:mbaevents@wharton.upenn.edu
END:VEVENT
BEGIN:VEVENT
DTSTART;TZID=UTC:20231003T120000
DTEND;TZID=UTC:20231003T130000
DTSTAMP:20260422T215112
CREATED:20230828T071236Z
LAST-MODIFIED:20230829T042102Z
UID:10000046-1696334400-1696338000@www.europeanbusinessreview.com
SUMMARY:Vlerick Business School - Info Session Executive Education & MBA Programmes
DESCRIPTION:
URL:https://www.europeanbusinessreview.com/event/info-session-executive-education-mba-programmes/
LOCATION:Online Event
CATEGORIES:Executive Education Calendar
ATTACH;FMTTYPE=image/png:https://www.europeanbusinessreview.com/wp-content/uploads/2023/08/Executive-Education-Calendar-1.png
ORGANIZER;CN="Vlerick Business School":MAILTO:PROGRAMMEADVISOR@VLERICK.COM
END:VEVENT
BEGIN:VEVENT
DTSTART;TZID=UTC:20231003T120000
DTEND;TZID=UTC:20231003T130000
DTSTAMP:20260422T215112
CREATED:20230823T140556Z
LAST-MODIFIED:20230825T143902Z
UID:10000033-1696334400-1696338000@www.europeanbusinessreview.com
SUMMARY:Vlerick Business School Info Session Executive Education & MBA Programmes
DESCRIPTION:
URL:https://www.europeanbusinessreview.com/event/vlerick-business-school-info-session-executive-education-mba-programmes-2/
LOCATION:Online Event
CATEGORIES:Executive Education Calendar
ATTACH;FMTTYPE=image/png:https://www.europeanbusinessreview.com/wp-content/uploads/2023/08/Executive-Education-Calendar.png
ORGANIZER;CN="Vlerick Business School":MAILTO:PROGRAMMEADVISOR@VLERICK.COM
END:VEVENT
BEGIN:VEVENT
DTSTART;TZID=America/Halifax:20231002T103000
DTEND;TZID=America/Halifax:20231002T160000
DTSTAMP:20260422T215112
CREATED:20230823T131712Z
LAST-MODIFIED:20230825T143514Z
UID:10000032-1696242600-1696262400@www.europeanbusinessreview.com
SUMMARY:The Wharton School of the University of Pennsylvania Campus Visit Program
DESCRIPTION:
URL:https://www.europeanbusinessreview.com/event/the-wharton-school-of-the-university-of-pennsylvania-campus-visit-program/2023-10-02/
LOCATION:Vance Hall\, 3733 Spruce St\, Suite 111\, Philadelphia\, PA\, PA\, 19104\, United States
CATEGORIES:Executive Education Calendar
ATTACH;FMTTYPE=image/png:https://www.europeanbusinessreview.com/wp-content/uploads/2023/08/Executive-Education-Calendar.png
ORGANIZER;CN="Wharton MBA Admissions":MAILTO:mbaevents@wharton.upenn.edu
END:VEVENT
BEGIN:VEVENT
DTSTART;TZID=UTC:20230927T120000
DTEND;TZID=UTC:20230927T124500
DTSTAMP:20260422T215112
CREATED:20230828T070659Z
LAST-MODIFIED:20230829T041941Z
UID:10000045-1695816000-1695818700@www.europeanbusinessreview.com
SUMMARY:Darden Executive Education Executive MBA Overview Webinar
DESCRIPTION:
URL:https://www.europeanbusinessreview.com/event/executive-mba-overview-webinar/
LOCATION:Online Event
CATEGORIES:Executive Education Calendar
ATTACH;FMTTYPE=image/png:https://www.europeanbusinessreview.com/wp-content/uploads/2023/08/Executive-Education-Calendar-1.png
END:VEVENT
BEGIN:VEVENT
DTSTART;TZID=UTC:20230915T160000
DTEND;TZID=UTC:20230915T200000
DTSTAMP:20260422T215112
CREATED:20230828T070436Z
LAST-MODIFIED:20230829T041904Z
UID:10000044-1694793600-1694808000@www.europeanbusinessreview.com
SUMMARY:Nyenrode Business Universiteit - Experience Evening | Executive MBA
DESCRIPTION:
URL:https://www.europeanbusinessreview.com/event/experience-evening-executive-mba/
LOCATION:Nyenrode Business Universiteit – Breukelen\, Nyenrode Business Universiteit - Breukelen Straatweg 25 3621 BG Breukelen
CATEGORIES:Executive Education Calendar
ATTACH;FMTTYPE=image/png:https://www.europeanbusinessreview.com/wp-content/uploads/2023/08/Executive-Education-Calendar-1.png
ORGANIZER;CN="Nyenrode Business Universiteit":MAILTO:c.paulusma@nyenrode.nl
END:VEVENT
BEGIN:VEVENT
DTSTART;TZID=UTC:20230914T160000
DTEND;TZID=UTC:20230914T170000
DTSTAMP:20260422T215112
CREATED:20230828T070144Z
LAST-MODIFIED:20230829T041839Z
UID:10000043-1694707200-1694710800@www.europeanbusinessreview.com
SUMMARY:Rotterdam School of Management\, Erasmus University - Online Q&A Session: (Global) Executive MBA Programme
DESCRIPTION:
URL:https://www.europeanbusinessreview.com/event/online-qa-session-global-executive-mba-programme/
LOCATION:Online Event
CATEGORIES:Executive Education Calendar
ATTACH;FMTTYPE=image/png:https://www.europeanbusinessreview.com/wp-content/uploads/2023/08/Executive-Education-Calendar-1.png
END:VEVENT
BEGIN:VEVENT
DTSTART;VALUE=DATE:20230914
DTEND;VALUE=DATE:20230918
DTSTAMP:20260422T215112
CREATED:20230901T052351Z
LAST-MODIFIED:20230904T142650Z
UID:10000050-1694649600-1694995199@www.europeanbusinessreview.com
SUMMARY:Chicago Booth School of Business - Entrepreneurship Through Acquisition (ETA) Masterclass - London
DESCRIPTION:This masterclass offering is a collaboration between the University of Chicago’s Booth School of Business London Campus and the Polsky Center for Entrepreneurship and Innovation.
URL:https://www.europeanbusinessreview.com/event/chicago-booth-school-of-business-entrepreneurship-through-acquisition-eta-masterclass-london/
LOCATION:University of Chicago Booth\, Robert Rothman\, ’77\, London Campus One Bartholomew Close Barts Square London\, LND EC1A 7BL\, London\, United Kingdom
CATEGORIES:Executive Education Calendar
ATTACH;FMTTYPE=image/png:https://www.europeanbusinessreview.com/wp-content/uploads/2023/09/ETA-Masterclass-London-Email-Header-1200-x-500-px.png
ORGANIZER;CN="University of Chicago Booth":MAILTO:europe.inquiries@chicagobooth.edu
END:VEVENT
BEGIN:VEVENT
DTSTART;TZID=UTC:20230909T103000
DTEND;TZID=UTC:20230909T171500
DTSTAMP:20260422T215112
CREATED:20230828T065644Z
LAST-MODIFIED:20230828T065644Z
UID:10000041-1694255400-1694279700@www.europeanbusinessreview.com
SUMMARY:CEIBS Global EMBA Immersive Experience
DESCRIPTION:
URL:https://www.europeanbusinessreview.com/event/ceibs-global-emba-immersive-experience/
LOCATION:CEIBS Shanghai Campus\, CEIBS Shanghai Campus (No. 699 Hongfeng Road)\, Shanghai\, China
CATEGORIES:Executive Education Calendar
ATTACH;FMTTYPE=image/png:https://www.europeanbusinessreview.com/wp-content/uploads/2023/08/Executive-Education-Calendar-1.png
ORGANIZER;CN="CEIBS":MAILTO:info@ceibs.edu
END:VEVENT
BEGIN:VEVENT
DTSTART;TZID=UTC:20230908T140000
DTEND;TZID=UTC:20230908T180000
DTSTAMP:20260422T215112
CREATED:20230828T065110Z
LAST-MODIFIED:20230829T041811Z
UID:10000040-1694181600-1694196000@www.europeanbusinessreview.com
SUMMARY:ESMT Open House - Degree Programs
DESCRIPTION:
URL:https://www.europeanbusinessreview.com/event/open-house-degree-programs/
LOCATION:ESMT\, ESMT Berlin\, Schlossplatz 1\, 10178\, Berlin\, Germany\, Berlin\, Berlin\, 10178\, Germany
CATEGORIES:Executive Education Calendar
ATTACH;FMTTYPE=image/png:https://www.europeanbusinessreview.com/wp-content/uploads/2023/08/Executive-Education-Calendar-1.png
END:VEVENT
BEGIN:VEVENT
DTSTART;TZID=UTC:20230907T183000
DTEND;TZID=UTC:20230907T220000
DTSTAMP:20260422T215112
CREATED:20230828T064722Z
LAST-MODIFIED:20230829T041740Z
UID:10000039-1694111400-1694124000@www.europeanbusinessreview.com
SUMMARY:INSEAD - Open Day with Faculty Masterclass
DESCRIPTION:
URL:https://www.europeanbusinessreview.com/event/open-day-with-faculty-masterclass/
LOCATION:INSEAD Asia Campus\, 1 Ayer Rajah Avenue\, Singapore 138676\, Singapore\, Singapore\, 138676
CATEGORIES:Executive Education Calendar
ATTACH;FMTTYPE=image/png:https://www.europeanbusinessreview.com/wp-content/uploads/2023/08/Executive-Education-Calendar-1.png
END:VEVENT
BEGIN:VEVENT
DTSTART;TZID=UTC:20230906T173000
DTEND;TZID=UTC:20230906T180000
DTSTAMP:20260422T215112
CREATED:20230828T063130Z
LAST-MODIFIED:20230829T041707Z
UID:10000037-1694021400-1694023200@www.europeanbusinessreview.com
SUMMARY:Kozminski University - Executive MBA in English - Information Session Online - September
DESCRIPTION:
URL:https://www.europeanbusinessreview.com/event/executive-mba-in-english-information-session-online-september/
LOCATION:Online Event
CATEGORIES:Executive Education Calendar
ATTACH;FMTTYPE=image/png:https://www.europeanbusinessreview.com/wp-content/uploads/2023/08/Executive-Education-Calendar-1.png
ORGANIZER;CN="Kozminski University":MAILTO:amarciniuk@kozminski.edu.pl
END:VEVENT
BEGIN:VEVENT
DTSTART;TZID=UTC:20230906T120000
DTEND;TZID=UTC:20230906T130000
DTSTAMP:20260422T215112
CREATED:20230828T063824Z
LAST-MODIFIED:20230829T042031Z
UID:10000038-1694001600-1694005200@www.europeanbusinessreview.com
SUMMARY:Stephen M. Ross School of Business - Executive MBA Virtual Information Session
DESCRIPTION:
URL:https://www.europeanbusinessreview.com/event/executive-mba-virtual-information-session-stephen-m-ross-school-of-business/
LOCATION:Online Event
CATEGORIES:Executive Education Calendar
ATTACH;FMTTYPE=image/png:https://www.europeanbusinessreview.com/wp-content/uploads/2023/08/Executive-Education-Calendar-1.png
END:VEVENT
BEGIN:VEVENT
DTSTART;TZID=America/Halifax:20230805T103000
DTEND;TZID=America/Halifax:20230805T160000
DTSTAMP:20260422T215112
CREATED:20230823T131712Z
LAST-MODIFIED:20230825T143514Z
UID:10000034-1691231400-1691251200@www.europeanbusinessreview.com
SUMMARY:The Wharton School of the University of Pennsylvania Campus Visit Program
DESCRIPTION:
URL:https://www.europeanbusinessreview.com/event/the-wharton-school-of-the-university-of-pennsylvania-campus-visit-program/2023-08-05/
LOCATION:Vance Hall\, 3733 Spruce St\, Suite 111\, Philadelphia\, PA\, PA\, 19104\, United States
CATEGORIES:Executive Education Calendar
ATTACH;FMTTYPE=image/png:https://www.europeanbusinessreview.com/wp-content/uploads/2023/08/Executive-Education-Calendar.png
ORGANIZER;CN="Wharton MBA Admissions":MAILTO:mbaevents@wharton.upenn.edu
END:VEVENT
BEGIN:VEVENT
DTSTART;TZID=UTC:20230221T100000
DTEND;TZID=UTC:20230221T110000
DTSTAMP:20260422T215112
CREATED:20231220T000018Z
LAST-MODIFIED:20231220T000018Z
UID:10000097-1676973600-1676977200@www.europeanbusinessreview.com
SUMMARY:University of Bath School of Management - Social Media and Ethics
DESCRIPTION:This is the latest in the series of regular free webinars from the UK Research Integrity Office on research integrity and related issues. \nResearch using social media data presents several ethical issues that researchers must navigate to ensure the responsible and respectful use of this data. Some of the primary ethical issues in research using social media includes privacy and informed consent\, anonymity and confidentiality\, data ownership and terms of use\, ethical use of algorithms and AI\, sensitive topics and vulnerable populations\, consent and minors\, deception and online identity\, unintended consequences\, and transparency and reproducibility. \nThis webinar discusses these ethical concerns that require a combination of thoughtful consideration\, adherence to research guidelines\, and engagement with relevant stakeholders\, including social media platforms and users. \nGo to top
URL:https://www.europeanbusinessreview.com/event/university-of-bath-school-of-management-social-media-and-ethics/
LOCATION:Online Event
CATEGORIES:Executive Education Calendar
ATTACH;FMTTYPE=image/png:https://www.europeanbusinessreview.com/wp-content/uploads/2023/12/Executive-Education-Calendar-1.png
END:VEVENT
BEGIN:VEVENT
DTSTART;TZID=Europe/London:20230206T130000
DTEND;TZID=Europe/London:20230206T140000
DTSTAMP:20260422T215112
CREATED:20231219T234801Z
LAST-MODIFIED:20231219T235139Z
UID:10000095-1675688400-1675692000@www.europeanbusinessreview.com
SUMMARY:Vlerick Business School - Info Session Executive Education & MBA Programmes
DESCRIPTION:Curious to discover the Vlerick programme offering? During an online Info Session on our executive education and our MBA programmes\, you can find out what we can do for your career and how our management programmes can help with your current and future professional challenges.  \n\n\n\n\n\n\n\n\nRegister here: https://www.vlerick.com/en/events/info-session-executive-education-mba-programmes/register/\n\n\n\n\n\nGo to top
URL:https://www.europeanbusinessreview.com/event/vlerick-business-school-info-session-executive-education-mba-programmes-4/
LOCATION:Online Event
CATEGORIES:Executive Education Calendar
ATTACH;FMTTYPE=image/png:https://www.europeanbusinessreview.com/wp-content/uploads/2023/12/Executive-Education-Calendar-1.png
ORGANIZER;CN="Vlerick Business School":MAILTO:PROGRAMMEADVISOR@VLERICK.COM
END:VEVENT
BEGIN:VEVENT
DTSTART;TZID=Europe/London:20230127T100000
DTEND;TZID=Europe/London:20230127T140000
DTSTAMP:20260422T215112
CREATED:20231219T234409Z
LAST-MODIFIED:20231219T234409Z
UID:10000094-1674813600-1674828000@www.europeanbusinessreview.com
SUMMARY:Henley Business School - Executive MBA Preview Day
DESCRIPTION:Come and join Henley’s outstanding faculty and recruitment team at our riverside Greenlands campus\, in the UK for an Executive MBA Preview Day. You will get the chance to experience a taste of the Henley Executive MBA experience first-hand. \n\n\nRegister now: https://www.henley.ac.uk/forms/mba-event-booking\n\n\nGo to top
URL:https://www.europeanbusinessreview.com/event/henley-business-school-executive-mba-preview-day/
LOCATION:Henley Business School\, Greenlands\, Henley-on-Thames RG9 3AU\, United Kingdom\, London\, RG9 3AU\, United Kingdom
CATEGORIES:Executive Education Calendar
ATTACH;FMTTYPE=image/png:https://www.europeanbusinessreview.com/wp-content/uploads/2023/12/Executive-Education-Calendar-1.png
END:VEVENT
END:VCALENDAR