BEGIN:VCALENDAR
VERSION:2.0
PRODID:-//The European Business Review - ECPv6.13.0//NONSGML v1.0//EN
CALSCALE:GREGORIAN
METHOD:PUBLISH
X-ORIGINAL-URL:https://www.europeanbusinessreview.com
X-WR-CALDESC:Events for The European Business Review
REFRESH-INTERVAL;VALUE=DURATION:PT1H
X-Robots-Tag:noindex
X-PUBLISHED-TTL:PT1H
BEGIN:VTIMEZONE
TZID:UTC
BEGIN:STANDARD
TZOFFSETFROM:+0000
TZOFFSETTO:+0000
TZNAME:UTC
DTSTART:20250101T000000
END:STANDARD
END:VTIMEZONE
BEGIN:VEVENT
DTSTART;VALUE=DATE:20250702
DTEND;VALUE=DATE:20250703
DTSTAMP:20260421T001620
CREATED:20250620T044203Z
LAST-MODIFIED:20250620T065459Z
UID:10000536-1751414400-1751500799@www.europeanbusinessreview.com
SUMMARY:From Aspiration to Impact: Leading the Future with SDA Bocconi
DESCRIPTION:Start Date: 2 July 2025\nDuration: 19:00 – 20:00 CEST\nLocation: SDA Bocconi (Via Sarfatti\, 10 – Milano) and online\nRead more here: https://view.infounibocconi.it/\nContact: md@sdabocconi.it\n\nJoin us and explore the Executive MBA—a program designed for experienced professionals who want to strengthen their skills\, expand their vision\, and grow as leaders without interrupting their professional path. \nThis is more than just an event—it’s a chance to connect with the people who shape the EMBA experience. You will meet the Academic Director and the Guidance & Recruitment team\, who will personally guide you through the program’s unique structure and share their insights. Whether you are considering the Modular format (delivered entirely in English) or the Weekend format (bilingual\, in Italian and English)\, the session will help you understand if the program aligns with your goals. \nAdding a personal perspective\, an Executive MBA alumnus will also be present to share his experience—offering key takeaways into how the master has shaped his career path and leadership development. \nJoin us to discover how the EMBA can empower you to lead transformation—within your organization and beyond. \nRegister here! \nGo to top
URL:https://www.europeanbusinessreview.com/event/from-aspiration-to-impact-leading-the-future-with-sda-bocconi/
LOCATION:SDA Bocconi\, 10 Via Sarfatti\, Milan\, Milan\, Italy
CATEGORIES:Executive Education Calendar
ATTACH;FMTTYPE=image/jpeg:https://www.europeanbusinessreview.com/wp-content/uploads/2024/10/Executive-Education.jpg
ORGANIZER;CN="SDA Bocconi":MAILTO:info@sdabocconi.it
END:VEVENT
BEGIN:VEVENT
DTSTART;VALUE=DATE:20250711
DTEND;VALUE=DATE:20250712
DTSTAMP:20260421T001620
CREATED:20250702T152349Z
LAST-MODIFIED:20250703T104256Z
UID:10000541-1752192000-1752278399@www.europeanbusinessreview.com
SUMMARY:EMBA Roundtable: Connect with Experts\, Gain Insights & Grow your Network - ESCP
DESCRIPTION:Start Date: July 11\, 2025\nDuration: 10:30 AM – 2:30 PM\nLocation: Berlin – Germany\nRead more here\nContact: info.de@escp.eu\nRegister here\n\nJoin us for an informative morning at ESCP\, where you’ll meet our distinguished faculty\, engage with alumni and current participants\, and connect with our Executive Education advisors. \nHear directly from \n\nProfessor Stefan Schmid\, Local Academic Dean\, Executive MBA\, Berlin Campus\nMaureen Lies Muller\, EMBA Alumna 2024\nAlexandre Devulder\, EMBA Participant 2026\n\nGain an in-depth overview of the ESCP Executive MBA\, ranked 2nd worldwide by the Financial Times. \nWrap up the experience with a networking lunch alongside current EMBA participants. \nExecutive MBA roundtable agenda\n10:00 – 10:30: Accreditation\n10.30 – 13:00 : Executive MBA Roundtable\n13:00 – 14:30 : Networking Aperitif \nGo to top
URL:https://www.europeanbusinessreview.com/event/emba-roundtable-connect-with-experts-gain-insights-grow-your-network-escp/
LOCATION:Berlin – Germany
CATEGORIES:Executive Education Calendar
ATTACH;FMTTYPE=image/jpeg:https://www.europeanbusinessreview.com/wp-content/uploads/2024/10/Executive-Education.jpg
END:VEVENT
BEGIN:VEVENT
DTSTART;VALUE=DATE:20250715
DTEND;VALUE=DATE:20250716
DTSTAMP:20260421T001620
CREATED:20250624T141312Z
LAST-MODIFIED:20250624T141312Z
UID:10000537-1752537600-1752623999@www.europeanbusinessreview.com
SUMMARY:Why Great Leaders Think like Behavioural Scientists - Warwick Business School
DESCRIPTION:Date: Tuesday\, 15 July 2025\nTime: 12:00 – 12:30\nLocation: Online via WBSLive\nContact: aisha.yousuf@wbs.ac.uk\n024 765 73397\nRead more here!\n\nJoin Warwick Business School for a fast-paced 15-minute Lightning Talk led by Edward Gardiner\, Managing Director at CogCo\,  a global organisation using behavioural insights to improve products\, services and campaigns. Edward brings deep expertise in applying behavioural science to strategy\, leadership\, and organisational change—and will explore how these insights can drive smarter decisions and better outcomes. \nThis session is ideal for mid to senior-level professionals looking to apply behavioural insights to challenges in leadership\, policy\, marketing\, HR\, and beyond. \nWhat to Expect:\nDiscover the Science Behind Human Behaviour \nLive Q&A Panel Hear from past participants on how the Behavioural Science in Practice programme has influenced their work: Featurin \n\nChristian Hunt\, Founder of Human Risk Ltd\, a leading voice in ethics\, risk\, and behavioural compliance.\nKatryn Wright\, Managing Director of MoreThanNow\, a behavioural science practice focused on data-driven change in organisations.\n\nWhy This Programme?\nDelivered by leading WBS academics and practitioners from CogCo\, Behavioural Science in Practice blends cutting-edge research with hands-on application. Whether you’re in the public or private sector\, this programme equips you with the tools to drive meaningful change. \n👉 Register now to explore how behavioural science can elevate your leadership and decision-making. \nGo to top
URL:https://www.europeanbusinessreview.com/event/why-great-leaders-think-like-behavioural-scientists-warwick-business-school/
LOCATION:Online via wbsLive
CATEGORIES:Executive Education Calendar
ATTACH;FMTTYPE=image/jpeg:https://www.europeanbusinessreview.com/wp-content/uploads/2024/10/Executive-Education.jpg
END:VEVENT
BEGIN:VEVENT
DTSTART;VALUE=DATE:20250717
DTEND;VALUE=DATE:20250718
DTSTAMP:20260421T001620
CREATED:20250410T151324Z
LAST-MODIFIED:20250701T023014Z
UID:10000513-1752710400-1752796799@www.europeanbusinessreview.com
SUMMARY:The Bath Executive MBA Open House: May 16 & July 17\, 2025
DESCRIPTION:Thursday 17 July 2025 | 17:00 – 19:30 (GMT+1)\n10 East\, School of Management\, University of Bath\n\nJoin us to explore how the Bath Executive MBA can transform your leadership and career. \nDesigned for ambitious professionals\, our innovative\, practice-based curriculum equips you to tackle complex business challenges with confidence and agility. \nOur programme goes beyond business knowledge\, developing executive presence and leadership capabilities to drive transformative change. Through real-world collaboration and hands-on learning\, you’ll gain practical experience that reflects the way modern organisations work. \nWhat to expect:\n\nWelcome & Networking – Meet current EMBA students\, faculty\, and career development experts over refreshments.\nProgramme Overview – Dr Jane Ellis-Brush\, Director of Teaching\, shares insights into our redesigned curriculum\, shaped by industry leaders and alumni.\nSupport & Development – Matt Rusling\, Head of MBA Operations and Careers\, discusses the personal and professional growth opportunities available throughout the programme.\nAdmissions Q&A – Becky Gallagher\, Head of MBA Recruitment and Admissions\, will be available to answer your application queries.\nNetworking Refreshments – Continue conversations and explore your future with the Bath EMBA.\n\nWho should attend?\nThis event is ideal for professionals considering the EMBA or corporate partners looking to develop future leaders. \nRegister now and take the next step in your leadership journey. \nGo to top
URL:https://www.europeanbusinessreview.com/event/the-bath-executive-mba-open-house-may-16-july-17-2025/
LOCATION:10 East\, School of Management\, University of Bath
CATEGORIES:Upcoming EMBA and Executive Education Programmes
ATTACH;FMTTYPE=image/jpeg:https://www.europeanbusinessreview.com/wp-content/uploads/2025/04/European-Business-Review-Open-House.jpg
END:VEVENT
BEGIN:VEVENT
DTSTART;VALUE=DATE:20250717
DTEND;VALUE=DATE:20250718
DTSTAMP:20260421T001620
CREATED:20250624T141822Z
LAST-MODIFIED:20250624T141910Z
UID:10000538-1752710400-1752796799@www.europeanbusinessreview.com
SUMMARY:CORE Presents: The Strategic Mindset of Leadership – Warwick Business School
DESCRIPTION:Date: Thursday\, 17 July 2025\nTime: 12:00 – 12:30\nLocation: Online via WBSLive\nContact: aisha.yousuf@wbs.ac.uk\n024 765 73397\nRead more here!\n\nJoin Warwick Business School for a dynamic 30-minute webinar exploring the Strategic Mindset of Leadership\, hosted by Warren Manger\, Editor of CORE Insights. This session is part of WBS’s Executive Education programme and is designed for mid to senior-level executives seeking to elevate their strategic impact. \nFeatured Speakers:\nKaterina Mouliadou\, Head of Innovation Strategy\, ATS Global \nProfessor Christian Stadler\, Professor of Strategic Management and Forbes contributor\, will draw on his latest work on open strategy and long-term resilience. In a recent Forbes article\, he explored how companies like Amazon and Netflix adapt their strategies across different growth phases\, and how leaders can apply similar thinking to navigate post-Trump trade dynamics and AI disruption \nTogether\, they will unpack: \n\nHow to develop a strategic mindset in uncertain environments\nThe role of paradox thinking in executive decision-making\nLessons from global organisations adapting to political and economic shocks\nPractical tools for embedding strategic foresight into your leadership style\n\nWhether you’re leading transformation\, scaling innovation\, or navigating global complexity\, this session will offer actionable insights to sharpen your strategic edge. \nRegister now to secure your place and gain exclusive access to thought leadership from two of WBS’s most influential voices. \nGo to top
URL:https://www.europeanbusinessreview.com/event/core-presents-the-strategic-mindset-of-leadership-warwick-business-school/
LOCATION:Online via wbsLive
CATEGORIES:Executive Education Calendar
ATTACH;FMTTYPE=image/jpeg:https://www.europeanbusinessreview.com/wp-content/uploads/2024/10/Executive-Education.jpg
END:VEVENT
BEGIN:VEVENT
DTSTART;VALUE=DATE:20250731
DTEND;VALUE=DATE:20250801
DTSTAMP:20260421T001620
CREATED:20250715T084217Z
LAST-MODIFIED:20250716T062452Z
UID:10000558-1753920000-1754006399@www.europeanbusinessreview.com
SUMMARY:EMBA Admissions Day - University of Cologne Business School
DESCRIPTION:Start Date: 31 July 2025\nDuration: 09:00 – 18:00\nLocation: Online\nContact: mba-admissionsSpamProtectionuni-koeln.de\nRead more here!\n\nConcerned about lengthy admission procedures? \nWe have the perfect solution for you: Our exclusive Admissions Day will take place on Thursday\, 31 July 2025. You can choose a date. \nExperience a fast and efficient application day where you’ll receive your admission outcome within just a few hours. From submitting your application to the interview and offer—accomplish it all in a single day. Spaces are limited\, so be sure to secure your spot quickly! \nGo to top
URL:https://www.europeanbusinessreview.com/event/emba-admissions-day-university-of-cologne-business-school/
LOCATION:Online
CATEGORIES:Executive Education Calendar
ATTACH;FMTTYPE=image/jpeg:https://www.europeanbusinessreview.com/wp-content/uploads/2024/10/Executive-Education.jpg
END:VEVENT
END:VCALENDAR