BEGIN:VCALENDAR
VERSION:2.0
PRODID:-//The European Business Review - ECPv6.13.0//NONSGML v1.0//EN
CALSCALE:GREGORIAN
METHOD:PUBLISH
X-WR-CALNAME:The European Business Review
X-ORIGINAL-URL:https://www.europeanbusinessreview.com
X-WR-CALDESC:Events for The European Business Review
REFRESH-INTERVAL;VALUE=DURATION:PT1H
X-Robots-Tag:noindex
X-PUBLISHED-TTL:PT1H
BEGIN:VTIMEZONE
TZID:UTC
BEGIN:STANDARD
TZOFFSETFROM:+0000
TZOFFSETTO:+0000
TZNAME:UTC
DTSTART:20240101T000000
END:STANDARD
END:VTIMEZONE
BEGIN:VEVENT
DTSTART;TZID=UTC:20240703T120000
DTEND;TZID=UTC:20240703T123000
DTSTAMP:20260421T143433
CREATED:20240205T031426Z
LAST-MODIFIED:20240205T031426Z
UID:10000147-1720008000-1720009800@www.europeanbusinessreview.com
SUMMARY:The Cranfield AI Masterclass Series – The Adoption of AI in Strategic Sales and Key Account Management - Cranfield School of Management
DESCRIPTION:Artificial Intelligence (AI) is everywhere – literally and figuratively. Not only is it the hot topic of the moment across media stories\, service delivery products and the world of work\, but it’s also all around us in the tools we use on a daily basis\, including satnav\, voice assistants (such as Siri) and email predictive responses. \nAI is manifesting into our lives at an exponential rate and infiltrating every industry and sector\, with some such as healthcare already successfully utilising AI technology whilst others are only just beginning to grasp what it might mean for the future. \nJoin us for our AI Masterclass Series as we share Cranfield expertise\, harnessing the latest research and thinking on the implications of AI across key aspects of business and industry\, and the risks and opportunities it presents to leaders.
URL:https://www.europeanbusinessreview.com/event/the-cranfield-ai-masterclass-series-the-adoption-of-ai-in-strategic-sales-and-key-account-management-cranfield-school-of-management/
LOCATION:Online Event
CATEGORIES:Executive Education Calendar
ATTACH;FMTTYPE=image/jpeg:https://www.europeanbusinessreview.com/wp-content/uploads/2024/02/Event-Calendar-image-2-WEBINAR-2.jpg
END:VEVENT
END:VCALENDAR