BEGIN:VCALENDAR
VERSION:2.0
PRODID:-//The European Business Review - ECPv6.13.0//NONSGML v1.0//EN
CALSCALE:GREGORIAN
METHOD:PUBLISH
X-WR-CALNAME:The European Business Review
X-ORIGINAL-URL:https://www.europeanbusinessreview.com
X-WR-CALDESC:Events for The European Business Review
REFRESH-INTERVAL;VALUE=DURATION:PT1H
X-Robots-Tag:noindex
X-PUBLISHED-TTL:PT1H
BEGIN:VTIMEZONE
TZID:UTC
BEGIN:STANDARD
TZOFFSETFROM:+0000
TZOFFSETTO:+0000
TZNAME:UTC
DTSTART:20240101T000000
END:STANDARD
END:VTIMEZONE
BEGIN:VEVENT
DTSTART;TZID=UTC:20240409T140000
DTEND;TZID=UTC:20240409T190000
DTSTAMP:20260422T012227
CREATED:20240320T021631Z
LAST-MODIFIED:20240320T021631Z
UID:10000161-1712671200-1712689200@www.europeanbusinessreview.com
SUMMARY:Virtual Open House - Audencia International
DESCRIPTION:Save the date! Audencia invites you to discover its various programs taught in English! Talk to our program directors\, students\, alumni and international admissions team on Tuesday\, April 9\, 2024 from 14:00 to 19:00 (CEST – France time)! \nThe Audencia Virtual Open House is your opportunity to ask questions and find out everything you need to know about program content\, eligibility requirements\, scholarships\, career opportunities and the international student experience at Audencia Business School. It provides a platform for you to gather all the information you need! \nDrop in at any time and participate in the webinars that interest you throughout the day. Receive tailored guidance from our international admissions counselors and create your unique Virtual Open House experience. \nJoin us for a series of webinars: \n\nInternational Admissions: Creating a Successful Application (3:00pm)\nExploring the Student Experience at Audencia Business School (4:00pm)\nStarting Your Career With Audencia Business School (5:00pm)\nApplying for Scholarships: Tips & Advice (6:00pm)\n\nWe look forward to connecting with you! \nRegister here: https://audenciainternational.online/
URL:https://www.europeanbusinessreview.com/event/virtual-open-house-audencia-international/
LOCATION:Online Event
CATEGORIES:Executive Education Calendar
ATTACH;FMTTYPE=image/jpeg:https://www.europeanbusinessreview.com/wp-content/uploads/2024/03/Event-Calendar-image-1-3.jpg
END:VEVENT
END:VCALENDAR