BEGIN:VCALENDAR
VERSION:2.0
PRODID:-//The European Business Review - ECPv6.13.0//NONSGML v1.0//EN
CALSCALE:GREGORIAN
METHOD:PUBLISH
X-ORIGINAL-URL:https://www.europeanbusinessreview.com
X-WR-CALDESC:Events for The European Business Review
REFRESH-INTERVAL;VALUE=DURATION:PT1H
X-Robots-Tag:noindex
X-PUBLISHED-TTL:PT1H
BEGIN:VTIMEZONE
TZID:UTC
BEGIN:STANDARD
TZOFFSETFROM:+0000
TZOFFSETTO:+0000
TZNAME:UTC
DTSTART:20240101T000000
END:STANDARD
END:VTIMEZONE
BEGIN:VTIMEZONE
TZID:Asia/Singapore
BEGIN:STANDARD
TZOFFSETFROM:+0800
TZOFFSETTO:+0800
TZNAME:+08
DTSTART:20240101T000000
END:STANDARD
END:VTIMEZONE
BEGIN:VEVENT
DTSTART;TZID=UTC:20240402T120000
DTEND;TZID=UTC:20240402T130000
DTSTAMP:20260421T221452
CREATED:20240320T021414Z
LAST-MODIFIED:20240320T021414Z
UID:10000160-1712059200-1712062800@www.europeanbusinessreview.com
SUMMARY:Women and the MBA - Rice University: Jones
DESCRIPTION:Hear from a panel of Rice alumni and students on “why an MBA”? Join us. Have your questions answered.\n\n\n\nRegister here: https://apply.business.rice.edu/register/?id=1e4f1778-9b0d-4f09-bc2b-54ed44b9c4c5
URL:https://www.europeanbusinessreview.com/event/women-and-the-mba-rice-university-jones/
LOCATION:Online Event
CATEGORIES:Executive Education Calendar
ATTACH;FMTTYPE=image/jpeg:https://www.europeanbusinessreview.com/wp-content/uploads/2024/03/Event-Calendar-image-1-3.jpg
END:VEVENT
BEGIN:VEVENT
DTSTART;VALUE=DATE:20240403
DTEND;VALUE=DATE:20240404
DTSTAMP:20260421T221452
CREATED:20240202T083556Z
LAST-MODIFIED:20240202T083556Z
UID:10000125-1712102400-1712188799@www.europeanbusinessreview.com
SUMMARY:Marketing & Sales Innovation Conference and Awards - The University of Tennessee Knoxville
DESCRIPTION:The inaugural Marketing and Sales Innovation Conference and Awards unites professionals in any stage of their career to explore new ideas.
URL:https://www.europeanbusinessreview.com/event/marketing-sales-innovation-conference-and-awards-the-university-of-tennessee-knoxville/
LOCATION:University of Tennessee Knoxville\, University of Tennessee Student Union and Neyland Stadium Knoxville\, TN\, Tennessee\, TN\, United States
CATEGORIES:Executive Education Calendar
ATTACH;FMTTYPE=image/jpeg:https://www.europeanbusinessreview.com/wp-content/uploads/2024/02/Event-Calendar-image-2-WEBINAR-2.jpg
END:VEVENT
BEGIN:VEVENT
DTSTART;TZID=Asia/Singapore:20240404T182000
DTEND;TZID=Asia/Singapore:20240404T220000
DTSTAMP:20260421T221452
CREATED:20240202T083837Z
LAST-MODIFIED:20240328T062017Z
UID:10000126-1712254800-1712268000@www.europeanbusinessreview.com
SUMMARY:Open Day with Faculty Masterclass - INSEAD
DESCRIPTION:You are warmly invited to attend our upcoming INSEAD Open Day with Faculty Masterclass in Singapore to learn more about the INSEAD Master Programmes. Our Recruitment team will provide insights into the curriculum\, admissions process and career opportunities. You will also have the opportunity to have your questions answered during the Q&A session and interact with alumni/current students during a networking reception. Please register to confirm your participation. \nMasterclass Topic: To be confirmed \nAgenda \n\n6:00 pm: Registrations & Refreshments\n6:20 pm – 7:00 pm: Optional Campus Tours\n7:00 pm – 8:00 pm: Faculty Masterclass | Topic to be confirmed\n8:00 pm – 9:00 pm: Programme Introductions + Alumni Panel\n9:00 pm-10:00 pm: Networking Cocktail\n\nRegister here: https://event.insead.edu/0o178p77/5a2K3X5IWM3/cart-v2
URL:https://www.europeanbusinessreview.com/event/open-day-with-faculty-masterclass-insead/
LOCATION:INSEAD Asia Campus\, 1 Ayer Rajah Avenue\, Singapore 138676\, Singapore\, Singapore\, 138676
CATEGORIES:Executive Education Calendar
ATTACH;FMTTYPE=image/jpeg:https://www.europeanbusinessreview.com/wp-content/uploads/2024/02/Event-Calendar-image-1.jpg
END:VEVENT
END:VCALENDAR