BEGIN:VCALENDAR
VERSION:2.0
PRODID:-//The European Business Review - ECPv6.13.0//NONSGML v1.0//EN
CALSCALE:GREGORIAN
METHOD:PUBLISH
X-WR-CALNAME:The European Business Review
X-ORIGINAL-URL:https://www.europeanbusinessreview.com
X-WR-CALDESC:Events for The European Business Review
REFRESH-INTERVAL;VALUE=DURATION:PT1H
X-Robots-Tag:noindex
X-PUBLISHED-TTL:PT1H
BEGIN:VTIMEZONE
TZID:UTC
BEGIN:STANDARD
TZOFFSETFROM:+0000
TZOFFSETTO:+0000
TZNAME:UTC
DTSTART:20240101T000000
END:STANDARD
END:VTIMEZONE
BEGIN:VEVENT
DTSTART;TZID=UTC:20240312T171500
DTEND;TZID=UTC:20240312T184500
DTSTAMP:20260421T235057
CREATED:20240116T133848Z
LAST-MODIFIED:20240117T085023Z
UID:10000121-1710263700-1710269100@www.europeanbusinessreview.com
SUMMARY:Do androids dream: the future of AI in the workplace - University of Cambridge Judge Business School
DESCRIPTION:Join us for the evening of discussion as we delve into the dynamic landscape of artificial intelligence (AI) in the workplace at our exclusive Executive MBA panel event. Hear from our alumni who work in different sectors\, how AI is impacting their work and how they are using these new tools to create competitive advantage for themselves and their organisations. \nYou will also have a chance to hear from our alumni about their experience of the programme and how they have used their studies in their career to date. After the panel discussion there will be a Q&A session to ask the panel any questions you may have.
URL:https://www.europeanbusinessreview.com/event/do-androids-dream-the-future-of-ai-in-the-workplace-university-of-cambridge-judge-business-school/
LOCATION:Online Event
CATEGORIES:Executive Education Calendar
ATTACH;FMTTYPE=image/jpeg:https://www.europeanbusinessreview.com/wp-content/uploads/2024/01/Event-Calendar-image-2-WEBINAR.jpg
END:VEVENT
BEGIN:VEVENT
DTSTART;TZID=UTC:20240313T021500
DTEND;TZID=UTC:20240313T031500
DTSTAMP:20260421T235057
CREATED:20240227T014941Z
LAST-MODIFIED:20240227T014941Z
UID:10000154-1710296100-1710299700@www.europeanbusinessreview.com
SUMMARY:Executive MBA Conference "Making networking worthwhile: Tips & takeaways - Kedge Business School
DESCRIPTION:“Your Network is your Net Worth” says Porter Gale. Regardless of where you are in your professional career\, creating and maintaining meaningful connections can add satisfaction\, create opportunities\, and empower you to achieve your goals. This lecture will provide easily actionable tools for networking and highlight the benefits of investing in your personal network.\nThe topics covered include:\n\nWhy is networking important?How to build your network (in-person and virtually)How to maintain your networkNetworking internationally\nTips for leveraging your network for professional success\n\n\nRegister here: https://www.eventbrite.fr/e/emba-conference-making-networking-worthwhile-tips-takeways-tickets-839957895677?aff=invitation&utm_source=sfmc&utm_medium=email&utm_campaign=Invitation+conf%c3%a9rence+EMBA+12+03+2024&utm_term=Lien+inscription&utm_id=316876&sfmc_id=17645562
URL:https://www.europeanbusinessreview.com/event/executive-mba-conference-making-networking-worthwhile-tips-takeaways-kedge-business-school/
LOCATION:KEDGE Business School\, 40\, Avenue des Terroirs de France\, Paris\, Île-de-France\, FR\, 75012 Auditorium - 2nd floor\, Paris\, 75012\, France
CATEGORIES:Executive Education Calendar
ATTACH;FMTTYPE=image/jpeg:https://www.europeanbusinessreview.com/wp-content/uploads/2024/02/Event-Calendar-image-1-2.jpg
END:VEVENT
END:VCALENDAR