BEGIN:VCALENDAR
VERSION:2.0
PRODID:-//The European Business Review - ECPv6.13.0//NONSGML v1.0//EN
CALSCALE:GREGORIAN
METHOD:PUBLISH
X-ORIGINAL-URL:https://www.europeanbusinessreview.com
X-WR-CALDESC:Events for The European Business Review
REFRESH-INTERVAL;VALUE=DURATION:PT1H
X-Robots-Tag:noindex
X-PUBLISHED-TTL:PT1H
BEGIN:VTIMEZONE
TZID:UTC
BEGIN:STANDARD
TZOFFSETFROM:+0000
TZOFFSETTO:+0000
TZNAME:UTC
DTSTART:20240101T000000
END:STANDARD
END:VTIMEZONE
BEGIN:VEVENT
DTSTART;TZID=UTC:20240308T090000
DTEND;TZID=UTC:20240308T090000
DTSTAMP:20260421T235259
CREATED:20240116T132341Z
LAST-MODIFIED:20240117T084737Z
UID:10000118-1709888400-1709888400@www.europeanbusinessreview.com
SUMMARY:MBA Masterclass: Brand Building and Performance Marketing: The Organisational Chicken and Egg - University of Bath School of Management
DESCRIPTION:Associate Professor Diane-Laure Arjales will present\, ‘Let’s go to the Land instead: indigenous perspectives on biodiversity and the possibilities of regenerative capital.’ This paper was written in collaboration with Bobby Banerjee\, Professor of Management\, Bayes Business School.
URL:https://www.europeanbusinessreview.com/event/mba-masterclass-brand-building-and-performance-marketing-the-organisational-chicken-and-egg-university-of-bath-school-of-management/
LOCATION:Online Event
CATEGORIES:Executive Education Calendar
ATTACH;FMTTYPE=image/jpeg:https://www.europeanbusinessreview.com/wp-content/uploads/2024/01/Event-Calendar-image-2-WEBINAR.jpg
END:VEVENT
BEGIN:VEVENT
DTSTART;TZID=UTC:20240308T090000
DTEND;TZID=UTC:20240308T100000
DTSTAMP:20260421T235259
CREATED:20240222T082819Z
LAST-MODIFIED:20240222T105946Z
UID:10000150-1709888400-1709892000@www.europeanbusinessreview.com
SUMMARY:The Bath MBA Masterclass with Associate Professor Kim Watts
DESCRIPTION:Join Kim Watts\, Associate Professor in Contemporary Marketing Theory and Application as we explore the delicate balance between brand building and performance marketing. \nFriday 8 March 2024 \n09:00 – 10:00 (GMT) Find out what time this is in your time zone. \nRegister to attend \nIn today’s fast-paced market\, companies will often prioritise performance marketing and immediate sales activation. Marketers\, especially in the digital realm\, might find themselves caught in a cycle that sacrifices long-term brand growth for short-term wins. But how do we break the cycle and what comes first? \nDelve into the delicate balance between brand building and performance marketing\, in our exclusive MBA Masterclass\, hosted by Kim Watts\, Associate Professor at the University of Bath School of Management on Friday 8 March 09:00 (GMT). \nDrawing from Field and Benet’s ground-breaking insights in ‘The Long and The Short of It’ we will explore strategies that will help you to: \n· Shed light on the critical need to strike a balance \n· Meet increasing business demands \n· Cultivate a sustainable pipeline for future growth \nRegister now \nSecure your spot for this insightful discussion\, where you’ll uncover actionable insights to strike the ideal balance between immediate sales activation and cultivating a lasting brand presence.
URL:https://www.europeanbusinessreview.com/event/the-bath-mba-masterclass-with-associate-professor-kim-watts/
LOCATION:Online Event
CATEGORIES:Executive Education Calendar
ATTACH;FMTTYPE=image/png:https://www.europeanbusinessreview.com/wp-content/uploads/2024/02/horizontal-masterclass-kim.png
END:VEVENT
END:VCALENDAR