BEGIN:VCALENDAR
VERSION:2.0
PRODID:-//The European Business Review - ECPv6.13.0//NONSGML v1.0//EN
CALSCALE:GREGORIAN
METHOD:PUBLISH
X-ORIGINAL-URL:https://www.europeanbusinessreview.com
X-WR-CALDESC:Events for The European Business Review
REFRESH-INTERVAL;VALUE=DURATION:PT1H
X-Robots-Tag:noindex
X-PUBLISHED-TTL:PT1H
BEGIN:VTIMEZONE
TZID:Europe/London
BEGIN:DAYLIGHT
TZOFFSETFROM:+0000
TZOFFSETTO:+0100
TZNAME:BST
DTSTART:20240331T010000
END:DAYLIGHT
BEGIN:STANDARD
TZOFFSETFROM:+0100
TZOFFSETTO:+0000
TZNAME:GMT
DTSTART:20241027T010000
END:STANDARD
END:VTIMEZONE
BEGIN:VTIMEZONE
TZID:UTC
BEGIN:STANDARD
TZOFFSETFROM:+0000
TZOFFSETTO:+0000
TZNAME:UTC
DTSTART:20240101T000000
END:STANDARD
END:VTIMEZONE
BEGIN:VEVENT
DTSTART;TZID=Europe/London:20240201T170000
DTEND;TZID=Europe/London:20240201T183000
DTSTAMP:20260421T204912
CREATED:20240116T124204Z
LAST-MODIFIED:20240117T084000Z
UID:10000106-1706806800-1706812200@www.europeanbusinessreview.com
SUMMARY:Capitalism and Crises: Can Accounting and Reporting Fix Them? - University of Oxford: Saïd Business School
DESCRIPTION:A panel discussion on the role of accounting and reporting in addressing issues about the impact of business on the environment and society.\n\nThe event will begin with a presentation by Professor Colin Mayer\, emeritus professor and former Dean of Saïd Business School on his recently published book Capitalism and Crises: How to Fix Them. \nThis will be followed by a special panel discussion on the role that accounting and reporting can play in addressing current issues and concerns about the impact of business and investment on the environment and society.   \nIt will then feature a panel of leading academics\, practitioners and policymakers chaired by Professor Robert Eccles\, Visiting Professor of Management Practice at Said Business School to discuss the issues.  
URL:https://www.europeanbusinessreview.com/event/capitalism-and-crises-can-accounting-and-reporting-fix-them-university-of-oxford-said-business-school/
LOCATION:University of Oxford: Saïd
CATEGORIES:Executive Education Calendar
ATTACH;FMTTYPE=image/jpeg:https://www.europeanbusinessreview.com/wp-content/uploads/2024/01/Event-Calendar-image-2-WEBINAR.jpg
ORGANIZER;CN="University of Oxford%3A Sa%C3%AFd":MAILTO:oxfordmba@sbs.ox.ac.uk
END:VEVENT
BEGIN:VEVENT
DTSTART;TZID=UTC:20240201T190000
DTEND;TZID=UTC:20240201T210000
DTSTAMP:20260421T204912
CREATED:20240116T122920Z
LAST-MODIFIED:20240117T083702Z
UID:10000104-1706814000-1706821200@www.europeanbusinessreview.com
SUMMARY:Women in Leadership Virtual Event 2024 - ESMT Berlin
DESCRIPTION:Join this online event to learn more about practical solutions\, tips and tricks around the topic of female leadership. Get answers to the questions above and many more during the next edition of our Women in Leadership event\, where you will learn from experts across academia and business.
URL:https://www.europeanbusinessreview.com/event/women-in-leadership-virtual-event-2024-esmt-berlin/
LOCATION:Online Event
CATEGORIES:Executive Education Calendar
ATTACH;FMTTYPE=image/jpeg:https://www.europeanbusinessreview.com/wp-content/uploads/2024/01/Event-Calendar-image-2-WEBINAR.jpg
END:VEVENT
END:VCALENDAR