BEGIN:VCALENDAR
VERSION:2.0
PRODID:-//The European Business Review - ECPv6.13.0//NONSGML v1.0//EN
CALSCALE:GREGORIAN
METHOD:PUBLISH
X-WR-CALNAME:The European Business Review
X-ORIGINAL-URL:https://www.europeanbusinessreview.com
X-WR-CALDESC:Events for The European Business Review
REFRESH-INTERVAL;VALUE=DURATION:PT1H
X-Robots-Tag:noindex
X-PUBLISHED-TTL:PT1H
BEGIN:VTIMEZONE
TZID:UTC
BEGIN:STANDARD
TZOFFSETFROM:+0000
TZOFFSETTO:+0000
TZNAME:UTC
DTSTART:20240101T000000
END:STANDARD
END:VTIMEZONE
BEGIN:VEVENT
DTSTART;TZID=UTC:20241101T000000
DTEND;TZID=UTC:20241115T000000
DTSTAMP:20260420T094036
CREATED:20241016T124338Z
LAST-MODIFIED:20241016T152626Z
UID:10000344-1730419200-1731628800@www.europeanbusinessreview.com
SUMMARY:Executive MBA - Solvay Lifelong Learning
DESCRIPTION:Experience a transformative learning journey at Solvay Brussels School\, characterised by a progressive structure. Begin with essential management concepts\, advance to leadership essentials\, and culminate in leading transformation. Progression through the programme will enable you to embody the change you seek\, establishing a robust leadership foundation. In the final phase\, apply theory to actual business scenarios\, engaging in case studies\, simulations\, and real-world projects that bridge theoretical concepts with practical business applications. \n\nStart Date: November 1 2024\nRead more here: https://exed.solvay.edu/en/executive-education/general-management/executive-mba\nContact: benoit.masset@solvay.edu
URL:https://www.europeanbusinessreview.com/event/executive-mba-solvay-lifelong-learning/
LOCATION:Solvay Lifelong Learning\, Solvay Lifelong Learning\, Avenue F.D. Roosevelt 42\, 1050 Brussels\, Belgium
CATEGORIES:Executive Education Calendar,Upcoming EMBA and Executive Education Programmes
ATTACH;FMTTYPE=image/jpeg:https://www.europeanbusinessreview.com/wp-content/uploads/2024/10/Executive-Education-UPCOMING-COURSES.jpg
END:VEVENT
BEGIN:VEVENT
DTSTART;TZID=UTC:20241106T000000
DTEND;TZID=UTC:20241106T000000
DTSTAMP:20260420T094036
CREATED:20241017T090027Z
LAST-MODIFIED:20241018T062756Z
UID:10000366-1730851200-1730851200@www.europeanbusinessreview.com
SUMMARY:Becoming a More Digitally Savvy Board Member - MIT Sloan
DESCRIPTION:Course Highlights\n\nInteractive application-focused program delivered over three days leveraging MIT faculty\, guest speakers\, case studies\, and application exercises while providing ample opportunities for networking with peers\nThe course will help individual board directors and/or small teams from management boards increase their digital savviness and have more productive discussions around the opportunities and threats of the digital economy\nYou will earn a certificate of completion from the MIT Sloan School of Management\n\nWhy attend Becoming a More Digitally Savvy Board Member?\nDigital transformation involves rethinking how technology can be used to improve business models\, value proposition\, customer experience\, operational efficiency\, and more. This means innovating to deliver enhanced products\, services\, and customer engagement\, but also means having a board of directors that is digitally conversant. \nFindings from recent MIT research show that board members who understand the impact of emerging technologies on business success are helping companies outperform competitors. Having a digitally savvy board is the new financial performance differentiator. Digitally savvy boards help their companies move forward at a sufficient pace\, advocating for change by supporting and sometimes nudging their CEOs. \nConversely\, when a board lacks digital savviness\, it can’t get a handle on important elements of strategy and oversight\, and thus can’t play its critical role of helping guide the company to a successful future. \nStart Dates: \n\nNovember 6-8\, 2024\nApril 3-5\, 2025\n\nRead more here: https://executive.mit.edu/course/becoming-a-more-digitally-savvy-board-member/a056g00000WV2TMAA1.html \nContact:\nMeg Regan\nManaging Director\, Company Specific Programs APAC and Digital Transformation\nLecturer\, Work and Organization Studies\nMIT Sloan School of Management\nmaregan@mit.edu \nGo to top
URL:https://www.europeanbusinessreview.com/event/becoming-a-more-digitally-savvy-board-member/
LOCATION:Cambridge\, MA
CATEGORIES:Executive Education Calendar,Upcoming EMBA and Executive Education Programmes
ATTACH;FMTTYPE=image/jpeg:https://www.europeanbusinessreview.com/wp-content/uploads/2024/10/Executive-Education-UPCOMING-COURSES.jpg
END:VEVENT
END:VCALENDAR