BEGIN:VCALENDAR
VERSION:2.0
PRODID:-//The European Business Review - ECPv6.13.0//NONSGML v1.0//EN
CALSCALE:GREGORIAN
METHOD:PUBLISH
X-WR-CALNAME:The European Business Review
X-ORIGINAL-URL:https://www.europeanbusinessreview.com
X-WR-CALDESC:Events for The European Business Review
REFRESH-INTERVAL;VALUE=DURATION:PT1H
X-Robots-Tag:noindex
X-PUBLISHED-TTL:PT1H
BEGIN:VTIMEZONE
TZID:UTC
BEGIN:STANDARD
TZOFFSETFROM:+0000
TZOFFSETTO:+0000
TZNAME:UTC
DTSTART:20240101T000000
END:STANDARD
END:VTIMEZONE
BEGIN:VEVENT
DTSTART;TZID=UTC:20241001T000000
DTEND;TZID=UTC:20241016T111400
DTSTAMP:20260420T142832
CREATED:20241016T111404Z
LAST-MODIFIED:20241017T061822Z
UID:10000341-1727740800-1729077240@www.europeanbusinessreview.com
SUMMARY:Executive MBA - Emlyon Business School
DESCRIPTION:The Executive Master Business Administration program enables validation of the “Dirigeant d’Entreprise” professional certification\, level 7\, awarded by emlyon business school and registered with the RNCP under number 35160\, on 16/12/2020. \nKey figures for 2023-2024 : \n\nNet promoter score: 55\nParticipant satisfaction (course): 4.7/5\nSuccess rate: 96% (February 2024 jury)\nNumber of participants in year 2 in 2023-24: 95\n\nProgram proposed for the 2023-2024 academic year. It is possible to validate this Executive MBA by blocks of competences: for more information\, please contact our Recruitment Manager. \nThe program’s evaluation methods can take the form of case studies\, simulations\, presentations\, exams\, etc. The personnel involved in the program are qualified in accordance with the regulatory texts. \n\nStart Date:\nRead more here: https://executive.em-lyon.com/index.php/en/Programmes/Degrees/EMBA-Executive-MBA\nContact: exec_mba@eml-executive.com
URL:https://www.europeanbusinessreview.com/event/executive-mba-emlyon-business-school/
LOCATION:EMLYON\, France
CATEGORIES:Executive Education Calendar,Upcoming EMBA and Executive Education Programmes
ATTACH;FMTTYPE=image/jpeg:https://www.europeanbusinessreview.com/wp-content/uploads/2024/10/Executive-Education-UPCOMING-COURSES.jpg
END:VEVENT
BEGIN:VEVENT
DTSTART;TZID=UTC:20241016T080000
DTEND;TZID=UTC:20241016T170000
DTSTAMP:20260420T142832
CREATED:20241016T125515Z
LAST-MODIFIED:20241017T061947Z
UID:10000345-1729065600-1729098000@www.europeanbusinessreview.com
SUMMARY:Executive Master in Business Administration EMBA - IESE Business School
DESCRIPTION:IESE EMBA\n\nThe IESE Executive MBA is an intense journey of personal and professional transformation that prepares you for the challenges of today’s interconnected\, global business world. \nIf you are a self-starter who wants to transcend your limitations and make a real impact on the world\, you are an ideal candidate for the IESE Executive MBA. Will you be our next success story? \n\nStart Date: October 17 2024\nRead more here: https://www.iese.edu/executive-mba/\nContact: https://www.iese.edu/contact-us/\n\nGo to top
URL:https://www.europeanbusinessreview.com/event/executive-master-in-business-administration-emba-iese-business-school/
LOCATION:IESE North Barcelona Campus\, LOCATION Barcelona North Campus Arnús i Gari 3-7\, 08034\, Barcelona\, ES\, Barcelona\, Spain
CATEGORIES:Executive Education Calendar,Upcoming EMBA and Executive Education Programmes
ATTACH;FMTTYPE=image/jpeg:https://www.europeanbusinessreview.com/wp-content/uploads/2024/10/Executive-Education-UPCOMING-COURSES.jpg
END:VEVENT
BEGIN:VEVENT
DTSTART;TZID=UTC:20241016T144756
DTEND;TZID=UTC:20241016T144756
DTSTAMP:20260420T142832
CREATED:20241016T144756Z
LAST-MODIFIED:20241017T062031Z
UID:10000361-1729090076-1729090076@www.europeanbusinessreview.com
SUMMARY:EMBA Online (Blended) - ESADE University
DESCRIPTION:Designed for maximum flexibility\, this format blends live online classes on Friday or Saturday afternoons (European time) – led but Esade professors – with four residential modules on our Barcelona and Madrid campuses\, a total of 400 contact hours. There are also three International Immersion Weeks (two of them optional). \n\nDate Start: October 18 2024\nRead more here: https://www.esade.edu/mba/en/programmes/executive-mba/formats/emba-on-line-blended\nContact: emba@esade.edu
URL:https://www.europeanbusinessreview.com/event/emba-online-blended-esade-university/2024-10-16/
LOCATION:Online
CATEGORIES:Executive Education Calendar,Upcoming EMBA and Executive Education Programmes
ATTACH;FMTTYPE=image/jpeg:https://www.europeanbusinessreview.com/wp-content/uploads/2024/10/Executive-Education-UPCOMING-COURSES.jpg
END:VEVENT
END:VCALENDAR