BEGIN:VCALENDAR
VERSION:2.0
PRODID:-//The European Business Review - ECPv6.13.0//NONSGML v1.0//EN
CALSCALE:GREGORIAN
METHOD:PUBLISH
X-WR-CALNAME:The European Business Review
X-ORIGINAL-URL:https://www.europeanbusinessreview.com
X-WR-CALDESC:Events for The European Business Review
REFRESH-INTERVAL;VALUE=DURATION:PT1H
X-Robots-Tag:noindex
X-PUBLISHED-TTL:PT1H
BEGIN:VTIMEZONE
TZID:UTC
BEGIN:STANDARD
TZOFFSETFROM:+0000
TZOFFSETTO:+0000
TZNAME:UTC
DTSTART:20240101T000000
END:STANDARD
END:VTIMEZONE
BEGIN:VEVENT
DTSTART;TZID=UTC:20241024T140000
DTEND;TZID=UTC:20241024T210000
DTSTAMP:20260421T093744
CREATED:20240829T121259Z
LAST-MODIFIED:20240829T134331Z
UID:10000225-1729778400-1729803600@www.europeanbusinessreview.com
SUMMARY:emba eXplore Offline Hike
DESCRIPTION:Join the unique emba eXplore Offline Hike taking place on October 24th\, 2024\, starting at 2pm (CEST) at Säntis followed by a cozy apéro at restaurant Schwägalp and organised by emba X\, the Executive MBA programme presented jointly by ETH Zurich and the University of St.Gallen.   \nThe rapid advancement of digital technologies in this century has profoundly impacted human life and nature. Constant access to the internet and smart devices has led to nearly uninterrupted availability. This shift presents both opportunities and complexities. \nThe emba eXplore Offline Hike is a way to experience one of the key themes of the Executive MBA ETH HSG first hand: mental and physical health. During the hike\, you’ll get input on how to mitigate the impact of digital overload and improve your well-being\, encouraging a healthy engagement with technology that can be integrated into both your personal and professional life.  \nRetreat from business as usual and tap into nature’s cycles of life. \nAre you ready to (re)learn? \nThe workshop will be led by Linda Meixner\, social entrepreneur\, founder of the Offline Institute and digital balance researcher\, and Christoph Matt\, eco-social designer and interdisciplinary facilitator specialising in sustainability\, design\, visual arts and posthumanism. \nContact details: Teyuna Giger\, embax@unisg.ch\, +41 71 224 77 65 \nGo to top
URL:https://www.europeanbusinessreview.com/event/emba-explore-offline-hike/
LOCATION:Säntis Cable Car Valley Station (Schwägalp 791\, 9107 Schwägalp)
CATEGORIES:Executive Education Calendar
ATTACH;FMTTYPE=image/jpeg:https://www.europeanbusinessreview.com/wp-content/uploads/2024/08/eXplore-1.jpg
END:VEVENT
BEGIN:VEVENT
DTSTART;TZID=UTC:20241024T200000
DTEND;TZID=UTC:20241026T050000
DTSTAMP:20260421T093744
CREATED:20240819T132842Z
LAST-MODIFIED:20241015T085411Z
UID:10000216-1729800000-1729918800@www.europeanbusinessreview.com
SUMMARY:Duke University and the Duke Sanford School of Public Policy - Duke Cybersecurity Conference
DESCRIPTION:The Cybersecurity at Duke Conference is an annual event that brings together key players and thought leaders in cybersecurity\, information technology\, technology policy\, and legal and regulatory experts interested in advancing cybersecurity practice and innovation.\n  \nMore information here: https://sanford.duke.edu/event/duke-cybersecurity-conference/
URL:https://www.europeanbusinessreview.com/event/duke-university-and-the-duke-sanford-school-of-public-policy-duke-cybersecurity-conference/
LOCATION:Duke University and the Duke Sanford School of Public Policy\, 201 Science Drive Durham\, NC 27708
CATEGORIES:Executive Education Calendar
ATTACH;FMTTYPE=image/jpeg:https://www.europeanbusinessreview.com/wp-content/uploads/2024/08/Executive-Education-VIRTUAL.jpg
END:VEVENT
END:VCALENDAR