BEGIN:VCALENDAR
VERSION:2.0
PRODID:-//The European Business Review - ECPv6.13.0//NONSGML v1.0//EN
CALSCALE:GREGORIAN
METHOD:PUBLISH
X-WR-CALNAME:The European Business Review
X-ORIGINAL-URL:https://www.europeanbusinessreview.com
X-WR-CALDESC:Events for The European Business Review
REFRESH-INTERVAL;VALUE=DURATION:PT1H
X-Robots-Tag:noindex
X-PUBLISHED-TTL:PT1H
BEGIN:VTIMEZONE
TZID:UTC
BEGIN:STANDARD
TZOFFSETFROM:+0000
TZOFFSETTO:+0000
TZNAME:UTC
DTSTART:20240101T000000
END:STANDARD
END:VTIMEZONE
BEGIN:VEVENT
DTSTART;VALUE=DATE:20240503
DTEND;VALUE=DATE:20240504
DTSTAMP:20260421T130548
CREATED:20240116T131558Z
LAST-MODIFIED:20240117T084613Z
UID:10000115-1714694400-1714780799@www.europeanbusinessreview.com
SUMMARY:Management Conference - University of Chicago Booth
DESCRIPTION:The 71st Annual Management Conference will be held May 3\, 2024 in Chicago.  \nThe conference brings professionals together to discuss the most pressing issues in business today through the lens of rigorous inquiry\, and a desire to find better solutions and turn business challenges into opportunities. \nThis year’s conference will feature an extraordinary lineup of business leaders and faculty\, including a keynote conversation between Anil Kashyap\, The Stevens Distinguished Service Professor of Economics and Finance\, and Paul Singer\, founder\, president\, co-chief executive officer\, and co-chief investment officer of Elliott Investment Management L.P. \nRegister here for Management Conference 2024.
URL:https://www.europeanbusinessreview.com/event/management-conference-university-of-chicago-booth/
LOCATION:Chicago
CATEGORIES:Executive Education Calendar
ATTACH;FMTTYPE=image/jpeg:https://www.europeanbusinessreview.com/wp-content/uploads/2024/01/Event-Calendar-image-2-WEBINAR.jpg
ORGANIZER;CN="University of Chicago Booth":MAILTO:europe.inquiries@chicagobooth.edu
END:VEVENT
END:VCALENDAR