BEGIN:VCALENDAR
VERSION:2.0
PRODID:-//The European Business Review - ECPv6.13.0//NONSGML v1.0//EN
CALSCALE:GREGORIAN
METHOD:PUBLISH
X-WR-CALNAME:The European Business Review
X-ORIGINAL-URL:https://www.europeanbusinessreview.com
X-WR-CALDESC:Events for The European Business Review
REFRESH-INTERVAL;VALUE=DURATION:PT1H
X-Robots-Tag:noindex
X-PUBLISHED-TTL:PT1H
BEGIN:VTIMEZONE
TZID:UTC
BEGIN:STANDARD
TZOFFSETFROM:+0000
TZOFFSETTO:+0000
TZNAME:UTC
DTSTART:20240101T000000
END:STANDARD
END:VTIMEZONE
BEGIN:VEVENT
DTSTART;TZID=UTC:20240425T140000
DTEND;TZID=UTC:20240425T210000
DTSTAMP:20260421T144150
CREATED:20240202T090323Z
LAST-MODIFIED:20240202T090633Z
UID:10000134-1714053600-1714078800@www.europeanbusinessreview.com
SUMMARY:2024 Digital Finance Conference - Vlerick Business School
DESCRIPTION:Join the fourth edition of our Digital Finance Conference – and join the revolution in financial leadership. \nTo succeed\, today’s finance leaders need so much more than financial know-how. They need to be able to see the big picture\, to anticipate and respond to trends and phenomena like (Gen)AI\, climate change\, investor negotiations and the war for talent. \nJoin us to delve into these subjects – and look towards a future where success isn’t simply achieved\, it’s sustained. \nRegister here: https://www.vlerick.com/en/events/2024-digital-finance-conference/register/
URL:https://www.europeanbusinessreview.com/event/2024-digital-finance-conference-vlerick-business-school/
CATEGORIES:Executive Education Calendar
ATTACH;FMTTYPE=image/jpeg:https://www.europeanbusinessreview.com/wp-content/uploads/2024/02/Event-Calendar-image-2-WEBINAR-2.jpg
ORGANIZER;CN="Vlerick Business School":MAILTO:PROGRAMMEADVISOR@VLERICK.COM
END:VEVENT
BEGIN:VEVENT
DTSTART;TZID=UTC:20240425T180000
DTEND;TZID=UTC:20240425T200000
DTSTAMP:20260421T144150
CREATED:20240320T023212Z
LAST-MODIFIED:20240320T023212Z
UID:10000166-1714068000-1714075200@www.europeanbusinessreview.com
SUMMARY:7 Misconceptions about Entrepreneurship - ESSEC Business School
DESCRIPTION:Have you ever wondered what truly defines entrepreneurship? \nBrilliant idea\, fundraising\, risk seekers: these are just three of the many misconceptions that circulate about entrepreneurship\, fueled by the media focus on a few statistical outliers. In this talk\, we will debunk some of those misconceptions and explore how entrepreneurs go about different shades of entrepreneurial endeavors. \nRegister here: https://info.essec.edu/EEE-EEE-SMR-20240425-Masterclass-Yann-Cramer-Entrepreneurship_01RegistrationPage.html?utm_source=website&utm_medium=event_site&utm_campaign=EEE-EEE-SMR-20240425-Masterclass-Yann
URL:https://www.europeanbusinessreview.com/event/7-misconceptions-about-entrepreneurship-essec-business-school/
LOCATION:ESSEC Business School\, 2 Place de la Défense\, 92800 Paris\, Paris\, 92800\, France
CATEGORIES:Executive Education Calendar
ATTACH;FMTTYPE=image/jpeg:https://www.europeanbusinessreview.com/wp-content/uploads/2024/03/Event-Calendar-image-1-3.jpg
END:VEVENT
END:VCALENDAR