BEGIN:VCALENDAR
VERSION:2.0
PRODID:-//The European Business Review - ECPv6.13.0//NONSGML v1.0//EN
CALSCALE:GREGORIAN
METHOD:PUBLISH
X-WR-CALNAME:The European Business Review
X-ORIGINAL-URL:https://www.europeanbusinessreview.com
X-WR-CALDESC:Events for The European Business Review
REFRESH-INTERVAL;VALUE=DURATION:PT1H
X-Robots-Tag:noindex
X-PUBLISHED-TTL:PT1H
BEGIN:VTIMEZONE
TZID:UTC
BEGIN:STANDARD
TZOFFSETFROM:+0000
TZOFFSETTO:+0000
TZNAME:UTC
DTSTART:20240101T000000
END:STANDARD
END:VTIMEZONE
BEGIN:VEVENT
DTSTART;TZID=UTC:20240420T090000
DTEND;TZID=UTC:20240420T140000
DTSTAMP:20260421T144152
CREATED:20240320T023018Z
LAST-MODIFIED:20240320T023018Z
UID:10000165-1713603600-1713621600@www.europeanbusinessreview.com
SUMMARY:Executive MBA Open Day - Esade
DESCRIPTION:At Esade we use diverse and innovative methodologies so that our participants get the most out of the Executive MBA. Now\, we want you to experience it first-hand. \nAGENDA \n9:00h Registration and welcome\n9:15h Program presentation by Prof. Katharine D’Amico (Academic Director of Executive MBA Programs)\n9:45h MasterClass\n11:15h Coffee Break\n11:45h LEAD program at The Esade Executive MBA (Leadership Development) by Executive Coach\n12:30h Pathways to Success: Executive Alumni Tips for the Future\n13:15h Networking cocktail with Esade Alumni and Admissions team\n14:00h Closing
URL:https://www.europeanbusinessreview.com/event/executive-mba-open-day-esade/
LOCATION:Esade Barcelona Campus\, Av. d'Esplugues\, 92\, 96\, Les Corts\, 08034 Barcelona\, Spain
CATEGORIES:Executive Education Calendar
ATTACH;FMTTYPE=image/jpeg:https://www.europeanbusinessreview.com/wp-content/uploads/2024/03/Event-Calendar-image-1-3.jpg
END:VEVENT
END:VCALENDAR