BEGIN:VCALENDAR
VERSION:2.0
PRODID:-//The European Business Review - ECPv6.13.0//NONSGML v1.0//EN
CALSCALE:GREGORIAN
METHOD:PUBLISH
X-ORIGINAL-URL:https://www.europeanbusinessreview.com
X-WR-CALDESC:Events for The European Business Review
REFRESH-INTERVAL;VALUE=DURATION:PT1H
X-Robots-Tag:noindex
X-PUBLISHED-TTL:PT1H
BEGIN:VTIMEZONE
TZID:UTC
BEGIN:STANDARD
TZOFFSETFROM:+0000
TZOFFSETTO:+0000
TZNAME:UTC
DTSTART:20240101T000000
END:STANDARD
END:VTIMEZONE
BEGIN:VEVENT
DTSTART;TZID=UTC:20240415T120000
DTEND;TZID=UTC:20240415T134500
DTSTAMP:20260421T144249
CREATED:20240202T084604Z
LAST-MODIFIED:20240202T084604Z
UID:10000127-1713182400-1713188700@www.europeanbusinessreview.com
SUMMARY:Strategic Communication Management in Times of Automation and Artificial Intelligence (AI) - BI Norwegian Business School
DESCRIPTION:In this session we discuss the implications of AI for professional roles and responsibilities in strategic communication. We explore AI and related phenomena and showcase examples of how AI is currently being used in the field. \nFurther we discuss what current trends in AI mean for the structure of the profession\, including how the role of the communication function and professional will be re-shaped as many of the operational tasks in communication are automated and ‘infused’ with AI. \nFinally\, we delve into the active ethical guardian role that communicators need to take at an organizational level\, serving as the conscience of the wider organization in an age of AI.
URL:https://www.europeanbusinessreview.com/event/strategic-communication-management-in-times-of-automation-and-artificial-intelligence-ai-bi-norwegian-business-school/
LOCATION:BI Norwegian Business School\, BI - campus Oslo\, Room C2-055\, Oslo\, Norway
CATEGORIES:Executive Education Calendar
ATTACH;FMTTYPE=image/jpeg:https://www.europeanbusinessreview.com/wp-content/uploads/2024/02/Event-Calendar-image-2-WEBINAR-2.jpg
END:VEVENT
END:VCALENDAR