BEGIN:VCALENDAR
VERSION:2.0
PRODID:-//The European Business Review - ECPv6.13.0//NONSGML v1.0//EN
CALSCALE:GREGORIAN
METHOD:PUBLISH
X-WR-CALNAME:The European Business Review
X-ORIGINAL-URL:https://www.europeanbusinessreview.com
X-WR-CALDESC:Events for The European Business Review
REFRESH-INTERVAL;VALUE=DURATION:PT1H
X-Robots-Tag:noindex
X-PUBLISHED-TTL:PT1H
BEGIN:VTIMEZONE
TZID:UTC
BEGIN:STANDARD
TZOFFSETFROM:+0000
TZOFFSETTO:+0000
TZNAME:UTC
DTSTART:20240101T000000
END:STANDARD
END:VTIMEZONE
BEGIN:VTIMEZONE
TZID:UTC
BEGIN:STANDARD
TZOFFSETFROM:+0000
TZOFFSETTO:+0000
TZNAME:UTC
DTSTART:20240101T000000
END:STANDARD
END:VTIMEZONE
BEGIN:VTIMEZONE
TZID:Europe/London
BEGIN:DAYLIGHT
TZOFFSETFROM:+0000
TZOFFSETTO:+0100
TZNAME:BST
DTSTART:20240331T010000
END:DAYLIGHT
BEGIN:STANDARD
TZOFFSETFROM:+0100
TZOFFSETTO:+0000
TZNAME:GMT
DTSTART:20241027T010000
END:STANDARD
END:VTIMEZONE
BEGIN:VEVENT
DTSTART;TZID=UTC:20240206T120000
DTEND;TZID=UTC:20240206T130000
DTSTAMP:20260421T222946
CREATED:20231016T061103Z
LAST-MODIFIED:20231016T061103Z
UID:10000066-1707220800-1707224400@www.europeanbusinessreview.com
SUMMARY:Vlerick Business School - Info Session Executive Education & MBA Programmes
DESCRIPTION:
URL:https://www.europeanbusinessreview.com/event/vlerick-business-school-info-session-executive-education-mba-programmes-3/
LOCATION:Online Event
CATEGORIES:Executive Education Calendar
ATTACH;FMTTYPE=image/png:https://www.europeanbusinessreview.com/wp-content/uploads/2023/10/Executive-Education-Calendar.png
ORGANIZER;CN="Vlerick Business School":MAILTO:PROGRAMMEADVISOR@VLERICK.COM
END:VEVENT
BEGIN:VEVENT
DTSTART;TZID=UTC:20240206T124500
DTEND;TZID=UTC:20240206T134500
DTSTAMP:20260421T222946
CREATED:20240116T125914Z
LAST-MODIFIED:20240117T084314Z
UID:10000111-1707223500-1707227100@www.europeanbusinessreview.com
SUMMARY:V-Entrepreneurs Talks - How Not to Mess Up Internationally - Vlerick Business School
DESCRIPTION:You have a business that’s working brilliantly in your domestic market – so you decide to scale up internationally. What could possibly go wrong? In this webinar\, Professor Esha Mendiratta will share her knowledge on internationalisation. And experienced scale-up founder Maxim Sergeant will share his mistakes and the lessons learned
URL:https://www.europeanbusinessreview.com/event/v-entrepreneurs-talks-how-not-to-mess-up-internationally-vlerick-business-school/
LOCATION:Online Event
CATEGORIES:Executive Education Calendar
ATTACH;FMTTYPE=image/jpeg:https://www.europeanbusinessreview.com/wp-content/uploads/2024/01/Event-Calendar-image-2-WEBINAR.jpg
ORGANIZER;CN="Vlerick Business School":MAILTO:PROGRAMMEADVISOR@VLERICK.COM
END:VEVENT
BEGIN:VEVENT
DTSTART;TZID=UTC:20240206T160000
DTEND;TZID=UTC:20240206T170000
DTSTAMP:20260421T222946
CREATED:20240116T125049Z
LAST-MODIFIED:20240117T084145Z
UID:10000109-1707235200-1707238800@www.europeanbusinessreview.com
SUMMARY:Boundary Cases in Stakeholder Theory - University of Oxford: Saïd Business School
DESCRIPTION:Scholarly\, political\, and practical interest in responsible business is resurgent. As the debates over responsible business have ebbed and flowed over the decades\, novel terminology has emerged…and dissolved (CSR\, ESG\, license to operate\, etc.\, etc.). Stakeholder theory\, in contrast\, has continued its steady growth in both adherents and critics as well as its theoretical coherence and usefulness. Developmental disagreements about the proper application context and boundary conditions of the theory have been part of this on-going process of conceptual refinement. Advancing this refinement exercise\, this lecture will consider how\, if at all\, stakeholder theory responds to calls for the more explicit and direct inclusion of 1) non-human nature and 2) victims of exploitation and human rights violations. We will also examine the viability and pragmatic coherence of “instrumental” stakeholder theory as a delimiting boundary condition.
URL:https://www.europeanbusinessreview.com/event/boundary-cases-in-stakeholder-theory/
LOCATION:Online Event
CATEGORIES:Executive Education Calendar
ATTACH;FMTTYPE=image/jpeg:https://www.europeanbusinessreview.com/wp-content/uploads/2024/01/Event-Calendar-image-2-WEBINAR.jpg
ORGANIZER;CN="University of Oxford%3A Sa%C3%AFd":MAILTO:oxfordmba@sbs.ox.ac.uk
END:VEVENT
BEGIN:VEVENT
DTSTART;TZID=Europe/London:20240206T180000
DTEND;TZID=Europe/London:20240206T200000
DTSTAMP:20260421T222946
CREATED:20240116T133618Z
LAST-MODIFIED:20240117T084917Z
UID:10000120-1707242400-1707249600@www.europeanbusinessreview.com
SUMMARY:It’s all green to me: the profitability of sustainability - University of Cambridge Judge Business School
DESCRIPTION:Join Professor Khaled Soufani\, Director of the Circular Economy Centre and Director of the Cambridge Executive MBA\, for an evening of discussion at Cambridge Judge Business School as industry leaders explore the intersection of sustainability and profitability. Discover how businesses can thrive financially while making a positive impact on the environment. \nProfessor Soufani and his fellow alumni panellists will explore the future of environmental\, social and governance (ESG) in the workplace as well as its potential to increase growth in organisations.
URL:https://www.europeanbusinessreview.com/event/its-all-green-to-me-the-profitability-of-sustainability-university-of-cambridge-judge-business-school/
LOCATION:University of Cambridge Judge Business School\, Trumpington St Cambridge CB2 1AG\, Cambridge\, United Kingdom
CATEGORIES:Executive Education Calendar
ATTACH;FMTTYPE=image/jpeg:https://www.europeanbusinessreview.com/wp-content/uploads/2024/01/Event-Calendar-image-2-WEBINAR.jpg
END:VEVENT
END:VCALENDAR