BEGIN:VCALENDAR
VERSION:2.0
PRODID:-//The European Business Review - ECPv6.13.0//NONSGML v1.0//EN
CALSCALE:GREGORIAN
METHOD:PUBLISH
X-WR-CALNAME:The European Business Review
X-ORIGINAL-URL:https://www.europeanbusinessreview.com
X-WR-CALDESC:Events for The European Business Review
REFRESH-INTERVAL;VALUE=DURATION:PT1H
X-Robots-Tag:noindex
X-PUBLISHED-TTL:PT1H
BEGIN:VTIMEZONE
TZID:UTC
BEGIN:STANDARD
TZOFFSETFROM:+0000
TZOFFSETTO:+0000
TZNAME:UTC
DTSTART:20240101T000000
END:STANDARD
END:VTIMEZONE
BEGIN:VEVENT
DTSTART;TZID=UTC:20240122T160000
DTEND;TZID=UTC:20240122T170000
DTSTAMP:20260421T221506
CREATED:20240116T130855Z
LAST-MODIFIED:20240117T084540Z
UID:10000114-1705939200-1705942800@www.europeanbusinessreview.com
SUMMARY:Customs and Supply Chain Compliance Webinar: EU Deforestation Regulation: Impact on Customs - Rotterdam School of Management Erasmus University
DESCRIPTION:Join Prof. Albert Veenstra for an insightful webinar on “EU Deforestation Regulation: Impact on Customs.” Explore the latest developments in EU legislation and uncover the consequential shifts for customs procedures. This webinar serves as a prelude to our nine-day Diploma Programme in Customs and Supply Chain Compliance. \nDesigned by RSM Executive Education\, this intensive program equips you with expertise in EU customs law\, auditing\, IT\, logistics\, and supply chain management. \nBe at the forefront of industry compliance—learn how to lead in Customs and Supply Chain Compliance. \nRegister now to embark on a transformative journey and connect with industry peers!
URL:https://www.europeanbusinessreview.com/event/customs-and-supply-chain-compliance-webinar-eu-deforestation-regulation-impact-on-customs-rotterdam-school-of-management-erasmus-university/
LOCATION:Online Event
CATEGORIES:Executive Education Calendar
ATTACH;FMTTYPE=image/jpeg:https://www.europeanbusinessreview.com/wp-content/uploads/2024/01/Event-Calendar-image-2-WEBINAR.jpg
END:VEVENT
END:VCALENDAR