BEGIN:VCALENDAR
VERSION:2.0
PRODID:-//The European Business Review - ECPv6.13.0//NONSGML v1.0//EN
CALSCALE:GREGORIAN
METHOD:PUBLISH
X-WR-CALNAME:The European Business Review
X-ORIGINAL-URL:https://www.europeanbusinessreview.com
X-WR-CALDESC:Events for The European Business Review
REFRESH-INTERVAL;VALUE=DURATION:PT1H
X-Robots-Tag:noindex
X-PUBLISHED-TTL:PT1H
BEGIN:VTIMEZONE
TZID:UTC
BEGIN:STANDARD
TZOFFSETFROM:+0000
TZOFFSETTO:+0000
TZNAME:UTC
DTSTART:20240101T000000
END:STANDARD
END:VTIMEZONE
BEGIN:VEVENT
DTSTART;TZID=UTC:20240111T080000
DTEND;TZID=UTC:20240111T170000
DTSTAMP:20260421T221507
CREATED:20231016T060012Z
LAST-MODIFIED:20231016T060012Z
UID:10000062-1704960000-1704992400@www.europeanbusinessreview.com
SUMMARY:Skema Business School - Towards an Ethics by Design in AI?
DESCRIPTION:
URL:https://www.europeanbusinessreview.com/event/skema-business-school-towards-an-ethics-by-design-in-ai/
LOCATION:Skema Business School Grand Paris
CATEGORIES:Executive Education Calendar
ATTACH;FMTTYPE=image/png:https://www.europeanbusinessreview.com/wp-content/uploads/2023/10/Executive-Education-Calendar.png
ORGANIZER;CN="Skema Business School":MAILTO:margherita.pagani@skema.edu
END:VEVENT
END:VCALENDAR