BEGIN:VCALENDAR
VERSION:2.0
PRODID:-//The European Business Review - ECPv6.13.0//NONSGML v1.0//EN
CALSCALE:GREGORIAN
METHOD:PUBLISH
X-ORIGINAL-URL:https://www.europeanbusinessreview.com
X-WR-CALDESC:Events for The European Business Review
REFRESH-INTERVAL;VALUE=DURATION:PT1H
X-Robots-Tag:noindex
X-PUBLISHED-TTL:PT1H
BEGIN:VTIMEZONE
TZID:UTC
BEGIN:STANDARD
TZOFFSETFROM:+0000
TZOFFSETTO:+0000
TZNAME:UTC
DTSTART:20230101T000000
END:STANDARD
END:VTIMEZONE
BEGIN:VEVENT
DTSTART;VALUE=DATE:20231206
DTEND;VALUE=DATE:20231209
DTSTAMP:20260422T000527
CREATED:20231030T161824Z
LAST-MODIFIED:20231031T040333Z
UID:10000073-1701820800-1702079999@www.europeanbusinessreview.com
SUMMARY:ESMT - Women's Leadership Excellence
DESCRIPTION:This program is about the excellence women bring to leadership. Maximize your and your team’s impact and learn how to overcome bias\, strengthen your leadership talent\, and evaluate your career options. Learn how to emphasize both your self-development and that of others in a supportive and collaborative environment. \nYour Profile \n\nYou are a female leader or executive with responsibility for a team(s) or large projects \nYou are a senior expert leading global projects or teams in the transition to a senior leadership position \nYou are an outstanding female leader in other areas \n\nProgram Highlights \n\nLearn how to leverage your own authentic female leadership excellence \nGain clarity on your next career move and the steps towards the next level of leadership \nBecome a change maker and foster a more inclusive workplace at your organization \n\n Topics \n\nDebunking leadership myths \nPromoting yourself and others \n\n\nMaximizing your impact \nRemaining authentic to your inner leadership style \nThe relative importance of mentors\, coaches\, sponsors\, and networks for female leaders \nCreating presence and charisma \nCommunicating with clarity and flair \n\nContact: bd@esmt.org / +49 30 21231 1490 \nURL: https://esmt.berlin/execed/open-programs/leadership/womens-leadership-excellence
URL:https://www.europeanbusinessreview.com/event/esmt-womens-leadership-excellence-2/
LOCATION:ESMT\, ESMT Berlin\, Schlossplatz 1\, 10178\, Berlin\, Germany\, Berlin\, Berlin\, 10178\, Germany
CATEGORIES:Executive Education Calendar
ATTACH;FMTTYPE=image/jpeg:https://www.europeanbusinessreview.com/wp-content/uploads/2023/10/ESMT-Womens-Leadership-Excellence.jpg
END:VEVENT
BEGIN:VEVENT
DTSTART;TZID=UTC:20231206T080000
DTEND;TZID=UTC:20231206T170000
DTSTAMP:20260422T000527
CREATED:20230918T110249Z
LAST-MODIFIED:20230918T110249Z
UID:10000059-1701849600-1701882000@www.europeanbusinessreview.com
SUMMARY:Essec Business School - Access MBA
DESCRIPTION:
URL:https://www.europeanbusinessreview.com/event/essec-business-school-access-mba/
LOCATION:Sheraton Riyadh Hotel & Towers\, King Abdullah Road\, Junction Of King Fahad And\, Riyadh\, Saudi Arabia
CATEGORIES:Executive Education Calendar
ATTACH;FMTTYPE=image/png:https://www.europeanbusinessreview.com/wp-content/uploads/2023/09/Executive-Education-Calendar-1.png
END:VEVENT
END:VCALENDAR