BEGIN:VCALENDAR
VERSION:2.0
PRODID:-//The European Business Review - ECPv6.13.0//NONSGML v1.0//EN
CALSCALE:GREGORIAN
METHOD:PUBLISH
X-WR-CALNAME:The European Business Review
X-ORIGINAL-URL:https://www.europeanbusinessreview.com
X-WR-CALDESC:Events for The European Business Review
REFRESH-INTERVAL;VALUE=DURATION:PT1H
X-Robots-Tag:noindex
X-PUBLISHED-TTL:PT1H
BEGIN:VTIMEZONE
TZID:UTC
BEGIN:STANDARD
TZOFFSETFROM:+0000
TZOFFSETTO:+0000
TZNAME:UTC
DTSTART:20230101T000000
END:STANDARD
END:VTIMEZONE
BEGIN:VTIMEZONE
TZID:UTC
BEGIN:STANDARD
TZOFFSETFROM:+0000
TZOFFSETTO:+0000
TZNAME:UTC
DTSTART:20230101T000000
END:STANDARD
END:VTIMEZONE
BEGIN:VEVENT
DTSTART;VALUE=DATE:20231002
DTEND;VALUE=DATE:20231004
DTSTAMP:20260422T093525
CREATED:20230524T145228Z
LAST-MODIFIED:20230823T133818Z
UID:10000022-1696204800-1696377599@www.europeanbusinessreview.com
SUMMARY:Reuters Events: ESG Investment North America 2023
DESCRIPTION:Reuters Events: ESG Investment 2023 (2-3 October\, New York) unites 250+ senior decision makers spanning institutional investors\, policymakers\, data providers\, standard setters\, banks\, and businesses to share strategic insight\, case studies and practical solutions\, enabling them to drive the ESG Investment landscape forward. \nGo to top
URL:https://www.europeanbusinessreview.com/event/reuters-events-esg-investment-north-america-2023/
LOCATION:New York\, USA
CATEGORIES:Business Events
ATTACH;FMTTYPE=image/jpeg:https://www.europeanbusinessreview.com/wp-content/uploads/2023/05/2800-ESG-NA-Event-Banners-1200-x-627.jpg
END:VEVENT
BEGIN:VEVENT
DTSTART;VALUE=DATE:20231004
DTEND;VALUE=DATE:20231006
DTSTAMP:20260422T093525
CREATED:20230828T065846Z
LAST-MODIFIED:20230828T065904Z
UID:10000042-1696377600-1696550399@www.europeanbusinessreview.com
SUMMARY:TimeAI Summit
DESCRIPTION:The TimeAI Summit is the World’s Flagship AI conference\, dedicated to showcasing the latest advancements & innovations in AI. It brings together industry leaders\, experts\, and visionaries from around the globe to explore the limitless potential of AI.   \nThis groundbreaking event will take place on October 4-5\, 2023\, at the prestigious Le Meridien Dubai Hotel & Conference Center\, offering a platform for knowledge exchange\, collaboration\, and cutting-edge advancements in AI.  \nVisit us: https://timeaisummit.com/ \nGo to top
URL:https://www.europeanbusinessreview.com/event/timeai-summit/
LOCATION:Le Meridien Dubai Hotel & Conference Center\, Dubai\, United Arab Emirates
CATEGORIES:Business Events
ATTACH;FMTTYPE=image/jpeg:https://www.europeanbusinessreview.com/wp-content/uploads/2023/08/Event-Listing.jpg
END:VEVENT
END:VCALENDAR