BEGIN:VCALENDAR
VERSION:2.0
PRODID:-//The European Business Review - ECPv6.13.0//NONSGML v1.0//EN
CALSCALE:GREGORIAN
METHOD:PUBLISH
X-ORIGINAL-URL:https://www.europeanbusinessreview.com
X-WR-CALDESC:Events for The European Business Review
REFRESH-INTERVAL;VALUE=DURATION:PT1H
X-Robots-Tag:noindex
X-PUBLISHED-TTL:PT1H
BEGIN:VTIMEZONE
TZID:UTC
BEGIN:STANDARD
TZOFFSETFROM:+0000
TZOFFSETTO:+0000
TZNAME:UTC
DTSTART:20230101T000000
END:STANDARD
END:VTIMEZONE
BEGIN:VEVENT
DTSTART;VALUE=DATE:20230320
DTEND;VALUE=DATE:20230323
DTSTAMP:20260422T222549
CREATED:20221105T233141Z
LAST-MODIFIED:20230823T133934Z
UID:10000007-1679270400-1679529599@www.europeanbusinessreview.com
SUMMARY:In-person is back! Join us in Amsterdam for the 2023 European Compliance & Ethics Institute!
DESCRIPTION:Strengthen your compliance and ethics program by attending our 11th annual European Compliance and Ethics Institute\, 20-22 March 2023. We look forward to gathering in Amsterdam to share insights on the unique challenges of European compliance management. Get up to date on the latest best practices and emerging trends from industry leaders while making face-to-face connections with your colleagues from a variety of industries around the world. \n\n\n\n\n\n\n\n\n\n\n\n\nThis 3-day conference offers a broad selection of breakout sessions that will allow you to focus on topics most relevant to your needs. Sessions are categorized by knowledge level – basic\, intermediate\, and advanced – so you can choose the content that will be most beneficial for you. As always\, live Compliance Certification Board (CCB)® continuing education units (CEUs) are available to attendees. \n\n\n\n\n\n\n\n\n\n\n\n\n\nTopics include: \n\nAnti-corruption\nEthical labor issues\nESG\nConflict of interest\nAuditing and monitoring \nInvestigations\nWhistleblowing\nHealthcare compliance\nCompliance leadership and organizational culture\nAI\, automation\, and predictive control\n\n\n\nWho should attend? \n\nCompliance and ethics professionals\nIn-house and outside counsel\nAudit managers/officers\nInformation and privacy officers\nRegulators and other government personnel\nRisk managers\nCorporate executives and leaders\nResearchers and policy makers\nHuman resource managers\n\nGo to top
URL:https://www.europeanbusinessreview.com/event/in-person-is-back-join-us-in-amsterdam-for-the-2023-european-compliance-ethics-institute/
LOCATION:Amsterdam\, Netherlands
CATEGORIES:Business Events
ATTACH;FMTTYPE=image/jpeg:https://www.europeanbusinessreview.com/wp-content/uploads/2022/11/Screen-Shot-2022-11-13-at-19.35.37-1.jpg
END:VEVENT
END:VCALENDAR