BEGIN:VCALENDAR
VERSION:2.0
PRODID:-//The European Business Review - ECPv6.13.0//NONSGML v1.0//EN
CALSCALE:GREGORIAN
METHOD:PUBLISH
X-WR-CALNAME:The European Business Review
X-ORIGINAL-URL:https://www.europeanbusinessreview.com
X-WR-CALDESC:Events for The European Business Review
REFRESH-INTERVAL;VALUE=DURATION:PT1H
X-Robots-Tag:noindex
X-PUBLISHED-TTL:PT1H
BEGIN:VTIMEZONE
TZID:UTC
BEGIN:STANDARD
TZOFFSETFROM:+0000
TZOFFSETTO:+0000
TZNAME:UTC
DTSTART:20220101T000000
END:STANDARD
END:VTIMEZONE
BEGIN:VEVENT
DTSTART;VALUE=DATE:20221130
DTEND;VALUE=DATE:20221202
DTSTAMP:20260423T082429
CREATED:20221030T233046Z
LAST-MODIFIED:20230823T133545Z
UID:10000004-1669766400-1669939199@www.europeanbusinessreview.com
SUMMARY:Reuters NEXT: A NEW VISION FOR A BETTER TOMORROW
DESCRIPTION:New thinking is essential to addressing the critical challenges facing our world today. To build a better world\, we must transform the ways in which we understand business\, policy\, society\, and the environment. Thinkers and doers must come together to share ideas\, collaborate\, and act. \nAt Reuters NEXT (November 30 – December 1\, New York / Live Broadcast)\, world leaders and forward-thinkers will convene to inspire\, create action\, and break news\, accelerating a new approach to the vital challenges facing society today. \nTo find out more: https://events.reutersevents.com/next \nGo to top
URL:https://www.europeanbusinessreview.com/event/reuters-next-a-new-vision-for-a-better-tomorrow-2/
LOCATION:Convene\, 117 W 46th Street\, New York City\, 10158\, United States
CATEGORIES:Business Events
ATTACH;FMTTYPE=image/jpeg:https://www.europeanbusinessreview.com/wp-content/uploads/2022/11/Screen-Shot-2022-11-08-at-22.27.19-1.jpg
END:VEVENT
END:VCALENDAR