BEGIN:VCALENDAR
VERSION:2.0
PRODID:-//The European Business Review - ECPv6.13.0//NONSGML v1.0//EN
CALSCALE:GREGORIAN
METHOD:PUBLISH
X-ORIGINAL-URL:https://www.europeanbusinessreview.com
X-WR-CALDESC:Events for The European Business Review
REFRESH-INTERVAL;VALUE=DURATION:PT1H
X-Robots-Tag:noindex
X-PUBLISHED-TTL:PT1H
BEGIN:VTIMEZONE
TZID:UTC
BEGIN:STANDARD
TZOFFSETFROM:+0000
TZOFFSETTO:+0000
TZNAME:UTC
DTSTART:20240101T000000
END:STANDARD
END:VTIMEZONE
BEGIN:VEVENT
DTSTART;VALUE=DATE:20240611
DTEND;VALUE=DATE:20240613
DTSTAMP:20260421T161102
CREATED:20231130T075209Z
LAST-MODIFIED:20231130T130629Z
UID:10000086-1718064000-1718236799@www.europeanbusinessreview.com
SUMMARY:Responsible Business Europe 2024 (London\, June 11-12)
DESCRIPTION:The effective integration of sustainability is an urgent business imperative. The current landscape is marked by new regulations\, heightened stakeholder expectations\, and challenging macroeconomic conditions. Companies must strike a delicate balance between immediate sales and growth with the effective integration of sustainability across all functions to tackle impacts and ensure future success. \nThe urgency for action is clear\, but meaningful change and impact hinge on the availability\, accuracy\, and quality of data\, alongside effective communication that builds wholehearted collaboration and ownership from internal and external stakeholders. With the CSRD here\, now is the time for companies to act decisively\, fostering a culture of sustainability and ensuring a collective commitment to deliver transformative change. \nReuters Events: Responsible Business Europe 2024 (London\, June 11-12) will be uniting 500+ business and finance leaders to outline how companies can embrace sustainability across the organisation\, go beyond CSRD compliance\, and deliver the increasingly critical transition of the business. \nKey themes of the event include:\n\nIntegrating Sustainability\nData Collection\, Analysis and Management\nNavigating Reporting Regulation\nDelivering a Net Zero Business\nAuthentic\, Impact-Driven Communications\n\nGo to top
URL:https://www.europeanbusinessreview.com/event/responsible-business-europe-2024-london-june-11-12/
LOCATION:London\, UK
CATEGORIES:Business Events
ATTACH;FMTTYPE=image/jpeg:https://www.europeanbusinessreview.com/wp-content/uploads/2023/11/Reuters-Events.jpg
END:VEVENT
END:VCALENDAR