BEGIN:VCALENDAR
VERSION:2.0
PRODID:-//The European Business Review - ECPv6.13.0//NONSGML v1.0//EN
CALSCALE:GREGORIAN
METHOD:PUBLISH
X-ORIGINAL-URL:https://www.europeanbusinessreview.com
X-WR-CALDESC:Events for The European Business Review
REFRESH-INTERVAL;VALUE=DURATION:PT1H
X-Robots-Tag:noindex
X-PUBLISHED-TTL:PT1H
BEGIN:VTIMEZONE
TZID:UTC
BEGIN:STANDARD
TZOFFSETFROM:+0000
TZOFFSETTO:+0000
TZNAME:UTC
DTSTART:20240101T000000
END:STANDARD
END:VTIMEZONE
BEGIN:VEVENT
DTSTART;VALUE=DATE:20240506
DTEND;VALUE=DATE:20240508
DTSTAMP:20260421T193704
CREATED:20240402T141931Z
LAST-MODIFIED:20240402T141931Z
UID:10000177-1714953600-1715126399@www.europeanbusinessreview.com
SUMMARY:Women in Tech Global Summit 2024
DESCRIPTION:The Women in Tech Global Summit 2024\, taking place in Paris on May 6-7 under the High Patronage of President Emmanuel Macron\, is set to be a defining event in shaping the future of women in innovation. This Annual Meeting will bring together a diverse group of leaders from government\, business\, and civil society to critically examine the current status of women in the technological landscape and set priorities for the forthcoming year \nGo to top
URL:https://www.europeanbusinessreview.com/event/women-in-tech-global-summit-2024/
LOCATION:Paris
CATEGORIES:Business Events
ATTACH;FMTTYPE=image/jpeg:https://www.europeanbusinessreview.com/wp-content/uploads/2024/04/Women-in-Tech-Global-Summit-2024-Logo.jpg
END:VEVENT
END:VCALENDAR