BEGIN:VCALENDAR
VERSION:2.0
PRODID:-//The European Business Review - ECPv6.13.0//NONSGML v1.0//EN
CALSCALE:GREGORIAN
METHOD:PUBLISH
X-WR-CALNAME:The European Business Review
X-ORIGINAL-URL:https://www.europeanbusinessreview.com
X-WR-CALDESC:Events for The European Business Review
REFRESH-INTERVAL;VALUE=DURATION:PT1H
X-Robots-Tag:noindex
X-PUBLISHED-TTL:PT1H
BEGIN:VTIMEZONE
TZID:UTC
BEGIN:STANDARD
TZOFFSETFROM:+0000
TZOFFSETTO:+0000
TZNAME:UTC
DTSTART:20240101T000000
END:STANDARD
END:VTIMEZONE
BEGIN:VEVENT
DTSTART;VALUE=DATE:20240416
DTEND;VALUE=DATE:20240418
DTSTAMP:20260421T204827
CREATED:20240409T070539Z
LAST-MODIFIED:20240409T070539Z
UID:10000178-1713225600-1713398399@www.europeanbusinessreview.com
SUMMARY:Global AI Show: Embracing the Future of AI
DESCRIPTION:VAP Group organizes the Global AI Show on April 16-17\, 2024\, at the Grand Hyatt\, Dubai. The largest AI exhibition venue of 12\,000 sqm is set to host over 10\,000 attendees\, 120 sponsors\, Over 300 elite-class tech luminaries including Sophia\, the first humanoid robot created by Hanson Robotics will be present as an official AI Ambassador offering a unique opportunity to delve into the world of artificial intelligence. \nThe show will provide knowledge exchange opportunities through engaging discussions\, project exhibitions\, and interactive sessions. Attendees will discover the latest advancements\, connect with industry experts\, and explore career opportunities in the rapidly evolving field of artificial intelligence. \nHighlights of the show include: \n\nIndustry giants as speakers- Some names include Dr. Salim Al-Shuaili\, Director\, AI & Advanced Technologies Projects Unit\, Ministry of Transport\, Communications and Information Technology – Oman; Ali Abdulla Al Sadadi\, Chief of Information Technology\, Ministry of Oil and Environment – Bahrain; Dr. Ebrahim Al Alkeem Al Zaabi\, Director Digital Transformation – Cyber Security – AI Expert\, Government of Abu Dhabi (UAE); Tamer Hamed\, Chief Information Officer\, Dubai Cable Company (Ducab); Dr. Thierry Lestable\, Chief Researcher\, Technology Innovation Institute (TII); and other renowned personalities\nEstimated attendance of 10000+ industry experts and delegates\nProviding a firsthand look at practical AI initiatives\nNetworking opportunities to connect with thought leaders and professionals in the AI sector\n\nThe event will be followed by an after-party at WHITE Beach\, one of the elite locations in Dubai offering networking opportunities with VIPs. \nTo book tickets: https://www.globalAIShow.com/tickets/ \nGo to top
URL:https://www.europeanbusinessreview.com/event/global-ai-show-embracing-the-future-of-ai/
LOCATION:Grand Hyatt\, Dubai
CATEGORIES:Business Events
ATTACH;FMTTYPE=image/jpeg:https://www.europeanbusinessreview.com/wp-content/uploads/2024/04/Event-Listing-GLobal-AI-Show-1.jpg
END:VEVENT
END:VCALENDAR