BEGIN:VCALENDAR
VERSION:2.0
PRODID:-//The European Business Review - ECPv6.13.0//NONSGML v1.0//EN
CALSCALE:GREGORIAN
METHOD:PUBLISH
X-ORIGINAL-URL:https://www.europeanbusinessreview.com
X-WR-CALDESC:Events for The European Business Review
REFRESH-INTERVAL;VALUE=DURATION:PT1H
X-Robots-Tag:noindex
X-PUBLISHED-TTL:PT1H
BEGIN:VTIMEZONE
TZID:UTC
BEGIN:STANDARD
TZOFFSETFROM:+0000
TZOFFSETTO:+0000
TZNAME:UTC
DTSTART:20230101T000000
END:STANDARD
END:VTIMEZONE
BEGIN:VEVENT
DTSTART;VALUE=DATE:20231121
DTEND;VALUE=DATE:20231123
DTSTAMP:20260422T081407
CREATED:20230524T144354Z
LAST-MODIFIED:20230823T134045Z
UID:10000021-1700524800-1700697599@www.europeanbusinessreview.com
SUMMARY:Reuters Events: Transform Payments Europe 2023
DESCRIPTION:Transform Payments Europe 2023 conference will bring together the Europe’s foremost payments leaders and policy makers to chart a course towards the future of the industry. Expect deep dives into the implications of The Consumer Duty\, instant payments enablement\, payment infrastructure adaptations\, legacy tech-stack migration\, product innovations\, and fraud prevention. Experience the power of partnership as global financial institutions\, merchants\, and their partners converge in London to unlock explosive growth through seamless payments. \nGo to top
URL:https://www.europeanbusinessreview.com/event/reuters-events-transform-payments-europe-2023/
LOCATION:London\, UK
CATEGORIES:Business Events
ATTACH;FMTTYPE=image/jpeg:https://www.europeanbusinessreview.com/wp-content/uploads/2023/05/2830-Event-Banners-1200-x-1200.jpg
END:VEVENT
END:VCALENDAR