BEGIN:VCALENDAR
VERSION:2.0
PRODID:-//The European Business Review - ECPv6.13.0//NONSGML v1.0//EN
CALSCALE:GREGORIAN
METHOD:PUBLISH
X-ORIGINAL-URL:https://www.europeanbusinessreview.com
X-WR-CALDESC:Events for The European Business Review
REFRESH-INTERVAL;VALUE=DURATION:PT1H
X-Robots-Tag:noindex
X-PUBLISHED-TTL:PT1H
BEGIN:VTIMEZONE
TZID:UTC
BEGIN:STANDARD
TZOFFSETFROM:+0000
TZOFFSETTO:+0000
TZNAME:UTC
DTSTART:20230101T000000
END:STANDARD
END:VTIMEZONE
BEGIN:VEVENT
DTSTART;VALUE=DATE:20230314
DTEND;VALUE=DATE:20230317
DTSTAMP:20260422T223140
CREATED:20230118T063459Z
LAST-MODIFIED:20230823T133908Z
UID:10000012-1678752000-1679011199@www.europeanbusinessreview.com
SUMMARY:euRobotics Entrepreneurship Award 2023
DESCRIPTION:Submissions are now open for the prestigious euRobotics Entrepreneurship Award. The 2023 edition of the Entrepreneurship Award will take place as part of the European Robotics Forum 2023. \nWe invite all entrepreneurs and potential entrepreneurs in the robotics field to join the competition. Entrants stand the chance to boost the profile of their company amongst both the robotics and investment communities.  \nFive finalists will be selected to attend the European Robotics Forum in person and pitch in front of a jury of robotics entrepreneurship experts. The five finalists will get 5 hours of counselling from EU robotics entrepreneurship experts\, free entrance to the European Robotics Forum (value of approx. €800) and 500€ contribution towards travelling costs.  \nParticipants are expected to have already developed a concrete idea for a product or service and undertaken background work in researching the marketplace in which it could be exploited. Entries can be from both individuals or teams and from those who have not yet established a company or those with established companies and proof-of-technology. \nApplications are to be sent by 23:00 CET on 1st February 2023 to the following email address: tovp@teknologisk.dk. \nGo to top
URL:https://www.europeanbusinessreview.com/event/eurobotics-entrepreneurship-award-2023/
LOCATION:Odense\, Denmark
CATEGORIES:Business Events
ATTACH;FMTTYPE=image/jpeg:https://www.europeanbusinessreview.com/wp-content/uploads/2023/01/Entrepreneurship-Award-1-1.jpg
END:VEVENT
END:VCALENDAR