BEGIN:VCALENDAR
VERSION:2.0
PRODID:-//The European Business Review - ECPv6.13.0//NONSGML v1.0//EN
CALSCALE:GREGORIAN
METHOD:PUBLISH
X-WR-CALNAME:The European Business Review
X-ORIGINAL-URL:https://www.europeanbusinessreview.com
X-WR-CALDESC:Events for The European Business Review
REFRESH-INTERVAL;VALUE=DURATION:PT1H
X-Robots-Tag:noindex
X-PUBLISHED-TTL:PT1H
BEGIN:VTIMEZONE
TZID:UTC
BEGIN:STANDARD
TZOFFSETFROM:+0000
TZOFFSETTO:+0000
TZNAME:UTC
DTSTART:20220101T000000
END:STANDARD
END:VTIMEZONE
BEGIN:VEVENT
DTSTART;VALUE=DATE:20221124
DTEND;VALUE=DATE:20221125
DTSTAMP:20260423T050606
CREATED:20221101T233119Z
LAST-MODIFIED:20230823T133535Z
UID:10000006-1669248000-1669334399@www.europeanbusinessreview.com
SUMMARY:The Great Leadership Reset: The Wealth of Human Potential
DESCRIPTION:Join your peers at the AoEC’s inaugural Great Leadership Reset virtual conference to hear how you can develop the skills to best sustain your organisation’s growth and become service-minded leaders through transformational organisational values\, people development and well-doing. \nWant to buy group tickets for your team or organisation? Contact Tracy Childs for more info.  \nThe conference will be recorded so if you can’t make the event\, a recording will be sent out to your email address after the event to access with a unique log in code.  \nGo to top
URL:https://www.europeanbusinessreview.com/event/the-great-leadership-reset-the-wealth-of-human-potential/
LOCATION:Virtual Conference
CATEGORIES:Business Events
ATTACH;FMTTYPE=image/jpeg:https://www.europeanbusinessreview.com/wp-content/uploads/2022/11/Screen-Shot-2022-11-13-at-19.22.22.jpg
END:VEVENT
END:VCALENDAR