BEGIN:VCALENDAR
VERSION:2.0
PRODID:-//The European Business Review - ECPv6.13.0//NONSGML v1.0//EN
CALSCALE:GREGORIAN
METHOD:PUBLISH
X-WR-CALNAME:The European Business Review
X-ORIGINAL-URL:https://www.europeanbusinessreview.com
X-WR-CALDESC:Events for The European Business Review
REFRESH-INTERVAL;VALUE=DURATION:PT1H
X-Robots-Tag:noindex
X-PUBLISHED-TTL:PT1H
BEGIN:VTIMEZONE
TZID:UTC
BEGIN:STANDARD
TZOFFSETFROM:+0000
TZOFFSETTO:+0000
TZNAME:UTC
DTSTART:20240101T000000
END:STANDARD
END:VTIMEZONE
BEGIN:VEVENT
DTSTART;VALUE=DATE:20240605
DTEND;VALUE=DATE:20240607
DTSTAMP:20260421T111704
CREATED:20240109T135208Z
LAST-MODIFIED:20240109T135208Z
UID:10000098-1717545600-1717718399@www.europeanbusinessreview.com
SUMMARY:AI & Big Data Expo North America
DESCRIPTION:Book your free conference and expo ticket to AI and Big Data Expo North America 2024. \nJoin us for one of the most anticipated technology events of the year\, the AI and Big Data Expo North America 2024\, taking place from 5-6 June at the Santa Clara Convention Center\, California. Immerse yourself in a dynamic environment where innovation converges with industry leaders\, cutting-edge technologies\, and invaluable insights. \nEvent Highlights:\n7 Co-Located Events \nDive into a comprehensive exploration of AI and Big Data with seven co-located events\, each tailored to provide in-depth insights into specific aspects of these transformative technologies. \n7\,000+ Attendees \nNetwork with over 7\,000 professionals\, thought leaders\, and enthusiasts from around the globe. Exchange ideas\, collaborate\, and forge connections that will shape the future of AI and Big Data. \n250+ Speakers \nGain profound knowledge from 250+ industry experts and visionaries who will share their insights\, experiences\, and forecasts. Be inspired by thought-provoking keynotes and panel discussions from companies such as Google\, NASA\, Ford\, LinkedIn\, Amazon and many more! \nSenior level attendees \nElevate your networking experience as 73% of attendees hold director-level positions or higher. Engage with decision-makers and influencers\, fostering meaningful connections for future collaborations. \nThematic Tracks \nExplore thematic tracks covering Enterprise AI\, Machine Learning\, Security\, Ethical AI\, Deep Learning\, Data Ecosystems\, and NLP and more. Tailor your experience to align with your specific interests and professional goals. \nYour in-person ticket will also grant you access to the co-located events exploring IoT Tech\, Intelligent Automation\, Cyber Security & Cloud\, Unified Communications\, Edge Computing and Digital Transformation! Book yours here: https://www.ai-expo.net/northamerica/ \nExplore the Co-located AI & Big Data Expo conference agendas here covering Enterprise AI\, Applied Digital\, Data & AI\, Optimised Data & Analytics\, and Transformational AI here: https://www.ai-expo.net/northamerica/ \nGo to top
URL:https://www.europeanbusinessreview.com/event/ai-big-data-expo-north-america/
LOCATION:Santa Clara Convention Center\, California
CATEGORIES:Business Events
ATTACH;FMTTYPE=image/jpeg:https://www.europeanbusinessreview.com/wp-content/uploads/2024/01/AI-600x300-1.jpg
END:VEVENT
BEGIN:VEVENT
DTSTART;VALUE=DATE:20240611
DTEND;VALUE=DATE:20240613
DTSTAMP:20260421T111704
CREATED:20231130T075209Z
LAST-MODIFIED:20231130T130629Z
UID:10000086-1718064000-1718236799@www.europeanbusinessreview.com
SUMMARY:Responsible Business Europe 2024 (London\, June 11-12)
DESCRIPTION:The effective integration of sustainability is an urgent business imperative. The current landscape is marked by new regulations\, heightened stakeholder expectations\, and challenging macroeconomic conditions. Companies must strike a delicate balance between immediate sales and growth with the effective integration of sustainability across all functions to tackle impacts and ensure future success. \nThe urgency for action is clear\, but meaningful change and impact hinge on the availability\, accuracy\, and quality of data\, alongside effective communication that builds wholehearted collaboration and ownership from internal and external stakeholders. With the CSRD here\, now is the time for companies to act decisively\, fostering a culture of sustainability and ensuring a collective commitment to deliver transformative change. \nReuters Events: Responsible Business Europe 2024 (London\, June 11-12) will be uniting 500+ business and finance leaders to outline how companies can embrace sustainability across the organisation\, go beyond CSRD compliance\, and deliver the increasingly critical transition of the business. \nKey themes of the event include:\n\nIntegrating Sustainability\nData Collection\, Analysis and Management\nNavigating Reporting Regulation\nDelivering a Net Zero Business\nAuthentic\, Impact-Driven Communications\n\nGo to top
URL:https://www.europeanbusinessreview.com/event/responsible-business-europe-2024-london-june-11-12/
LOCATION:London\, UK
CATEGORIES:Business Events
ATTACH;FMTTYPE=image/jpeg:https://www.europeanbusinessreview.com/wp-content/uploads/2023/11/Reuters-Events.jpg
END:VEVENT
BEGIN:VEVENT
DTSTART;VALUE=DATE:20240613
DTEND;VALUE=DATE:20240615
DTSTAMP:20260421T111704
CREATED:20240322T110508Z
LAST-MODIFIED:20240322T112753Z
UID:10000174-1718236800-1718409599@www.europeanbusinessreview.com
SUMMARY:International HRD Summit 2024
DESCRIPTION:An unparalleled gathering of HR leaders and professionals from around the globe\, dedicated to exploring the latest trends\, challenges\, and strategies in human resource development. \nRegistration Details: For registration and more information\, please visit  https://bcf-events.com/single-conference/international-hrd-summit \nAbout Business Conference Facilitation: BCF is a leading provider of cutting-edge conferences and summits aimed at empowering professionals across diverse industries. \nGo to top
URL:https://www.europeanbusinessreview.com/event/international-hrd-summit-2024/
LOCATION:BigMarker platform
CATEGORIES:Business Events
ATTACH;FMTTYPE=image/png:https://www.europeanbusinessreview.com/wp-content/uploads/2024/03/2-1.png
END:VEVENT
END:VCALENDAR