BEGIN:VCALENDAR
VERSION:2.0
PRODID:-//The European Business Review - ECPv6.13.0//NONSGML v1.0//EN
CALSCALE:GREGORIAN
METHOD:PUBLISH
X-ORIGINAL-URL:https://www.europeanbusinessreview.com
X-WR-CALDESC:Events for The European Business Review
REFRESH-INTERVAL;VALUE=DURATION:PT1H
X-Robots-Tag:noindex
X-PUBLISHED-TTL:PT1H
BEGIN:VTIMEZONE
TZID:UTC
BEGIN:STANDARD
TZOFFSETFROM:+0000
TZOFFSETTO:+0000
TZNAME:UTC
DTSTART:20240101T000000
END:STANDARD
END:VTIMEZONE
BEGIN:VEVENT
DTSTART;VALUE=DATE:20240506
DTEND;VALUE=DATE:20240508
DTSTAMP:20260421T124715
CREATED:20240402T141931Z
LAST-MODIFIED:20240402T141931Z
UID:10000177-1714953600-1715126399@www.europeanbusinessreview.com
SUMMARY:Women in Tech Global Summit 2024
DESCRIPTION:The Women in Tech Global Summit 2024\, taking place in Paris on May 6-7 under the High Patronage of President Emmanuel Macron\, is set to be a defining event in shaping the future of women in innovation. This Annual Meeting will bring together a diverse group of leaders from government\, business\, and civil society to critically examine the current status of women in the technological landscape and set priorities for the forthcoming year \nGo to top
URL:https://www.europeanbusinessreview.com/event/women-in-tech-global-summit-2024/
LOCATION:Paris
CATEGORIES:Business Events
ATTACH;FMTTYPE=image/jpeg:https://www.europeanbusinessreview.com/wp-content/uploads/2024/04/Women-in-Tech-Global-Summit-2024-Logo.jpg
END:VEVENT
BEGIN:VEVENT
DTSTART;VALUE=DATE:20240507
DTEND;VALUE=DATE:20240508
DTSTAMP:20260421T124715
CREATED:20240315T125235Z
LAST-MODIFIED:20240315T130028Z
UID:10000156-1715040000-1715126399@www.europeanbusinessreview.com
SUMMARY:Digital Transformation In Banking & Insurance Summit - London
DESCRIPTION:The “Digital Transformation in Banking & Insurance Summit – London” is poised to take the financial capital of the United Kingdom by storm\, building upon its previous successes in Singapore and other global locations. This prestigious event is scheduled for the 7th of May\, 2024\, and is tailored to cater to an exclusive gathering of 100-150 distinguished executives from the United Kingdom and Europe. This summit is dedicated to showcasing the cutting-edge innovations that are reshaping the banking and insurance industries. Attendees can expect to gain invaluable insights from over 25 industry leaders who are driving the digital transformation. We invite you to join us in London\, where we’ll collectively shape the future of finance on the international stage! \nGo to top
URL:https://www.europeanbusinessreview.com/event/digital-transformation-in-banking-insurance-summit-london/
LOCATION:London\, UK
CATEGORIES:Business Events
ATTACH;FMTTYPE=image/png:https://www.europeanbusinessreview.com/wp-content/uploads/2024/03/325x270_dxb_london.png
END:VEVENT
BEGIN:VEVENT
DTSTART;VALUE=DATE:20240508
DTEND;VALUE=DATE:20240509
DTSTAMP:20260421T124715
CREATED:20240315T130539Z
LAST-MODIFIED:20240315T130539Z
UID:10000157-1715126400-1715212799@www.europeanbusinessreview.com
SUMMARY:Security Transformation In Finance Summit (London)
DESCRIPTION:Presenting our 3rd annual conference of “Security Transformation in Finance Summit”. The security transformation in Fin. Summit will feature dedicated presentations\, panel discussions on latest topics\, including –AI\, Fraud Detection & Prevention\, AML Compliance\, Digital Identity\, Digital Transformation\, Cyber Security\, Open Banking API\, Customer Centricity\, Big Data\, Cloud Transformation\, Payments Modernization\, Blockchain\, and more. We invite you to come to participate and engage at this live symposium where 25+ ‘Thought-Provoking’ speakers (primarily from regional banks\, insurance & selected FinTech’s) and network live with up to 150+ qualified delegates are participating. \nGo to top
URL:https://www.europeanbusinessreview.com/event/security-transformation-in-finance-summit-london/
LOCATION:London\, UK
CATEGORIES:Business Events
ATTACH;FMTTYPE=image/png:https://www.europeanbusinessreview.com/wp-content/uploads/2024/03/325x270_sxf.png
END:VEVENT
BEGIN:VEVENT
DTSTART;VALUE=DATE:20240527
DTEND;VALUE=DATE:20240601
DTSTAMP:20260421T124715
CREATED:20240501T012428Z
LAST-MODIFIED:20240501T085633Z
UID:10000186-1716768000-1717199999@www.europeanbusinessreview.com
SUMMARY:Free Online Event for Digital Publishing and News Media Professionals!
DESCRIPTION:Discover the future of monetization in publishing at Monetization Week 2024! Join as we delve into the latest trends shaping the digital publishing landscape. From advertising best practices to building the optimal monetization team\, this event is a must-attend for industry professionals and enthusiasts alike. \nEngage with top experts as they unravel insights on data-driven monetization and revenue diversification strategies\, developing sustainable models with first-party data\, and more. Uncover opportunities to elevate your digital publishing offering and stay ahead in this dynamic realm. \nGo to top
URL:https://www.europeanbusinessreview.com/event/free-online-event-for-digital-publishing-and-news-media-professionals/
LOCATION:Online
CATEGORIES:Business Events
ATTACH;FMTTYPE=image/jpeg:https://www.europeanbusinessreview.com/wp-content/uploads/2024/05/Monetization-Week-EBR-calendar.jpg
END:VEVENT
END:VCALENDAR