BEGIN:VCALENDAR
VERSION:2.0
PRODID:-//The European Business Review - ECPv6.13.0//NONSGML v1.0//EN
CALSCALE:GREGORIAN
METHOD:PUBLISH
X-WR-CALNAME:The European Business Review
X-ORIGINAL-URL:https://www.europeanbusinessreview.com
X-WR-CALDESC:Events for The European Business Review
REFRESH-INTERVAL;VALUE=DURATION:PT1H
X-Robots-Tag:noindex
X-PUBLISHED-TTL:PT1H
BEGIN:VTIMEZONE
TZID:UTC
BEGIN:STANDARD
TZOFFSETFROM:+0000
TZOFFSETTO:+0000
TZNAME:UTC
DTSTART:20240101T000000
END:STANDARD
END:VTIMEZONE
BEGIN:VEVENT
DTSTART;VALUE=DATE:20240313
DTEND;VALUE=DATE:20240315
DTSTAMP:20260421T193344
CREATED:20240306T062411Z
LAST-MODIFIED:20240306T062411Z
UID:10000155-1710288000-1710460799@www.europeanbusinessreview.com
SUMMARY:3rd Digital Revolution In Connected Cars
DESCRIPTION:Join us at the 3rd Digital Revolution in Connected Cars Conference\, where world-class speakers\, renowned media groups\, and top-rated entrepreneurs converge. Explore new business ventures and growth opportunities in the automotive industry. Dive into key topics like IoT integration and Artificial Intelligence in cars\, shaping the autonomous future. This conference offers a platform for businesses and governments to unveil sustainability initiatives\, exchange knowledge\, and address intricate questions in a collaborative business setting. Don’t miss this chance to be part of the future of connected vehicles. \nGo to top
URL:https://www.europeanbusinessreview.com/event/3rd-digital-revolution-in-connected-cars/
LOCATION:Munich Marriott Hotel City West\, Germany
CATEGORIES:Business Events
ATTACH;FMTTYPE=image/jpeg:https://www.europeanbusinessreview.com/wp-content/uploads/2024/03/325c270.jpg
END:VEVENT
BEGIN:VEVENT
DTSTART;VALUE=DATE:20240318
DTEND;VALUE=DATE:20240321
DTSTAMP:20260421T193344
CREATED:20231207T023010Z
LAST-MODIFIED:20231207T023010Z
UID:10000089-1710720000-1710979199@www.europeanbusinessreview.com
SUMMARY:Don’t Miss SCCE’s Premier European Compliance & Ethics Event
DESCRIPTION:If you’re looking for fresh perspectives and the latest best practices for European compliance management\, make plans now to join Society of Corporate Compliance and Ethics® (SCCE®) and your fellow professionals at the 2024 European Compliance and Ethics Institute. You’ll gain insights from experienced industry leaders\, current updates and information\, and meaningful connections that can help you drive success within your organization. \nTopics include: \n\nAnti-corruption\nSupply chain\nData privacy\nEU Whistleblowing Directive\nESG\n\nand more! \nSee the agenda for all session topics and speaker information. \n View Agenda     Register Now! \nPricing\n\n\n\nOn/Before 1/23/2024*\nAfter 1/23/2024\n\n\nSCCE/HCCA Member\n$939 + VAT\n$1079 + VAT\n\n\nNon-Member\n$1179 + VAT\n$1329 + VAT\n\n\nRegistration + First Time Membership**\n$1164 + VAT\n$1304 + VAT\n\n\nGroup Discount 3-9***\n($50)\n($50)\n\n\nGroup Discount 10 or More***\n($100)\n($100)\n\n\n\nGo to top
URL:https://www.europeanbusinessreview.com/event/dont-miss-scces-premier-european-compliance-ethics-event/
LOCATION:Hotel Okura Amsterdam\, Ferdinand Bolstraat 333\, Amsterdam\, Netherlands\, 1072 LH
CATEGORIES:Business Events
ATTACH;FMTTYPE=image/png:https://www.europeanbusinessreview.com/wp-content/uploads/2023/12/scce-2024-ecei-email-600x225-eb.png
END:VEVENT
BEGIN:VEVENT
DTSTART;VALUE=DATE:20240325
DTEND;VALUE=DATE:20240328
DTSTAMP:20260421T193344
CREATED:20231201T093656Z
LAST-MODIFIED:20231201T093656Z
UID:10000087-1711324800-1711583999@www.europeanbusinessreview.com
SUMMARY:ChangeNow 2024
DESCRIPTION:ChangeNOW brings together the World’s most innovative minds and sustainability leaders committed to deploying of solutions for the planet to make progress and to help them scale and spread across industries and geographies. Carried by a visionary\, humanistic and action-oriented spirit\, ChangeNOW federates and creates opportunities for thousands of key actors of change since 2017. \nGo to top
URL:https://www.europeanbusinessreview.com/event/changenow-2024/
LOCATION:Grand Palais Éphémère\, Paris
CATEGORIES:Business Events
ATTACH;FMTTYPE=image/jpeg:https://www.europeanbusinessreview.com/wp-content/uploads/2023/12/changeNow.jpg
END:VEVENT
END:VCALENDAR