BEGIN:VCALENDAR
VERSION:2.0
PRODID:-//The European Business Review - ECPv6.13.0//NONSGML v1.0//EN
CALSCALE:GREGORIAN
METHOD:PUBLISH
X-ORIGINAL-URL:https://www.europeanbusinessreview.com
X-WR-CALDESC:Events for The European Business Review
REFRESH-INTERVAL;VALUE=DURATION:PT1H
X-Robots-Tag:noindex
X-PUBLISHED-TTL:PT1H
BEGIN:VTIMEZONE
TZID:UTC
BEGIN:STANDARD
TZOFFSETFROM:+0000
TZOFFSETTO:+0000
TZNAME:UTC
DTSTART:20240101T000000
END:STANDARD
END:VTIMEZONE
BEGIN:VEVENT
DTSTART;VALUE=DATE:20240208
DTEND;VALUE=DATE:20240211
DTSTAMP:20260421T204905
CREATED:20240119T072109Z
LAST-MODIFIED:20240119T072351Z
UID:10000123-1707350400-1707609599@www.europeanbusinessreview.com
SUMMARY:World AI Cannes Festival
DESCRIPTION:The AI World is coming back to the iconic Palais des Festival of Cannes this winter! \nFor its third edition\, the World AI Cannes Festival\, will bring together the people and companies that are currently redefining the global AI industry for a 3-days immersion in the future of AI. \nWith 300 international speakers\, 250 exceptional sessions\, presentations\, and demonstrations and 230 exhibitors\, this edition will undoubtedly be the defining moment that will change the course of your AI journey. \nGet ready to be part of inspiring discussions that will take your AI strategy to the next level. \nBook your full pass here ? https://www.worldaicannes.com/en/register?utm_campaign=waicf24&utm_medium=partner&utm_source=TEBR \nGo to top
URL:https://www.europeanbusinessreview.com/event/world-ai-cannes-festival/
LOCATION:Palais des Festivals\, Cannes\, France
CATEGORIES:Business Events
ATTACH;FMTTYPE=image/jpeg:https://www.europeanbusinessreview.com/wp-content/uploads/2024/01/WAICF-Event.jpg
END:VEVENT
BEGIN:VEVENT
DTSTART;VALUE=DATE:20240229
DTEND;VALUE=DATE:20240301
DTSTAMP:20260421T204905
CREATED:20240223T082726Z
LAST-MODIFIED:20240226T130300Z
UID:10000152-1709164800-1709251199@www.europeanbusinessreview.com
SUMMARY:Webcast: VIP Protection in the Digital Age: Cybersecurity According to a Hacker
DESCRIPTION:Join hacker and CEO Rachel Tobac for a fireside chat on the VIP’s guide to staying safe online – plus a live hack demo! \nWhat you will learn: \n\nHow to be aware of social engineering attacks and prevent them\nWays you can share information on digital security with your colleagues\nBest methods for ongoing digital safety and security in the face of threats\n\nTobac’s real-life ethical hacking stories are sure to keep your team “politely paranoid” to catch the next hacker in the act. \nSecure Your Spot Now – Register Here! \nGo to top
URL:https://www.europeanbusinessreview.com/event/webcast-vip-protection-in-the-digital-age-cybersecurity-according-to-a-hacker/
LOCATION:Virtual Event
CATEGORIES:Business Events
ATTACH;FMTTYPE=image/png:https://www.europeanbusinessreview.com/wp-content/uploads/2024/02/rachel-tobac-webcast-social-1.png
END:VEVENT
END:VCALENDAR