BEGIN:VCALENDAR
VERSION:2.0
PRODID:-//The European Business Review - ECPv6.13.0//NONSGML v1.0//EN
CALSCALE:GREGORIAN
METHOD:PUBLISH
X-WR-CALNAME:The European Business Review
X-ORIGINAL-URL:https://www.europeanbusinessreview.com
X-WR-CALDESC:Events for The European Business Review
REFRESH-INTERVAL;VALUE=DURATION:PT1H
X-Robots-Tag:noindex
X-PUBLISHED-TTL:PT1H
BEGIN:VTIMEZONE
TZID:UTC
BEGIN:STANDARD
TZOFFSETFROM:+0000
TZOFFSETTO:+0000
TZNAME:UTC
DTSTART:20230101T000000
END:STANDARD
END:VTIMEZONE
BEGIN:VEVENT
DTSTART;VALUE=DATE:20231130
DTEND;VALUE=DATE:20231202
DTSTAMP:20260422T013416
CREATED:20231011T100917Z
LAST-MODIFIED:20231011T101014Z
UID:10000061-1701302400-1701475199@www.europeanbusinessreview.com
SUMMARY:AI & Big Data Global
DESCRIPTION:Book your conference and expo ticket to AI & Big Data Global which is set to explore what’s new and worth attention in the #aiandbigdataexpo Ecosystem. Join us in-person at the Olympia\, London between the 30th November – 1st December to hear from our industry leading speakers representing companies such as McDonalds\, GSK\, Citi\, Rolls-Royce\, Mercedes-Benz\, Headspace\, McKinsey & Company\, just to mention a few! \nKey 2023 agenda items include: \n\nResponsible AI\nEthical AI\nAI Against Hackers\nAI Led Personalization\nData Monetization\nData Quality Management\nEnterprise Adoption of AI\nThe Augmented Workforce\nThe Rise of AIOps\nEmbracing AI to Drive Digital Transformation\nBuilding Trust Through Explainability for AI\n\nand many more! \nYour in-person ticket will also grant you access to the co-located events exploring IoT Tech\, Blockchain\, Cyber Security & Cloud and Digital Transformation! Register your interest here: https://www.ai-expo.net/global/ \nExplore the Co-located AI & Big Data Expo conference agendas here covering Enterprise AI\, Applied Data & Analytics\, and Transformational AI here: https://www.ai-expo.net/global/ \n#aiandbigdataexpo \nGo to top
URL:https://www.europeanbusinessreview.com/event/ai-big-data-global/
LOCATION:Olympia\, London
CATEGORIES:Business Events
ATTACH;FMTTYPE=image/png:https://www.europeanbusinessreview.com/wp-content/uploads/2023/10/AI-GL-640X380-1.png
END:VEVENT
END:VCALENDAR