BEGIN:VCALENDAR
VERSION:2.0
PRODID:-//The European Business Review - ECPv6.13.0//NONSGML v1.0//EN
CALSCALE:GREGORIAN
METHOD:PUBLISH
X-WR-CALNAME:The European Business Review
X-ORIGINAL-URL:https://www.europeanbusinessreview.com
X-WR-CALDESC:Events for The European Business Review
REFRESH-INTERVAL;VALUE=DURATION:PT1H
X-Robots-Tag:noindex
X-PUBLISHED-TTL:PT1H
BEGIN:VTIMEZONE
TZID:UTC
BEGIN:STANDARD
TZOFFSETFROM:+0000
TZOFFSETTO:+0000
TZNAME:UTC
DTSTART:20230101T000000
END:STANDARD
END:VTIMEZONE
BEGIN:VEVENT
DTSTART;VALUE=DATE:20230926
DTEND;VALUE=DATE:20230928
DTSTAMP:20260422T080823
CREATED:20230419T142220Z
LAST-MODIFIED:20230823T133756Z
UID:10000019-1695686400-1695859199@www.europeanbusinessreview.com
SUMMARY:London Climate Technology Show 2023: Connecting Global Climate Technology Stakeholders for a Sustainable Future
DESCRIPTION:The London Climate Technology Show is the most sought after conference & tradeshow focused on the fast developing climate technology value chain\, where stakeholders from across the world of investment\, government\, media\, entrepreneurship and academia assemble for experiencing two days of high value content and numerous new business opportunities. Building on previous year’s tremendous success\, the internationally acclaimed exhibition & conference will once again offer an ideal networking platform for governments\, individuals and businesses of all sizes to showcase disruptive solutions to mitigate the climate crisis\, help gain invaluable knowledge on green tech innovations & effective decarbonisation strategies accelerating the transition to a low-carbon economy. \nGo to top
URL:https://www.europeanbusinessreview.com/event/london-climate-technology-show-2023-connecting-global-climate-technology-stakeholders-for-a-sustainable-future/
LOCATION:ExCel London\, UK
CATEGORIES:Business Events
ATTACH;FMTTYPE=image/jpeg:https://www.europeanbusinessreview.com/wp-content/uploads/2023/04/CTS-1200x1200-3.jpg
END:VEVENT
BEGIN:VEVENT
DTSTART;VALUE=DATE:20230926
DTEND;VALUE=DATE:20230928
DTSTAMP:20260422T080823
CREATED:20230630T012340Z
LAST-MODIFIED:20230823T133804Z
UID:10000024-1695686400-1695859199@www.europeanbusinessreview.com
SUMMARY:AI & Big Data Europe
DESCRIPTION:Book your conference and expo ticket to AI & Big Data Europe which is set to explore what’s new and worth attention in the #aiandbigdataexpo Ecosystem http://ai-expo.net/europe/. Join us in-person at RAI Amsterdam on the 26-27 September to hear from our industry-leading speakers representing companies such as Amazon\, ING\, Phillips\, The UN\, Deloitte\, AirBnb\, Nestle and Danone just to mention a few! \nKey 2023 agenda items include: \n\nResponsible AI\nEthical AI\nAI Against Hackers\nAI Led Personalization\nData Monetization\nData Quality Management\nEnterprise Adoption of AI\nThe Augmented Workforce\nThe Rise of AIOps\nEmbracing AI to Drive Digital Transformation\nBuilding Trust Through Explainability for AI\n\nand many more! \nYour in-person ticket will also grant you access to the co-located events exploring IoT Tech\, Blockchain\, Cyber Security & Cloud\, Edge Computing and Digital Transformation! Register your interest here: http://ai-expo.net/europe/ \nExplore the Co-located AI & Big Data Expo conference agendas here covering Enterprise AI\, Applied Data & Analytics\, and Transformational AI here: http://ai-expo.net/europe/ \n#aiandbigdataexpo \nGo to top
URL:https://www.europeanbusinessreview.com/event/ai-big-data-europe/
LOCATION:RAI\, AMSTERDAM
CATEGORIES:Business Events
ATTACH;FMTTYPE=image/jpeg:https://www.europeanbusinessreview.com/wp-content/uploads/2023/06/600x3006-1.jpg
END:VEVENT
END:VCALENDAR