BEGIN:VCALENDAR
VERSION:2.0
PRODID:-//The European Business Review - ECPv6.13.0//NONSGML v1.0//EN
CALSCALE:GREGORIAN
METHOD:PUBLISH
X-WR-CALNAME:The European Business Review
X-ORIGINAL-URL:https://www.europeanbusinessreview.com
X-WR-CALDESC:Events for The European Business Review
REFRESH-INTERVAL;VALUE=DURATION:PT1H
X-Robots-Tag:noindex
X-PUBLISHED-TTL:PT1H
BEGIN:VTIMEZONE
TZID:UTC
BEGIN:STANDARD
TZOFFSETFROM:+0000
TZOFFSETTO:+0000
TZNAME:UTC
DTSTART:20260101T000000
END:STANDARD
END:VTIMEZONE
BEGIN:VEVENT
DTSTART;VALUE=DATE:20260423
DTEND;VALUE=DATE:20260424
DTSTAMP:20260423T014240
CREATED:20260422T083240Z
LAST-MODIFIED:20260422T084758Z
UID:10000692-1776902400-1776988799@www.europeanbusinessreview.com
SUMMARY:Information session: Postgraduate Program in Finance and Taxation - Porto Business School
DESCRIPTION:Start Date: 23 April 2026\nTime: 17:30\nLocation: Online\nContact: geral@pbs.up.pt\nRead more here!\nRegister here!\n\nJoin the Information Session of the Postgraduate Program in Finance and Taxation on April 23 at 5:30 PM.\nThis program develops an integrated view of finance and taxation\, preparing participants to analyze complex scenarios\, assess risks\, and structure solid\, well-grounded solutions. With international recognition and a continuously updated approach — including the integration of artificial intelligence in analysis and decision-making — the Postgraduate Program in Finance and Taxation is designed for those who want to anticipate industry evolution and act with greater impact. \nGo to top
URL:https://www.europeanbusinessreview.com/event/information-session-postgraduate-program-in-finance-and-taxation-porto-business-school/
LOCATION:Berlin
CATEGORIES:MBA Pulse Events
ATTACH;FMTTYPE=image/jpeg:https://www.europeanbusinessreview.com/wp-content/uploads/2024/10/MBA-Pulse.jpg
END:VEVENT
END:VCALENDAR