BEGIN:VCALENDAR
VERSION:2.0
PRODID:-//The European Business Review - ECPv6.13.0//NONSGML v1.0//EN
CALSCALE:GREGORIAN
METHOD:PUBLISH
X-ORIGINAL-URL:https://www.europeanbusinessreview.com
X-WR-CALDESC:Events for The European Business Review
REFRESH-INTERVAL;VALUE=DURATION:PT1H
X-Robots-Tag:noindex
X-PUBLISHED-TTL:PT1H
BEGIN:VTIMEZONE
TZID:UTC
BEGIN:STANDARD
TZOFFSETFROM:+0000
TZOFFSETTO:+0000
TZNAME:UTC
DTSTART:20240101T000000
END:STANDARD
END:VTIMEZONE
BEGIN:VEVENT
DTSTART;VALUE=DATE:20241022
DTEND;VALUE=DATE:20241023
DTSTAMP:20260421T183007
CREATED:20240726T122819Z
LAST-MODIFIED:20240726T122819Z
UID:10000208-1729555200-1729641599@www.europeanbusinessreview.com
SUMMARY:Coffee Meeting in Munich - Copenhagen Business School
DESCRIPTION:The world is undergoing radical changes that challenge conventional business logic. \nAre you interested in advancing your personal and professional ambitions by taking on a challenging and internationally recognised degree? The Full-Time MBA and Executive MBA at Copenhagen Business School are educating the next generation of leaders who appreciate the importance of sustainability\, responsible management and innovation. Participants learn from the world’s best to master cutting-edge\, holistic business knowledge and its hands-on managerial applications.   \nTake advantage of this unique opportunity to meet with an MBA programmes representative in your city and find out what our programmes have to offer. \nWe would be delighted to meet you and tell you more about our curriculum\, the application and admission process\, and answer any questions you may have regarding our MBA programmes.   \nWe look for driven\, well-rounded candidates of all backgrounds and experiences\, and pride ourselves on assembling a dynamic and diverse classroom.   \nRegister today. We will be contacting you soon to coordinate a meeting time that works for you. \nRegister here: https://apply-mp.cbs.dk/e/669f6c026ab72835a6068d4f  \n Go to top
URL:https://www.europeanbusinessreview.com/event/coffee-meeting-in-munich-copenhagen-business-school/
LOCATION:Munich
CATEGORIES:Executive Education Calendar
ATTACH;FMTTYPE=image/jpeg:https://www.europeanbusinessreview.com/wp-content/uploads/2024/07/CBS_MBA_PhotoShoot_May_2024-02161.jpg
END:VEVENT
END:VCALENDAR