BEGIN:VCALENDAR
VERSION:2.0
PRODID:-//The European Business Review - ECPv6.13.0//NONSGML v1.0//EN
CALSCALE:GREGORIAN
METHOD:PUBLISH
X-WR-CALNAME:The European Business Review
X-ORIGINAL-URL:https://www.europeanbusinessreview.com
X-WR-CALDESC:Events for The European Business Review
REFRESH-INTERVAL;VALUE=DURATION:PT1H
X-Robots-Tag:noindex
X-PUBLISHED-TTL:PT1H
BEGIN:VTIMEZONE
TZID:UTC
BEGIN:STANDARD
TZOFFSETFROM:+0000
TZOFFSETTO:+0000
TZNAME:UTC
DTSTART:20240101T000000
END:STANDARD
END:VTIMEZONE
BEGIN:VEVENT
DTSTART;TZID=UTC:20241017T143000
DTEND;TZID=UTC:20241017T143000
DTSTAMP:20260422T023131
CREATED:20241010T035702Z
LAST-MODIFIED:20241015T120505Z
UID:10000265-1729175400-1729175400@www.europeanbusinessreview.com
SUMMARY:Emerging Trends in Digital Marketing - Columbia Business School
DESCRIPTION:Gain a deeper understanding of the new media landscape with Columbia Business School’s digital marketing experts\, Miklos Sarvary and Kinshuk Jerath.  \nIn this 30-minute webinar\, we’ll explore the emerging trends in recent years: generative AI\, MarTech\, cookie deprecation\, and new privacy rules.  \nOur faculty will answer your most pressing questions on topics such as: – What are the recent trends we’re seeing in today’s market? – How can your company get started on integrating these technological and business innovations? – How can you build a framework that allows you to maintain your strategy in the face of constant change? Let us help you start thinking about how to reshape your consumer engagement and lead your organization into the future. \nRegister here: https://gsb-columbia-edu.zoom.us/webinar/register/5817278156814/WN_plnSjmMlRQ6NaBbu9EaAWA?utm_campaign=webinars_aims_mec&utm_medium=email&utm_source=cbsee#/registration
URL:https://www.europeanbusinessreview.com/event/emerging-trends-in-digital-marketing-columbia-business-school/
LOCATION:Online Event
CATEGORIES:Executive Education Calendar
ATTACH;FMTTYPE=image/jpeg:https://www.europeanbusinessreview.com/wp-content/uploads/2024/08/Executive-Education-VIRTUAL.jpg
ORGANIZER;CN="Columbia Business School":MAILTO:ka2932@gsb.columbia.edu.
END:VEVENT
END:VCALENDAR