BEGIN:VCALENDAR
VERSION:2.0
PRODID:-//The European Business Review - ECPv6.13.0//NONSGML v1.0//EN
CALSCALE:GREGORIAN
METHOD:PUBLISH
X-ORIGINAL-URL:https://www.europeanbusinessreview.com
X-WR-CALDESC:Events for The European Business Review
REFRESH-INTERVAL;VALUE=DURATION:PT1H
X-Robots-Tag:noindex
X-PUBLISHED-TTL:PT1H
BEGIN:VTIMEZONE
TZID:UTC
BEGIN:STANDARD
TZOFFSETFROM:+0000
TZOFFSETTO:+0000
TZNAME:UTC
DTSTART:20240101T000000
END:STANDARD
END:VTIMEZONE
BEGIN:VEVENT
DTSTART;VALUE=DATE:20240619
DTEND;VALUE=DATE:20240622
DTSTAMP:20260421T225336
CREATED:20240320T024643Z
LAST-MODIFIED:20240320T024643Z
UID:10000171-1718755200-1719014399@www.europeanbusinessreview.com
SUMMARY:The Global Research Conference on Caste\, Business and Society - University of Bath School of Management
DESCRIPTION:Caste is a socio-cultural system that affects over two billion people in South Asia and the global South Asian diaspora by placing individuals on an arbitrarily determined social hierarchy that provides them with unequal rights and privileges. Despite its pervasive influence in all spheres of social and economic life of caste-practising individuals\, caste has only recently received serious attention in scholarly work in management and organisation studies. \nThis conference attempts to create a platform that can bring scholars studying caste in contexts of work and business together to share latest research\, help one another to develop ideas\, and create new collaborations. \nThe conference will begin with a keynote session by a leading international scholar\, followed by a series of research sessions where scholars will present their work for feedback\, early-career development sessions and plenary sessions that bring together the day’s threads of conversation. There will also be many networking opportunities. \nRegistration will open on Friday 5 April 2024. \nThere will be a limited number of hybrid sessions for those who cannot travel.
URL:https://www.europeanbusinessreview.com/event/the-global-research-conference-on-caste-business-and-society-university-of-bath-school-of-management/
LOCATION:University of Bath\, University of Bath Claverton Down Bath BA2 7AY United Kingdom\, United Kingdom
CATEGORIES:Executive Education Calendar
ATTACH;FMTTYPE=image/jpeg:https://www.europeanbusinessreview.com/wp-content/uploads/2024/03/Event-Calendar-image-1-3.jpg
END:VEVENT
BEGIN:VEVENT
DTSTART;TZID=UTC:20240620T150000
DTEND;TZID=UTC:20240620T163000
DTSTAMP:20260421T225336
CREATED:20240205T031202Z
LAST-MODIFIED:20240205T031202Z
UID:10000146-1718895600-1718901000@www.europeanbusinessreview.com
SUMMARY:The Cranfield AI Masterclass Series – Supply Chain 5.0 and AI - Cranfield School of Management
DESCRIPTION:Artificial Intelligence (AI) is everywhere – literally and figuratively. Not only is it the hot topic of the moment across media stories\, service delivery products and the world of work\, but it’s also all around us in the tools we use on a daily basis\, including satnav\, voice assistants (such as Siri) and email predictive responses. \nAI is manifesting into our lives at an exponential rate and infiltrating every industry and sector\, with some such as healthcare already successfully utilising AI technology whilst others are only just beginning to grasp what it might mean for the future. \nJoin us for our AI Masterclass Series as we share Cranfield expertise\, harnessing the latest research and thinking on the implications of AI across key aspects of business and industry\, and the risks and opportunities it presents to leaders.
URL:https://www.europeanbusinessreview.com/event/the-cranfield-ai-masterclass-series-supply-chain-5-0-and-ai-cranfield-school-of-management/
LOCATION:Online Event
CATEGORIES:Executive Education Calendar
ATTACH;FMTTYPE=image/jpeg:https://www.europeanbusinessreview.com/wp-content/uploads/2024/02/Event-Calendar-image-2-WEBINAR-2.jpg
END:VEVENT
END:VCALENDAR