BEGIN:VCALENDAR
VERSION:2.0
PRODID:-//The European Business Review - ECPv6.13.0//NONSGML v1.0//EN
CALSCALE:GREGORIAN
METHOD:PUBLISH
X-WR-CALNAME:The European Business Review
X-ORIGINAL-URL:https://www.europeanbusinessreview.com
X-WR-CALDESC:Events for The European Business Review
REFRESH-INTERVAL;VALUE=DURATION:PT1H
X-Robots-Tag:noindex
X-PUBLISHED-TTL:PT1H
BEGIN:VTIMEZONE
TZID:UTC
BEGIN:STANDARD
TZOFFSETFROM:+0000
TZOFFSETTO:+0000
TZNAME:UTC
DTSTART:20240101T000000
END:STANDARD
END:VTIMEZONE
BEGIN:VEVENT
DTSTART;VALUE=DATE:20240528
DTEND;VALUE=DATE:20240601
DTSTAMP:20260421T225232
CREATED:20240115T105045Z
LAST-MODIFIED:20240115T105045Z
UID:10000102-1716854400-1717199999@www.europeanbusinessreview.com
SUMMARY:Leading People and Teams
DESCRIPTION:Date: May 28 – 31\, 2024 (second intake: November 2024) \nLocation: Berlin \nPrice: 5\,600 € \nFormat: in-person \nContact: bd@esmt.org / +49 30 21231 1490 \nURL: https://esmt.berlin/execed/open-programs/leadership/leading-people-and-teams \nLearn how to maximize your effectiveness as a leader   \n\nEmpower your team to achieve success \nBolster your leadership by creating an effective professional network \nBuild influence and gain buy-in from stakeholders to support your initiatives \nEngage and shape strategic conversations \n\nThe Leading People and Teams program functions as a leadership laboratory\, where you can experiment in a challenging but safe environment to uncover your blind spots as a leader and unlock your full potential\, while developing strategies that will help you build a strong and aligned team.   \nYour profile: \n\nYou are a manager with at least five years of experience leading a team \nYou want to improve your effectiveness at reaching organizational goals through people. \n\nBenefits: \n\nLearn from state-of-the-art research that explores the four complementary facets of successful leadership. \nDevelop your personal leadership vision and get feedback from peers.  \nIndividual profiling before the program will help you understand your own decision making style and the strengths of your leadership network\, providing a road map to develop it in the right directions.  \nBenefit from open and intense class interactions\, that leverage the varied experiences of you and your peers.  \nMorning reflections each day help you utilize newly acquired skills and knowledge.   \nSelf-assessment tools\, interactive mini-lectures\, case discussions\, business simulations\, and in-depth interactions with peers and faculty will help maximize your leadership effectiveness. \n\nAchieve lasting impact through a post-program self-development plan. 
URL:https://www.europeanbusinessreview.com/event/leading-people-and-teams-2/
LOCATION:ESMT\, ESMT Berlin\, Schlossplatz 1\, 10178\, Berlin\, Germany\, Berlin\, Berlin\, 10178\, Germany
CATEGORIES:Executive Education Calendar
ATTACH;FMTTYPE=image/png:https://www.europeanbusinessreview.com/wp-content/uploads/2024/01/Leading-People-and-Teams.png
END:VEVENT
END:VCALENDAR