BEGIN:VCALENDAR
VERSION:2.0
PRODID:-//The European Business Review - ECPv6.13.0//NONSGML v1.0//EN
CALSCALE:GREGORIAN
METHOD:PUBLISH
X-ORIGINAL-URL:https://www.europeanbusinessreview.com
X-WR-CALDESC:Events for The European Business Review
REFRESH-INTERVAL;VALUE=DURATION:PT1H
X-Robots-Tag:noindex
X-PUBLISHED-TTL:PT1H
BEGIN:VTIMEZONE
TZID:UTC
BEGIN:STANDARD
TZOFFSETFROM:+0000
TZOFFSETTO:+0000
TZNAME:UTC
DTSTART:20240101T000000
END:STANDARD
END:VTIMEZONE
BEGIN:VEVENT
DTSTART;VALUE=DATE:20240509
DTEND;VALUE=DATE:20240510
DTSTAMP:20260422T002517
CREATED:20240501T000213Z
LAST-MODIFIED:20240501T114843Z
UID:10000185-1715212800-1715299199@www.europeanbusinessreview.com
SUMMARY:Executive Education at Warwick Business School Open Event
DESCRIPTION:From becoming a strategy expert\, to understanding how humans make decisions\, the Warwick Executive Diplomas are designed to provide you with the latest knowledge\, tools and insights to gain and retain a competitive advantage.    \nIn the interactive session\, you’ll hear from Director of Executive Education\, Camilla Jonsson and Deputy Programme Manager\, Jo Titley on the benefits and support received on the programme.  \nYou’ll also have the opportunity to chat to alum Yuxi Pan\, Associate at Sustainable Ventures on how it is helped elevate her leadership skills. \nFor organisations who are interested in Learning & Development opportunities to develop staff and organisational capabilities\, we will share how the programme can be adapted to suit your Learning & Development strategy. Register for the event here: https://www.wbs.ac.uk/events/view/8490/ \nGo to top
URL:https://www.europeanbusinessreview.com/event/executive-education-at-warwick-business-school-open-event/
LOCATION:Online
CATEGORIES:Executive Education Calendar
ATTACH;FMTTYPE=image/jpeg:https://www.europeanbusinessreview.com/wp-content/uploads/2024/05/58083_Exec-Ed_Open-Event-LinkedIn-1200x62739-1.jpg
END:VEVENT
BEGIN:VEVENT
DTSTART;TZID=UTC:20240509T190000
DTEND;TZID=UTC:20240509T201500
DTSTAMP:20260422T002517
CREATED:20240205T024513Z
LAST-MODIFIED:20240205T024513Z
UID:10000136-1715281200-1715285700@www.europeanbusinessreview.com
SUMMARY:Executive MBA Open Day - IESE
DESCRIPTION:IESE Business School invites you to experience the case method and learn about our Executive MBA Madrid program in an Open Session. \nWe’ll explore a case study in a discussion led by Professor Edi Soler\, and hear from alumni of our Executive MBA. It will be a great opportunity to learn more about the program and live the IESE experience. \n19:00 – 19:20 Executive MBA Session \n19:20 – 20:30 Case: Holaluz. Prof. Edi Soler \n20:30 – 21:00 Alumni Panel \n21:00 – 21:30 Cocktail \nJoin us on May 9\, 2024! \nRegister here: https://apply.iese.edu/emba-mad-9may/?_gl=1*jgypco*_ga*MTAyOTg0NTc3OS4xNzA1MzgxMjY0*_ga_CT6B5L0DNL*MTcwNjc3Mzk1Ni4yLjEuMTcwNjc3Mzk4My4zMy4wLjA.
URL:https://www.europeanbusinessreview.com/event/executive-mba-open-day-iese/
LOCATION:IESE North Barcelona Campus\, LOCATION Barcelona North Campus Arnús i Gari 3-7\, 08034\, Barcelona\, ES\, Barcelona\, Spain
CATEGORIES:Executive Education Calendar
ATTACH;FMTTYPE=image/jpeg:https://www.europeanbusinessreview.com/wp-content/uploads/2024/02/Event-Calendar-image-1.jpg
END:VEVENT
END:VCALENDAR