BEGIN:VCALENDAR
VERSION:2.0
PRODID:-//The European Business Review - ECPv6.13.0//NONSGML v1.0//EN
CALSCALE:GREGORIAN
METHOD:PUBLISH
X-ORIGINAL-URL:https://www.europeanbusinessreview.com
X-WR-CALDESC:Events for The European Business Review
REFRESH-INTERVAL;VALUE=DURATION:PT1H
X-Robots-Tag:noindex
X-PUBLISHED-TTL:PT1H
BEGIN:VTIMEZONE
TZID:UTC
BEGIN:STANDARD
TZOFFSETFROM:+0000
TZOFFSETTO:+0000
TZNAME:UTC
DTSTART:20240101T000000
END:STANDARD
END:VTIMEZONE
BEGIN:VEVENT
DTSTART;VALUE=DATE:20240418
DTEND;VALUE=DATE:20240420
DTSTAMP:20260422T015432
CREATED:20240320T022703Z
LAST-MODIFIED:20240320T022703Z
UID:10000164-1713398400-1713571199@www.europeanbusinessreview.com
SUMMARY:Demand and supply of LTC services : new perspectives from economics\, sociology and political sciences - HEC Montreal
DESCRIPTION:The population of industrialized countries is aging\, leading to a prioritization of economic\, sociological\, and political issues related to support and long-term care programs for seniors. Quebec and Canada are not excluded from this demographic trend and several public reports demonstrate the need to examine the coverage\, generosity\, and costs of these programs to better plan for the years to come. \nThis event is organized by Marie-Louise Leroux (UQAM\, CIRANO) and Patrik Marier (Concordia University)\, in collaboration with CREEI\, CREGÉS\, FRQSC\, the RSI\, ESG UQAM\, Concordia University and CIRANO. \nIt will bring together numerous world-renowned researchers in political science\, economics\, and sociology\, aiming to take stock of the major questions linked to the issues around loss of autonomy\, stimulate discussion on these societal issues\, and provide possible answers. \nSome of the questions that will be addressed are: \n\nWhat solutions should public authorities put in place to provide adequate support and care for seniors and their caregivers?\nWill seniors have the financial resources to meet increased needs\, such as adapting their housing\, using nursing services and help with daily living tasks?\nWhat are the preferences of seniors regarding the mode of care in the event of loss of autonomy; do they prefer to stay at home or go to a residential and long-term care centre (chslds)? What are the issues linked to different modes of care?\nWhat are the financial and psychological consequences for the relatives (caregivers) of seniors losing their autonomy?
URL:https://www.europeanbusinessreview.com/event/demand-and-supply-of-ltc-services-new-perspectives-from-economics-sociology-and-political-sciences-hec-montreal/
LOCATION:CIRANO (Center for Interuniversity Research and Analysis of Organizations) – Suite 1400\, 1130 Rue Sherbrooke O #1400\, Montréal\, QC H3A 2M8\, Canada\, Montréal\, Canada
CATEGORIES:Executive Education Calendar
ATTACH;FMTTYPE=image/jpeg:https://www.europeanbusinessreview.com/wp-content/uploads/2024/03/Event-Calendar-image-1-3.jpg
END:VEVENT
END:VCALENDAR