BEGIN:VCALENDAR
VERSION:2.0
PRODID:-//The European Business Review - ECPv6.13.0//NONSGML v1.0//EN
CALSCALE:GREGORIAN
METHOD:PUBLISH
X-ORIGINAL-URL:https://www.europeanbusinessreview.com
X-WR-CALDESC:Events for The European Business Review
REFRESH-INTERVAL;VALUE=DURATION:PT1H
X-Robots-Tag:noindex
X-PUBLISHED-TTL:PT1H
BEGIN:VTIMEZONE
TZID:UTC
BEGIN:STANDARD
TZOFFSETFROM:+0000
TZOFFSETTO:+0000
TZNAME:UTC
DTSTART:20240101T000000
END:STANDARD
END:VTIMEZONE
BEGIN:VEVENT
DTSTART;TZID=UTC:20240416T120000
DTEND;TZID=UTC:20240416T170000
DTSTAMP:20260422T015431
CREATED:20240202T084818Z
LAST-MODIFIED:20240202T084818Z
UID:10000128-1713268800-1713286800@www.europeanbusinessreview.com
SUMMARY:Five essential practices for continuous transformation - IMD
DESCRIPTION:Change never stops. We grow\, we learn\, we adapt\, we even transform ourselves through our leadership and our lives. But how do we do this intentionally and continuously? In this masterclass we will explore five practices\, which can be applied to all our experiences and roles\, to help you to continuously change and transform. \nJoin Professor Ben Bryant\, as he guides you through these five key practices for personal and leadership evolution. Professor Bryant is Professor of Leadership and Organization and Program Director of the Transformational Leader program \nHere’s a snapshot of the insights this masterclass will unpack: \n\nFive practices unveiled: Gain insight into the five essential practices that underpin continuous transformation\, and how they can be integrated into your daily life and leadership.\nLearning from your experience: Understand how every experience and role offers a foundation for learning\, growth\, and adaptation\, enriching your journey of change.\nEmpowering personal agency: Explore the choices and agency you possess in shaping your own transformation\, highlighting the importance of proactive and conscious decision-making.\n\nAfter the masterclass\, join us for: \n\nAn informative discussion on IMD’s leadership programs with our Program Advisors.\nGuidance on how our offerings can align with your career goals.\nAnswers to your questions about our programs and approach to learning.\n\nAgenda: \n\n12:00 – 12:45: Masterclass – Five essential practices for continuous transformation with Professor Ben Bryant.\n12:45 – 13:15: Engage with our Program Advisors for an overview of IMD’s leadership programs\, followed by a Q&A.\n\nPlease note\, this event will not be recorded. This is a unique opportunity to experience the IMD learning journey live.  \n\n\n\n\n\nRegister here: https://www.imd.org/event/leadership/2024-04-16/masterclass-information-session/
URL:https://www.europeanbusinessreview.com/event/five-essential-practices-for-continuous-transformation-imd/
LOCATION:Online Event
CATEGORIES:Executive Education Calendar
ATTACH;FMTTYPE=image/jpeg:https://www.europeanbusinessreview.com/wp-content/uploads/2024/02/Event-Calendar-image-2-WEBINAR-2.jpg
END:VEVENT
END:VCALENDAR