BEGIN:VCALENDAR
VERSION:2.0
PRODID:-//The European Business Review - ECPv6.13.0//NONSGML v1.0//EN
CALSCALE:GREGORIAN
METHOD:PUBLISH
X-WR-CALNAME:The European Business Review
X-ORIGINAL-URL:https://www.europeanbusinessreview.com
X-WR-CALDESC:Events for The European Business Review
REFRESH-INTERVAL;VALUE=DURATION:PT1H
X-Robots-Tag:noindex
X-PUBLISHED-TTL:PT1H
BEGIN:VTIMEZONE
TZID:Europe/Helsinki
BEGIN:DAYLIGHT
TZOFFSETFROM:+0200
TZOFFSETTO:+0300
TZNAME:EEST
DTSTART:20230326T010000
END:DAYLIGHT
BEGIN:STANDARD
TZOFFSETFROM:+0300
TZOFFSETTO:+0200
TZNAME:EET
DTSTART:20231029T010000
END:STANDARD
END:VTIMEZONE
BEGIN:VEVENT
DTSTART;TZID=Europe/Helsinki:20231116T130000
DTEND;TZID=Europe/Helsinki:20231116T133000
DTSTAMP:20260422T095221
CREATED:20231020T081849Z
LAST-MODIFIED:20231020T114442Z
UID:10000069-1700139600-1700141400@www.europeanbusinessreview.com
SUMMARY:ESMT Berlin - ESMT MBA Bites: Global Online MBA (November Edition)
DESCRIPTION:Meet ESMT’s world-class faculty members and learn more about the ESMT Global Online MBA\, a highly flexible program that leads to a globally-recognized\, triple-accredited ESMT Berlin MBA. \nJoin a short lecture by Urs Mueller\, who is an experienced (executive education) educator and author in the areas of business ethics\, strategy and change management. \nRegistration link: https://apply.esmt.berlin/e/651285cf3b5d00256300048b \n—- \nAdmission team contact details (MBA and Master programs): \nadmissions@esmt.org \n+49 30 21231 1400
URL:https://www.europeanbusinessreview.com/event/esmt-berlin-esmt-mba-bites-global-online-mba-november-edition/
LOCATION:Online Event
CATEGORIES:Executive Education Calendar
ATTACH;FMTTYPE=image/jpeg:https://www.europeanbusinessreview.com/wp-content/uploads/2023/10/ESMT-GOMBA-Webinar-800x600-1.jpg
END:VEVENT
END:VCALENDAR