BEGIN:VCALENDAR
VERSION:2.0
PRODID:-//The European Business Review - ECPv6.13.0//NONSGML v1.0//EN
CALSCALE:GREGORIAN
METHOD:PUBLISH
X-WR-CALNAME:The European Business Review
X-ORIGINAL-URL:https://www.europeanbusinessreview.com
X-WR-CALDESC:Events for The European Business Review
REFRESH-INTERVAL;VALUE=DURATION:PT1H
X-Robots-Tag:noindex
X-PUBLISHED-TTL:PT1H
BEGIN:VTIMEZONE
TZID:UTC
BEGIN:STANDARD
TZOFFSETFROM:+0000
TZOFFSETTO:+0000
TZNAME:UTC
DTSTART:20230101T000000
END:STANDARD
END:VTIMEZONE
BEGIN:VEVENT
DTSTART;TZID=UTC:20231012T180000
DTEND;TZID=UTC:20231012T210000
DTSTAMP:20260422T220728
CREATED:20230907T121319Z
LAST-MODIFIED:20230907T121319Z
UID:10000051-1697133600-1697144400@www.europeanbusinessreview.com
SUMMARY:Warwick Business School - Open Evening at The Shard for Doctor of Business Administration
DESCRIPTION:
URL:https://www.europeanbusinessreview.com/event/warwick-business-school-open-evening-at-the-shard-for-doctor-of-business-administration/
LOCATION:Warwick Business School\, Reception area\, 17th Floor\, The Shard London SE1 9SG UK\, London\, SE1 9SG\, United Kingdom
CATEGORIES:Executive Education Calendar
ATTACH;FMTTYPE=image/png:https://www.europeanbusinessreview.com/wp-content/uploads/2023/08/Executive-Education-Calendar.png
ORGANIZER;CN="Warwick Business School":MAILTO:georgina.lewis@wbs.ac.uk
END:VEVENT
END:VCALENDAR